From: dpdklab@iol.unh.edu
To: Test Report <test-report@dpdk.org>
Cc: dpdk-test-reports@iol.unh.edu
Subject: [dpdk-test-report] |SUCCESS| pw91123 [PATCH] [v1] net/enic: fix completion pointer calculation
Date: Tue, 13 Apr 2021 09:28:47 -0400 (EDT) [thread overview]
Message-ID: <20210413132847.DDB0D88E61@noxus.dpdklab.iol.unh.edu> (raw)
[-- Attachment #1: Type: text/plain, Size: 2842 bytes --]
Test-Label: iol-testing
Test-Status: SUCCESS
http://dpdk.org/patch/91123
_Testing PASS_
Submitter: John Daley <johndale@cisco.com>
Date: Monday, April 12 2021 20:50:21
DPDK git baseline: Repo:dpdk
Branch: master
CommitID:b40d7062ff2e065fb617494589ee810766e12a19
91123 --> testing pass
Test environment and result as below:
+---------------------+--------------------+----------------------+----------------+-------------------+
| Environment | dpdk_meson_compile | dpdk_mingw64_compile | dpdk_unit_test | dpdk_compile_spdk |
+=====================+====================+======================+================+===================+
| Ubuntu 18.04 | PASS | SKIPPED | PASS | PASS |
+---------------------+--------------------+----------------------+----------------+-------------------+
| Fedora 32 | PASS | SKIPPED | SKIPPED | SKIPPED |
+---------------------+--------------------+----------------------+----------------+-------------------+
| Fedora 31 | PASS | SKIPPED | SKIPPED | PASS |
+---------------------+--------------------+----------------------+----------------+-------------------+
| Windows Server 2019 | PASS | PASS | SKIPPED | SKIPPED |
+---------------------+--------------------+----------------------+----------------+-------------------+
| openSUSE Leap 15 | PASS | SKIPPED | SKIPPED | SKIPPED |
+---------------------+--------------------+----------------------+----------------+-------------------+
| FreeBSD 11.2 | PASS | SKIPPED | SKIPPED | SKIPPED |
+---------------------+--------------------+----------------------+----------------+-------------------+
| Ubuntu 18.04 ARM | PASS | SKIPPED | PASS | SKIPPED |
+---------------------+--------------------+----------------------+----------------+-------------------+
Ubuntu 18.04
Kernel: 4.18.0-240.10.1.el8_3.x86_64
Compiler: gcc 7.5.0-3ubuntu1~18.04
Fedora 32
Kernel: 4.18.0-240.10.1.el8_3.x86_64
Compiler: gcc 10.2.1
Fedora 31
Kernel: 4.18.0-240.10.1.el8_3.x86_64
Compiler: gcc 9.3.1
Windows Server 2019
Kernel: 10.0
Compiler: clang 9.0 and gcc 8.1.0 (MinGW)
openSUSE Leap 15
Kernel: 4.18.0-240.10.1.el8_3.x86_64
Compiler: gcc 7.5.0
FreeBSD 11.2
Kernel: 11.2
Compiler: gcc 8.3
Ubuntu 18.04 ARM
Kernel: 5.4.0-53-generic
Compiler: gcc 9.3
To view detailed results, visit:
https://lab.dpdk.org/results/dashboard/patchsets/16459/
UNH-IOL DPDK Community Lab
To manage your email subscriptions, visit:
https://lab.dpdk.org/results/dashboard/preferences/subscriptions/
next reply other threads:[~2021-04-13 13:28 UTC|newest]
Thread overview: 4+ messages / expand[flat|nested] mbox.gz Atom feed top
2021-04-13 13:28 dpdklab [this message]
-- strict thread matches above, loose matches on Subject: below --
2021-04-16 6:22 dpdklab
2021-04-13 13:28 dpdklab
[not found] <20210412205021.22378-1-johndale@cisco.com>
2021-04-12 20:51 ` [dpdk-test-report] |SUCCESS| pw91123 [PATCH v1] " checkpatch
Reply instructions:
You may reply publicly to this message via plain-text email
using any one of the following methods:
* Save the following mbox file, import it into your mail client,
and reply-to-all from there: mbox
Avoid top-posting and favor interleaved quoting:
https://en.wikipedia.org/wiki/Posting_style#Interleaved_style
* Reply using the --to, --cc, and --in-reply-to
switches of git-send-email(1):
git send-email \
--in-reply-to=20210413132847.DDB0D88E61@noxus.dpdklab.iol.unh.edu \
--to=dpdklab@iol.unh.edu \
--cc=dpdk-test-reports@iol.unh.edu \
--cc=test-report@dpdk.org \
/path/to/YOUR_REPLY
https://kernel.org/pub/software/scm/git/docs/git-send-email.html
* If your mail client supports setting the In-Reply-To header
via mailto: links, try the mailto: link
Be sure your reply has a Subject: header at the top and a blank line
before the message body.
This is a public inbox, see mirroring instructions
for how to clone and mirror all data and code used for this inbox;
as well as URLs for NNTP newsgroup(s).