* [dpdk-test-report] |SUCCESS| pw91639 [PATCH v7] ethdev: add sanity checks in control APIs
[not found] <1618570839-3761-1-git-send-email-humin29@huawei.com>
@ 2021-04-16 11:01 ` checkpatch
2021-04-16 12:55 ` [dpdk-test-report] |SUCCESS| pw91639 " 0-day Robot
2021-04-16 12:57 ` [dpdk-test-report] |SUCCESS| pw91639 [dpdk-dev] [PATCH v7] " 0-day Robot
2 siblings, 0 replies; 7+ messages in thread
From: checkpatch @ 2021-04-16 11:01 UTC (permalink / raw)
To: test-report
Test-Label: checkpatch
Test-Status: SUCCESS
http://dpdk.org/patch/91639
_coding style OK_
^ permalink raw reply [flat|nested] 7+ messages in thread
* [dpdk-test-report] |SUCCESS| pw91639 ethdev: add sanity checks in control APIs
[not found] <1618570839-3761-1-git-send-email-humin29@huawei.com>
2021-04-16 11:01 ` [dpdk-test-report] |SUCCESS| pw91639 [PATCH v7] ethdev: add sanity checks in control APIs checkpatch
@ 2021-04-16 12:55 ` 0-day Robot
2021-04-16 12:57 ` [dpdk-test-report] |SUCCESS| pw91639 [dpdk-dev] [PATCH v7] " 0-day Robot
2 siblings, 0 replies; 7+ messages in thread
From: 0-day Robot @ 2021-04-16 12:55 UTC (permalink / raw)
To: test-report; +Cc: robot
From: robot@bytheb.org
Test-Label: travis-robot
Test-Status: SUCCESS
http://patchwork.dpdk.org/patch/91639/
_travis build: passed_
Build URL: https://travis-ci.com/ovsrobot/dpdk/builds/223290456
^ permalink raw reply [flat|nested] 7+ messages in thread
* [dpdk-test-report] |SUCCESS| pw91639 [dpdk-dev] [PATCH v7] ethdev: add sanity checks in control APIs
[not found] <1618570839-3761-1-git-send-email-humin29@huawei.com>
2021-04-16 11:01 ` [dpdk-test-report] |SUCCESS| pw91639 [PATCH v7] ethdev: add sanity checks in control APIs checkpatch
2021-04-16 12:55 ` [dpdk-test-report] |SUCCESS| pw91639 " 0-day Robot
@ 2021-04-16 12:57 ` 0-day Robot
2 siblings, 0 replies; 7+ messages in thread
From: 0-day Robot @ 2021-04-16 12:57 UTC (permalink / raw)
To: test-report; +Cc: robot
From: robot@bytheb.org
Test-Label: github-robot
Test-Status: SUCCESS
http://patchwork.dpdk.org/patch/91639/
_github build: passed_
Build URL: https://github.com/ovsrobot/dpdk/actions/runs/755515574
^ permalink raw reply [flat|nested] 7+ messages in thread
* [dpdk-test-report] |SUCCESS| pw91639 [PATCH] [v7] ethdev: add sanity checks in control APIs
@ 2021-04-18 4:03 dpdklab
0 siblings, 0 replies; 7+ messages in thread
From: dpdklab @ 2021-04-18 4:03 UTC (permalink / raw)
To: Test Report; +Cc: dpdk-test-reports
[-- Attachment #1: Type: text/plain, Size: 1266 bytes --]
Test-Label: iol-intel-Performance
Test-Status: SUCCESS
http://dpdk.org/patch/91639
_Performance Testing PASS_
Submitter: Min Hu (Connor) <humin29@huawei.com>
Date: Friday, April 16 2021 11:00:39
DPDK git baseline: Repo:dpdk-next-net
Branch: master
CommitID:8b1e6d9eb25cbd86a0ad9b990eaf598dc9f5a15a
91639 --> performance testing pass
Test environment and result as below:
Ubuntu 18.04
Kernel: 4.15.0-generic
Compiler: gcc 7.4
NIC: Intel Corporation Ethernet Converged Network Adapter XL710-QDA2 40000 Mbps
Target: x86_64-native-linuxapp-gcc
Fail/Total: 0/2
Detail performance results:
+------------+---------+-------------------------------------+
| frame_size | txd/rxd | throughput difference from expected |
+============+=========+=====================================+
| 64 | 512 | 5.71389% |
+------------+---------+-------------------------------------+
| 64 | 2048 | 4.28254% |
+------------+---------+-------------------------------------+
To view detailed results, visit:
https://lab.dpdk.org/results/dashboard/patchsets/16586/
UNH-IOL DPDK Community Lab
To manage your email subscriptions, visit:
https://lab.dpdk.org/results/dashboard/preferences/subscriptions/
^ permalink raw reply [flat|nested] 7+ messages in thread
* [dpdk-test-report] |SUCCESS| pw91639 [PATCH] [v7] ethdev: add sanity checks in control APIs
@ 2021-04-18 3:27 dpdklab
0 siblings, 0 replies; 7+ messages in thread
From: dpdklab @ 2021-04-18 3:27 UTC (permalink / raw)
To: Test Report; +Cc: dpdk-test-reports
[-- Attachment #1: Type: text/plain, Size: 1266 bytes --]
Test-Label: iol-intel-Performance
Test-Status: SUCCESS
http://dpdk.org/patch/91639
_Performance Testing PASS_
Submitter: Min Hu (Connor) <humin29@huawei.com>
Date: Friday, April 16 2021 11:00:39
DPDK git baseline: Repo:dpdk-next-net
Branch: master
CommitID:8b1e6d9eb25cbd86a0ad9b990eaf598dc9f5a15a
91639 --> performance testing pass
Test environment and result as below:
Ubuntu 18.04
Kernel: 4.15.0-generic
Compiler: gcc 7.4
NIC: Intel Corporation Ethernet Converged Network Adapter XL710-QDA2 40000 Mbps
Target: x86_64-native-linuxapp-gcc
Fail/Total: 0/2
Detail performance results:
+------------+---------+-------------------------------------+
| frame_size | txd/rxd | throughput difference from expected |
+============+=========+=====================================+
| 64 | 512 | 4.97893% |
+------------+---------+-------------------------------------+
| 64 | 2048 | 3.77871% |
+------------+---------+-------------------------------------+
To view detailed results, visit:
https://lab.dpdk.org/results/dashboard/patchsets/16586/
UNH-IOL DPDK Community Lab
To manage your email subscriptions, visit:
https://lab.dpdk.org/results/dashboard/preferences/subscriptions/
^ permalink raw reply [flat|nested] 7+ messages in thread
* [dpdk-test-report] |SUCCESS| pw91639 [PATCH] [v7] ethdev: add sanity checks in control APIs
@ 2021-04-16 13:06 dpdklab
0 siblings, 0 replies; 7+ messages in thread
From: dpdklab @ 2021-04-16 13:06 UTC (permalink / raw)
To: Test Report; +Cc: dpdk-test-reports
[-- Attachment #1: Type: text/plain, Size: 956 bytes --]
Test-Label: iol-abi-testing
Test-Status: SUCCESS
http://dpdk.org/patch/91639
_Testing PASS_
Submitter: Min Hu (Connor) <humin29@huawei.com>
Date: Friday, April 16 2021 11:00:39
DPDK git baseline: Repo:dpdk-next-net
Branch: master
CommitID:8b1e6d9eb25cbd86a0ad9b990eaf598dc9f5a15a
91639 --> testing pass
Test environment and result as below:
+------------------+----------+
| Environment | abi_test |
+==================+==========+
| Ubuntu 18.04 | PASS |
+------------------+----------+
| Ubuntu 18.04 ARM | PASS |
+------------------+----------+
Ubuntu 18.04
Kernel: 4.18.0-240.10.1.el8_3.x86_64
Compiler: gcc 7.5.0-3ubuntu1~18.04
Ubuntu 18.04 ARM
Kernel: 5.4.0-53-generic
Compiler: gcc 9.3
To view detailed results, visit:
https://lab.dpdk.org/results/dashboard/patchsets/16586/
UNH-IOL DPDK Community Lab
To manage your email subscriptions, visit:
https://lab.dpdk.org/results/dashboard/preferences/subscriptions/
^ permalink raw reply [flat|nested] 7+ messages in thread
* [dpdk-test-report] |SUCCESS| pw91639 [PATCH] [v7] ethdev: add sanity checks in control APIs
@ 2021-04-16 12:25 dpdklab
0 siblings, 0 replies; 7+ messages in thread
From: dpdklab @ 2021-04-16 12:25 UTC (permalink / raw)
To: Test Report; +Cc: dpdk-test-reports
[-- Attachment #1: Type: text/plain, Size: 956 bytes --]
Test-Label: iol-abi-testing
Test-Status: SUCCESS
http://dpdk.org/patch/91639
_Testing PASS_
Submitter: Min Hu (Connor) <humin29@huawei.com>
Date: Friday, April 16 2021 11:00:39
DPDK git baseline: Repo:dpdk-next-net
Branch: master
CommitID:8b1e6d9eb25cbd86a0ad9b990eaf598dc9f5a15a
91639 --> testing pass
Test environment and result as below:
+------------------+----------+
| Environment | abi_test |
+==================+==========+
| Ubuntu 18.04 | PASS |
+------------------+----------+
| Ubuntu 18.04 ARM | PASS |
+------------------+----------+
Ubuntu 18.04
Kernel: 4.18.0-240.10.1.el8_3.x86_64
Compiler: gcc 7.5.0-3ubuntu1~18.04
Ubuntu 18.04 ARM
Kernel: 5.4.0-53-generic
Compiler: gcc 9.3
To view detailed results, visit:
https://lab.dpdk.org/results/dashboard/patchsets/16586/
UNH-IOL DPDK Community Lab
To manage your email subscriptions, visit:
https://lab.dpdk.org/results/dashboard/preferences/subscriptions/
^ permalink raw reply [flat|nested] 7+ messages in thread
end of thread, other threads:[~2021-04-18 4:04 UTC | newest]
Thread overview: 7+ messages (download: mbox.gz / follow: Atom feed)
-- links below jump to the message on this page --
[not found] <1618570839-3761-1-git-send-email-humin29@huawei.com>
2021-04-16 11:01 ` [dpdk-test-report] |SUCCESS| pw91639 [PATCH v7] ethdev: add sanity checks in control APIs checkpatch
2021-04-16 12:55 ` [dpdk-test-report] |SUCCESS| pw91639 " 0-day Robot
2021-04-16 12:57 ` [dpdk-test-report] |SUCCESS| pw91639 [dpdk-dev] [PATCH v7] " 0-day Robot
2021-04-18 4:03 [dpdk-test-report] |SUCCESS| pw91639 [PATCH] [v7] " dpdklab
-- strict thread matches above, loose matches on Subject: below --
2021-04-18 3:27 dpdklab
2021-04-16 13:06 dpdklab
2021-04-16 12:25 dpdklab
This is a public inbox, see mirroring instructions
for how to clone and mirror all data and code used for this inbox;
as well as URLs for NNTP newsgroup(s).