* [dpdk-test-report] |SUCCESS| pw92778-92780 [PATCH] [v3, 2/2] eal: fix service core index validity
@ 2021-05-06 0:14 dpdklab
0 siblings, 0 replies; 6+ messages in thread
From: dpdklab @ 2021-05-06 0:14 UTC (permalink / raw)
To: Test Report; +Cc: dpdk-test-reports
[-- Attachment #1: Type: text/plain, Size: 978 bytes --]
Test-Label: iol-intel-Functional
Test-Status: SUCCESS
http://dpdk.org/patch/92780
_Functional Testing PASS_
Submitter: Chengwen Feng <fengchengwen@huawei.com>
Date: Wednesday, May 05 2021 04:10:07
DPDK git baseline: Repo:dpdk
Branch: master
CommitID:caec80f92adf21f86d18b77d4cdc951b41088c6e
92778-92780 --> functional testing pass
Test environment and result as below:
Ubuntu 18.04
Kernel: 4.15.0-generic
Compiler: gcc 7.4
NIC: Intel Corporation Ethernet Converged Network Adapter XL710-QDA2 40000 Mbps
Target: x86_64-native-linuxapp-gcc
Fail/Total: 0/3
Ubuntu 18.04
Kernel: 4.15.0-generic
Compiler: gcc 7.4
NIC: Intel Corporation Ethernet Converged Network Adapter 82599ES 10000 Mbps
Target: x86_64-native-linuxapp-gcc
Fail/Total: 0/5
To view detailed results, visit:
https://lab.dpdk.org/results/dashboard/patchsets/16931/
UNH-IOL DPDK Community Lab
To manage your email subscriptions, visit:
https://lab.dpdk.org/results/dashboard/preferences/subscriptions/
^ permalink raw reply [flat|nested] 6+ messages in thread
* [dpdk-test-report] |SUCCESS| pw92778-92780 [PATCH] [v3, 2/2] eal: fix service core index validity
@ 2021-05-06 0:21 dpdklab
0 siblings, 0 replies; 6+ messages in thread
From: dpdklab @ 2021-05-06 0:21 UTC (permalink / raw)
To: Test Report; +Cc: dpdk-test-reports
[-- Attachment #1: Type: text/plain, Size: 1264 bytes --]
Test-Label: iol-intel-Performance
Test-Status: SUCCESS
http://dpdk.org/patch/92780
_Performance Testing PASS_
Submitter: Chengwen Feng <fengchengwen@huawei.com>
Date: Wednesday, May 05 2021 04:10:07
DPDK git baseline: Repo:dpdk
Branch: master
CommitID:caec80f92adf21f86d18b77d4cdc951b41088c6e
92778-92780 --> performance testing pass
Test environment and result as below:
Ubuntu 18.04
Kernel: 4.15.0-generic
Compiler: gcc 7.4
NIC: Intel Corporation Ethernet Converged Network Adapter 82599ES 10000 Mbps
Target: x86_64-native-linuxapp-gcc
Fail/Total: 0/2
Detail performance results:
+------------+---------+-------------------------------------+
| frame_size | txd/rxd | throughput difference from expected |
+============+=========+=====================================+
| 64 | 512 | -0.59591% |
+------------+---------+-------------------------------------+
| 64 | 2048 | 0.70798% |
+------------+---------+-------------------------------------+
To view detailed results, visit:
https://lab.dpdk.org/results/dashboard/patchsets/16931/
UNH-IOL DPDK Community Lab
To manage your email subscriptions, visit:
https://lab.dpdk.org/results/dashboard/preferences/subscriptions/
^ permalink raw reply [flat|nested] 6+ messages in thread
* [dpdk-test-report] |SUCCESS| pw92778-92780 [PATCH] [v3, 2/2] eal: fix service core index validity
@ 2021-05-05 20:04 dpdklab
0 siblings, 0 replies; 6+ messages in thread
From: dpdklab @ 2021-05-05 20:04 UTC (permalink / raw)
To: Test Report; +Cc: dpdk-test-reports
[-- Attachment #1: Type: text/plain, Size: 794 bytes --]
Test-Label: iol-intel-Functional
Test-Status: SUCCESS
http://dpdk.org/patch/92780
_Functional Testing PASS_
Submitter: Chengwen Feng <fengchengwen@huawei.com>
Date: Wednesday, May 05 2021 04:10:07
DPDK git baseline: Repo:dpdk
Branch: master
CommitID:caec80f92adf21f86d18b77d4cdc951b41088c6e
92778-92780 --> functional testing pass
Test environment and result as below:
Ubuntu 18.04
Kernel: 4.15.0-generic
Compiler: gcc 7.4
NIC: Intel Corporation Ethernet Converged Network Adapter XL710-QDA2 40000 Mbps
Target: x86_64-native-linuxapp-gcc
Fail/Total: 0/3
To view detailed results, visit:
https://lab.dpdk.org/results/dashboard/patchsets/16931/
UNH-IOL DPDK Community Lab
To manage your email subscriptions, visit:
https://lab.dpdk.org/results/dashboard/preferences/subscriptions/
^ permalink raw reply [flat|nested] 6+ messages in thread
* [dpdk-test-report] |SUCCESS| pw92778-92780 [PATCH] [v3, 2/2] eal: fix service core index validity
@ 2021-05-05 5:23 dpdklab
0 siblings, 0 replies; 6+ messages in thread
From: dpdklab @ 2021-05-05 5:23 UTC (permalink / raw)
To: Ali Alnubani, Test Report; +Cc: dpdk-test-reports
[-- Attachment #1: Type: text/plain, Size: 3971 bytes --]
Test-Label: iol-mellanox-Performance
Test-Status: SUCCESS
http://dpdk.org/patch/92780
_Performance Testing PASS_
Submitter: Chengwen Feng <fengchengwen@huawei.com>
Date: Wednesday, May 05 2021 04:10:07
DPDK git baseline: Repo:dpdk
Branch: master
CommitID:caec80f92adf21f86d18b77d4cdc951b41088c6e
92778-92780 --> performance testing pass
Test environment and result as below:
Ubuntu 18.04
Kernel: 4.15.0-generic
Compiler: gcc 7.4
NIC: Mellanox ConnectX-4 Lx 25000 Mbps
Target: x86_64-native-linuxapp-gcc
Fail/Total: 0/6
Detail performance results:
+------------+---------+-------------------------------------+
| frame_size | txd/rxd | throughput difference from expected |
+============+=========+=====================================+
| 64 | 256 | 0.63144% |
+------------+---------+-------------------------------------+
| 128 | 256 | 0.0448% |
+------------+---------+-------------------------------------+
| 256 | 256 | -0.92942% |
+------------+---------+-------------------------------------+
| 512 | 256 | 0.4533% |
+------------+---------+-------------------------------------+
| 1024 | 256 | -0.25054% |
+------------+---------+-------------------------------------+
| 1518 | 256 | -0.2214% |
+------------+---------+-------------------------------------+
Ubuntu 18.04
Kernel: 4.15.0-generic
Compiler: gcc 7.4
NIC: Mellanox ConnectX-5 100000 Mbps
Target: x86_64-native-linuxapp-gcc
Fail/Total: 0/6
Detail performance results:
+------------+---------+-------------------------------------+
| frame_size | txd/rxd | throughput difference from expected |
+============+=========+=====================================+
| 64 | 256 | -0.26899% |
+------------+---------+-------------------------------------+
| 128 | 256 | -0.05167% |
+------------+---------+-------------------------------------+
| 256 | 256 | -0.42047% |
+------------+---------+-------------------------------------+
| 512 | 256 | 0.5057% |
+------------+---------+-------------------------------------+
| 1024 | 256 | -0.72111% |
+------------+---------+-------------------------------------+
| 1518 | 256 | 0.16432% |
+------------+---------+-------------------------------------+
Ubuntu 18.04
Kernel: 4.15.0-generic
Compiler: gcc 7.4
NIC: Mellanox ConnectX-4 Lx 40000 Mbps
Target: x86_64-native-linuxapp-gcc
Fail/Total: 0/6
Detail performance results:
+------------+---------+-------------------------------------+
| frame_size | txd/rxd | throughput difference from expected |
+============+=========+=====================================+
| 64 | 256 | 0.17762% |
+------------+---------+-------------------------------------+
| 128 | 256 | -2.11006% |
+------------+---------+-------------------------------------+
| 256 | 256 | -0.1533% |
+------------+---------+-------------------------------------+
| 512 | 256 | -0.03198% |
+------------+---------+-------------------------------------+
| 1024 | 256 | -0.02092% |
+------------+---------+-------------------------------------+
| 1518 | 256 | -0.0154% |
+------------+---------+-------------------------------------+
To view detailed results, visit:
https://lab.dpdk.org/results/dashboard/patchsets/16931/
UNH-IOL DPDK Community Lab
To manage your email subscriptions, visit:
https://lab.dpdk.org/results/dashboard/preferences/subscriptions/
^ permalink raw reply [flat|nested] 6+ messages in thread
* [dpdk-test-report] |SUCCESS| pw92778-92780 [PATCH] [v3, 2/2] eal: fix service core index validity
@ 2021-05-05 5:06 dpdklab
0 siblings, 0 replies; 6+ messages in thread
From: dpdklab @ 2021-05-05 5:06 UTC (permalink / raw)
To: Test Report; +Cc: dpdk-test-reports
[-- Attachment #1: Type: text/plain, Size: 2281 bytes --]
Test-Label: iol-abi-testing
Test-Status: SUCCESS
http://dpdk.org/patch/92780
_Testing PASS_
Submitter: Chengwen Feng <fengchengwen@huawei.com>
Date: Wednesday, May 05 2021 04:10:07
DPDK git baseline: Repo:dpdk
Branch: master
CommitID:caec80f92adf21f86d18b77d4cdc951b41088c6e
92778-92780 --> testing pass
Test environment and result as below:
+------------------+----------+
| Environment | abi_test |
+==================+==========+
| Ubuntu 18.04 ARM | PASS |
+------------------+----------+
| RHEL 7 | PASS |
+------------------+----------+
| CentOS 8 | PASS |
+------------------+----------+
| Ubuntu 20.04 | PASS |
+------------------+----------+
| RHEL8 | PASS |
+------------------+----------+
| Arch Linux | PASS |
+------------------+----------+
| Fedora 31 | PASS |
+------------------+----------+
| Ubuntu 18.04 | PASS |
+------------------+----------+
| Fedora 32 | PASS |
+------------------+----------+
| CentOS Stream 8 | PASS |
+------------------+----------+
| openSUSE Leap 15 | PASS |
+------------------+----------+
Ubuntu 18.04 ARM
Kernel: 5.4.0-53-generic
Compiler: gcc 9.3
RHEL 7
Kernel: 4.18.0-240.10.1.el8_3.x86_64
Compiler: gcc 4.8.5 20150623 (Red Hat 4.8.5-44)
CentOS 8
Kernel: 4.18.0-240.10.1.el8_3.x86_64
Compiler: gcc 8.3.1 20191121 (Red Hat 8.3.1-5)
Ubuntu 20.04
Kernel: 4.18.0-240.10.1.el8_3.x86_64
Compiler: gcc 9.3.0-17ubuntu1~20.04
RHEL8
Kernel: 4.18.0-240.10.1.el8_3.x86_64
Compiler: gcc 8.3.1 20191121 (Red Hat 8.3.1-5)
Arch Linux
Kernel: 4.18.0-240.10.1.el8_3.x86_64
Compiler: gcc 10.2.0
Fedora 31
Kernel: 4.18.0-240.10.1.el8_3.x86_64
Compiler: gcc 9.3.1
Ubuntu 18.04
Kernel: 4.18.0-240.10.1.el8_3.x86_64
Compiler: gcc 7.5.0-3ubuntu1~18.04
Fedora 32
Kernel: 4.18.0-240.10.1.el8_3.x86_64
Compiler: gcc 10.2.1
CentOS Stream 8
Kernel: 4.18.0-240.10.1.el8_3.x86_64
Compiler: gcc 8.4.1 20200928
openSUSE Leap 15
Kernel: 4.18.0-240.10.1.el8_3.x86_64
Compiler: gcc 7.5.0
To view detailed results, visit:
https://lab.dpdk.org/results/dashboard/patchsets/16931/
UNH-IOL DPDK Community Lab
To manage your email subscriptions, visit:
https://lab.dpdk.org/results/dashboard/preferences/subscriptions/
^ permalink raw reply [flat|nested] 6+ messages in thread
* [dpdk-test-report] |SUCCESS| pw92778-92780 [PATCH] [v3, 2/2] eal: fix service core index validity
@ 2021-05-05 4:55 dpdklab
0 siblings, 0 replies; 6+ messages in thread
From: dpdklab @ 2021-05-05 4:55 UTC (permalink / raw)
To: Test Report; +Cc: dpdk-test-reports
[-- Attachment #1: Type: text/plain, Size: 4647 bytes --]
Test-Label: iol-testing
Test-Status: SUCCESS
http://dpdk.org/patch/92780
_Testing PASS_
Submitter: Chengwen Feng <fengchengwen@huawei.com>
Date: Wednesday, May 05 2021 04:10:07
DPDK git baseline: Repo:dpdk
Branch: master
CommitID:caec80f92adf21f86d18b77d4cdc951b41088c6e
92778-92780 --> testing pass
Test environment and result as below:
+---------------------+----------------------+-------------------+--------------------+----------------+
| Environment | dpdk_mingw64_compile | dpdk_compile_spdk | dpdk_meson_compile | dpdk_unit_test |
+=====================+======================+===================+====================+================+
| Windows Server 2019 | PASS | SKIPPED | PASS | SKIPPED |
+---------------------+----------------------+-------------------+--------------------+----------------+
| Ubuntu 18.04 | SKIPPED | PASS | PASS | PASS |
+---------------------+----------------------+-------------------+--------------------+----------------+
| Ubuntu 18.04 ARM | SKIPPED | SKIPPED | PASS | SKIPPED |
+---------------------+----------------------+-------------------+--------------------+----------------+
| Fedora 31 | SKIPPED | SKIPPED | PASS | SKIPPED |
+---------------------+----------------------+-------------------+--------------------+----------------+
| Ubuntu 20.04 | SKIPPED | SKIPPED | PASS | SKIPPED |
+---------------------+----------------------+-------------------+--------------------+----------------+
| CentOS 8 | SKIPPED | SKIPPED | PASS | SKIPPED |
+---------------------+----------------------+-------------------+--------------------+----------------+
| RHEL 7 | SKIPPED | SKIPPED | PASS | SKIPPED |
+---------------------+----------------------+-------------------+--------------------+----------------+
| Fedora 32 | SKIPPED | SKIPPED | PASS | SKIPPED |
+---------------------+----------------------+-------------------+--------------------+----------------+
| CentOS Stream 8 | SKIPPED | SKIPPED | PASS | SKIPPED |
+---------------------+----------------------+-------------------+--------------------+----------------+
| FreeBSD 11.2 | SKIPPED | SKIPPED | PASS | SKIPPED |
+---------------------+----------------------+-------------------+--------------------+----------------+
| Arch Linux | SKIPPED | SKIPPED | PASS | SKIPPED |
+---------------------+----------------------+-------------------+--------------------+----------------+
| openSUSE Leap 15 | SKIPPED | SKIPPED | PASS | SKIPPED |
+---------------------+----------------------+-------------------+--------------------+----------------+
| RHEL8 | SKIPPED | SKIPPED | PASS | SKIPPED |
+---------------------+----------------------+-------------------+--------------------+----------------+
Windows Server 2019
Kernel: 10.0
Compiler: clang 9.0 and gcc 8.1.0 (MinGW)
Ubuntu 18.04
Kernel: 4.18.0-240.10.1.el8_3.x86_64
Compiler: gcc 7.5.0-3ubuntu1~18.04
Ubuntu 18.04 ARM
Kernel: 5.4.0-53-generic
Compiler: gcc 9.3
Fedora 31
Kernel: 4.18.0-240.10.1.el8_3.x86_64
Compiler: gcc 9.3.1
Ubuntu 20.04
Kernel: 4.18.0-240.10.1.el8_3.x86_64
Compiler: gcc 9.3.0-17ubuntu1~20.04
CentOS 8
Kernel: 4.18.0-240.10.1.el8_3.x86_64
Compiler: gcc 8.3.1 20191121 (Red Hat 8.3.1-5)
RHEL 7
Kernel: 4.18.0-240.10.1.el8_3.x86_64
Compiler: gcc 4.8.5 20150623 (Red Hat 4.8.5-44)
Fedora 32
Kernel: 4.18.0-240.10.1.el8_3.x86_64
Compiler: gcc 10.2.1
CentOS Stream 8
Kernel: 4.18.0-240.10.1.el8_3.x86_64
Compiler: gcc 8.4.1 20200928
FreeBSD 11.2
Kernel: 11.2
Compiler: gcc 8.3
Arch Linux
Kernel: 4.18.0-240.10.1.el8_3.x86_64
Compiler: gcc 10.2.0
openSUSE Leap 15
Kernel: 4.18.0-240.10.1.el8_3.x86_64
Compiler: gcc 7.5.0
RHEL8
Kernel: 4.18.0-240.10.1.el8_3.x86_64
Compiler: gcc 8.3.1 20191121 (Red Hat 8.3.1-5)
To view detailed results, visit:
https://lab.dpdk.org/results/dashboard/patchsets/16931/
UNH-IOL DPDK Community Lab
To manage your email subscriptions, visit:
https://lab.dpdk.org/results/dashboard/preferences/subscriptions/
^ permalink raw reply [flat|nested] 6+ messages in thread
end of thread, other threads:[~2021-05-06 0:21 UTC | newest]
Thread overview: 6+ messages (download: mbox.gz / follow: Atom feed)
-- links below jump to the message on this page --
2021-05-06 0:14 [dpdk-test-report] |SUCCESS| pw92778-92780 [PATCH] [v3, 2/2] eal: fix service core index validity dpdklab
-- strict thread matches above, loose matches on Subject: below --
2021-05-06 0:21 dpdklab
2021-05-05 20:04 dpdklab
2021-05-05 5:23 dpdklab
2021-05-05 5:06 dpdklab
2021-05-05 4:55 dpdklab
This is a public inbox, see mirroring instructions
for how to clone and mirror all data and code used for this inbox;
as well as URLs for NNTP newsgroup(s).