* [dpdk-test-report] |SUCCESS| pw93030-93031 [PATCH] [2/2] net: fix header include order for FreeBSD
@ 2021-05-06 19:39 dpdklab
0 siblings, 0 replies; 8+ messages in thread
From: dpdklab @ 2021-05-06 19:39 UTC (permalink / raw)
To: Ali Alnubani, Test Report; +Cc: dpdk-test-reports
[-- Attachment #1: Type: text/plain, Size: 3973 bytes --]
Test-Label: iol-mellanox-Performance
Test-Status: SUCCESS
http://dpdk.org/patch/93031
_Performance Testing PASS_
Submitter: David Marchand <david.marchand@redhat.com>
Date: Thursday, May 06 2021 15:14:26
DPDK git baseline: Repo:dpdk
Branch: master
CommitID:4a8f4f97658d1e3458aa2590ca4b17fdf56126bc
93030-93031 --> performance testing pass
Test environment and result as below:
Ubuntu 18.04
Kernel: 4.15.0-generic
Compiler: gcc 7.4
NIC: Mellanox ConnectX-4 Lx 40000 Mbps
Target: x86_64-native-linuxapp-gcc
Fail/Total: 0/6
Detail performance results:
+------------+---------+-------------------------------------+
| frame_size | txd/rxd | throughput difference from expected |
+============+=========+=====================================+
| 64 | 256 | 0.33111% |
+------------+---------+-------------------------------------+
| 128 | 256 | 0.53234% |
+------------+---------+-------------------------------------+
| 256 | 256 | 0.04756% |
+------------+---------+-------------------------------------+
| 512 | 256 | 0.08521% |
+------------+---------+-------------------------------------+
| 1024 | 256 | -0.02088% |
+------------+---------+-------------------------------------+
| 1518 | 256 | -0.15378% |
+------------+---------+-------------------------------------+
Ubuntu 18.04
Kernel: 4.15.0-generic
Compiler: gcc 7.4
NIC: Mellanox ConnectX-4 Lx 25000 Mbps
Target: x86_64-native-linuxapp-gcc
Fail/Total: 0/6
Detail performance results:
+------------+---------+-------------------------------------+
| frame_size | txd/rxd | throughput difference from expected |
+============+=========+=====================================+
| 64 | 256 | -0.05089% |
+------------+---------+-------------------------------------+
| 128 | 256 | 0.14858% |
+------------+---------+-------------------------------------+
| 256 | 256 | -0.57466% |
+------------+---------+-------------------------------------+
| 512 | 256 | 0.32529% |
+------------+---------+-------------------------------------+
| 1024 | 256 | 0.13385% |
+------------+---------+-------------------------------------+
| 1518 | 256 | -0.04921% |
+------------+---------+-------------------------------------+
Ubuntu 18.04
Kernel: 4.15.0-generic
Compiler: gcc 7.4
NIC: Mellanox ConnectX-5 100000 Mbps
Target: x86_64-native-linuxapp-gcc
Fail/Total: 0/6
Detail performance results:
+------------+---------+-------------------------------------+
| frame_size | txd/rxd | throughput difference from expected |
+============+=========+=====================================+
| 64 | 256 | -0.06952% |
+------------+---------+-------------------------------------+
| 128 | 256 | 0.12701% |
+------------+---------+-------------------------------------+
| 256 | 256 | 0.01248% |
+------------+---------+-------------------------------------+
| 512 | 256 | -0.16875% |
+------------+---------+-------------------------------------+
| 1024 | 256 | -2.53325% |
+------------+---------+-------------------------------------+
| 1518 | 256 | 0.17595% |
+------------+---------+-------------------------------------+
To view detailed results, visit:
https://lab.dpdk.org/results/dashboard/patchsets/16977/
UNH-IOL DPDK Community Lab
To manage your email subscriptions, visit:
https://lab.dpdk.org/results/dashboard/preferences/subscriptions/
^ permalink raw reply [flat|nested] 8+ messages in thread
* [dpdk-test-report] |SUCCESS| pw93030-93031 [PATCH] [2/2] net: fix header include order for FreeBSD
@ 2021-05-15 1:10 dpdklab
0 siblings, 0 replies; 8+ messages in thread
From: dpdklab @ 2021-05-15 1:10 UTC (permalink / raw)
To: Ali Alnubani, Test Report; +Cc: dpdk-test-reports
[-- Attachment #1: Type: text/plain, Size: 904 bytes --]
Test-Label: iol-mellanox-Functional
Test-Status: SUCCESS
http://dpdk.org/patch/93031
_Functional Testing PASS_
Submitter: David Marchand <david.marchand@redhat.com>
Date: Thursday, May 06 2021 15:14:26
DPDK git baseline: Repo:dpdk
Branch: master
CommitID:4a8f4f97658d1e3458aa2590ca4b17fdf56126bc
93030-93031 --> functional testing pass
Test environment and result as below:
Ubuntu 18.04
Kernel: 4.15.0-generic
Compiler: gcc 7.4
NIC: Mellanox ConnectX-4 Lx 40000 Mbps
Target: x86_64-native-linuxapp-gcc
Fail/Total: 0/5
Ubuntu 18.04
Kernel: 4.15.0-generic
Compiler: gcc 7.4
NIC: Mellanox ConnectX-4 Lx 25000 Mbps
Target: x86_64-native-linuxapp-gcc
Fail/Total: 0/5
To view detailed results, visit:
https://lab.dpdk.org/results/dashboard/patchsets/16977/
UNH-IOL DPDK Community Lab
To manage your email subscriptions, visit:
https://lab.dpdk.org/results/dashboard/preferences/subscriptions/
^ permalink raw reply [flat|nested] 8+ messages in thread
* [dpdk-test-report] |SUCCESS| pw93030-93031 [PATCH] [2/2] net: fix header include order for FreeBSD
@ 2021-05-06 18:47 dpdklab
0 siblings, 0 replies; 8+ messages in thread
From: dpdklab @ 2021-05-06 18:47 UTC (permalink / raw)
To: Ali Alnubani, Test Report; +Cc: dpdk-test-reports
[-- Attachment #1: Type: text/plain, Size: 2855 bytes --]
Test-Label: iol-mellanox-Performance
Test-Status: SUCCESS
http://dpdk.org/patch/93031
_Performance Testing PASS_
Submitter: David Marchand <david.marchand@redhat.com>
Date: Thursday, May 06 2021 15:14:26
DPDK git baseline: Repo:dpdk
Branch: master
CommitID:4a8f4f97658d1e3458aa2590ca4b17fdf56126bc
93030-93031 --> performance testing pass
Test environment and result as below:
Ubuntu 18.04
Kernel: 4.15.0-generic
Compiler: gcc 7.4
NIC: Mellanox ConnectX-4 Lx 40000 Mbps
Target: x86_64-native-linuxapp-gcc
Fail/Total: 0/6
Detail performance results:
+------------+---------+-------------------------------------+
| frame_size | txd/rxd | throughput difference from expected |
+============+=========+=====================================+
| 64 | 256 | 0.33111% |
+------------+---------+-------------------------------------+
| 128 | 256 | 0.53234% |
+------------+---------+-------------------------------------+
| 256 | 256 | 0.04756% |
+------------+---------+-------------------------------------+
| 512 | 256 | 0.08521% |
+------------+---------+-------------------------------------+
| 1024 | 256 | -0.02088% |
+------------+---------+-------------------------------------+
| 1518 | 256 | -0.15378% |
+------------+---------+-------------------------------------+
Ubuntu 18.04
Kernel: 4.15.0-generic
Compiler: gcc 7.4
NIC: Mellanox ConnectX-4 Lx 25000 Mbps
Target: x86_64-native-linuxapp-gcc
Fail/Total: 0/6
Detail performance results:
+------------+---------+-------------------------------------+
| frame_size | txd/rxd | throughput difference from expected |
+============+=========+=====================================+
| 64 | 256 | -0.05089% |
+------------+---------+-------------------------------------+
| 128 | 256 | 0.14858% |
+------------+---------+-------------------------------------+
| 256 | 256 | -0.57466% |
+------------+---------+-------------------------------------+
| 512 | 256 | 0.32529% |
+------------+---------+-------------------------------------+
| 1024 | 256 | 0.13385% |
+------------+---------+-------------------------------------+
| 1518 | 256 | -0.04921% |
+------------+---------+-------------------------------------+
To view detailed results, visit:
https://lab.dpdk.org/results/dashboard/patchsets/16977/
UNH-IOL DPDK Community Lab
To manage your email subscriptions, visit:
https://lab.dpdk.org/results/dashboard/preferences/subscriptions/
^ permalink raw reply [flat|nested] 8+ messages in thread
* [dpdk-test-report] |SUCCESS| pw93030-93031 [PATCH] [2/2] net: fix header include order for FreeBSD
@ 2021-05-06 17:55 dpdklab
0 siblings, 0 replies; 8+ messages in thread
From: dpdklab @ 2021-05-06 17:55 UTC (permalink / raw)
To: Ali Alnubani, Test Report; +Cc: dpdk-test-reports
[-- Attachment #1: Type: text/plain, Size: 1735 bytes --]
Test-Label: iol-mellanox-Performance
Test-Status: SUCCESS
http://dpdk.org/patch/93031
_Performance Testing PASS_
Submitter: David Marchand <david.marchand@redhat.com>
Date: Thursday, May 06 2021 15:14:26
DPDK git baseline: Repo:dpdk
Branch: master
CommitID:4a8f4f97658d1e3458aa2590ca4b17fdf56126bc
93030-93031 --> performance testing pass
Test environment and result as below:
Ubuntu 18.04
Kernel: 4.15.0-generic
Compiler: gcc 7.4
NIC: Mellanox ConnectX-4 Lx 40000 Mbps
Target: x86_64-native-linuxapp-gcc
Fail/Total: 0/6
Detail performance results:
+------------+---------+-------------------------------------+
| frame_size | txd/rxd | throughput difference from expected |
+============+=========+=====================================+
| 64 | 256 | 0.33111% |
+------------+---------+-------------------------------------+
| 128 | 256 | 0.53234% |
+------------+---------+-------------------------------------+
| 256 | 256 | 0.04756% |
+------------+---------+-------------------------------------+
| 512 | 256 | 0.08521% |
+------------+---------+-------------------------------------+
| 1024 | 256 | -0.02088% |
+------------+---------+-------------------------------------+
| 1518 | 256 | -0.15378% |
+------------+---------+-------------------------------------+
To view detailed results, visit:
https://lab.dpdk.org/results/dashboard/patchsets/16977/
UNH-IOL DPDK Community Lab
To manage your email subscriptions, visit:
https://lab.dpdk.org/results/dashboard/preferences/subscriptions/
^ permalink raw reply [flat|nested] 8+ messages in thread
* [dpdk-test-report] |SUCCESS| pw93030-93031 [PATCH] [2/2] net: fix header include order for FreeBSD
@ 2021-05-06 16:19 dpdklab
0 siblings, 0 replies; 8+ messages in thread
From: dpdklab @ 2021-05-06 16:19 UTC (permalink / raw)
To: Test Report; +Cc: dpdk-test-reports
[-- Attachment #1: Type: text/plain, Size: 793 bytes --]
Test-Label: iol-intel-Functional
Test-Status: SUCCESS
http://dpdk.org/patch/93031
_Functional Testing PASS_
Submitter: David Marchand <david.marchand@redhat.com>
Date: Thursday, May 06 2021 15:14:26
DPDK git baseline: Repo:dpdk
Branch: master
CommitID:4a8f4f97658d1e3458aa2590ca4b17fdf56126bc
93030-93031 --> functional testing pass
Test environment and result as below:
Ubuntu 18.04
Kernel: 4.15.0-generic
Compiler: gcc 7.4
NIC: Intel Corporation Ethernet Converged Network Adapter 82599ES 10000 Mbps
Target: x86_64-native-linuxapp-gcc
Fail/Total: 0/5
To view detailed results, visit:
https://lab.dpdk.org/results/dashboard/patchsets/16977/
UNH-IOL DPDK Community Lab
To manage your email subscriptions, visit:
https://lab.dpdk.org/results/dashboard/preferences/subscriptions/
^ permalink raw reply [flat|nested] 8+ messages in thread
* [dpdk-test-report] |SUCCESS| pw93030-93031 [PATCH] [2/2] net: fix header include order for FreeBSD
@ 2021-05-06 16:18 dpdklab
0 siblings, 0 replies; 8+ messages in thread
From: dpdklab @ 2021-05-06 16:18 UTC (permalink / raw)
To: Test Report; +Cc: dpdk-test-reports
[-- Attachment #1: Type: text/plain, Size: 1266 bytes --]
Test-Label: iol-intel-Performance
Test-Status: SUCCESS
http://dpdk.org/patch/93031
_Performance Testing PASS_
Submitter: David Marchand <david.marchand@redhat.com>
Date: Thursday, May 06 2021 15:14:26
DPDK git baseline: Repo:dpdk
Branch: master
CommitID:4a8f4f97658d1e3458aa2590ca4b17fdf56126bc
93030-93031 --> performance testing pass
Test environment and result as below:
Ubuntu 18.04
Kernel: 4.15.0-generic
Compiler: gcc 7.4
NIC: Intel Corporation Ethernet Converged Network Adapter 82599ES 10000 Mbps
Target: x86_64-native-linuxapp-gcc
Fail/Total: 0/2
Detail performance results:
+------------+---------+-------------------------------------+
| frame_size | txd/rxd | throughput difference from expected |
+============+=========+=====================================+
| 64 | 512 | 99.19453% |
+------------+---------+-------------------------------------+
| 64 | 2048 | 100.33566% |
+------------+---------+-------------------------------------+
To view detailed results, visit:
https://lab.dpdk.org/results/dashboard/patchsets/16977/
UNH-IOL DPDK Community Lab
To manage your email subscriptions, visit:
https://lab.dpdk.org/results/dashboard/preferences/subscriptions/
^ permalink raw reply [flat|nested] 8+ messages in thread
* [dpdk-test-report] |SUCCESS| pw93030-93031 [PATCH] [2/2] net: fix header include order for FreeBSD
@ 2021-05-06 16:03 dpdklab
0 siblings, 0 replies; 8+ messages in thread
From: dpdklab @ 2021-05-06 16:03 UTC (permalink / raw)
To: Test Report; +Cc: dpdk-test-reports
[-- Attachment #1: Type: text/plain, Size: 2283 bytes --]
Test-Label: iol-abi-testing
Test-Status: SUCCESS
http://dpdk.org/patch/93031
_Testing PASS_
Submitter: David Marchand <david.marchand@redhat.com>
Date: Thursday, May 06 2021 15:14:26
DPDK git baseline: Repo:dpdk
Branch: master
CommitID:4a8f4f97658d1e3458aa2590ca4b17fdf56126bc
93030-93031 --> testing pass
Test environment and result as below:
+------------------+----------+
| Environment | abi_test |
+==================+==========+
| Ubuntu 18.04 ARM | PASS |
+------------------+----------+
| RHEL 7 | PASS |
+------------------+----------+
| RHEL8 | PASS |
+------------------+----------+
| Ubuntu 20.04 | PASS |
+------------------+----------+
| Ubuntu 18.04 | PASS |
+------------------+----------+
| Fedora 32 | PASS |
+------------------+----------+
| CentOS 8 | PASS |
+------------------+----------+
| CentOS Stream 8 | PASS |
+------------------+----------+
| Arch Linux | PASS |
+------------------+----------+
| Fedora 31 | PASS |
+------------------+----------+
| openSUSE Leap 15 | PASS |
+------------------+----------+
Ubuntu 18.04 ARM
Kernel: 5.4.0-53-generic
Compiler: gcc 9.3
RHEL 7
Kernel: 4.18.0-240.10.1.el8_3.x86_64
Compiler: gcc 4.8.5 20150623 (Red Hat 4.8.5-44)
RHEL8
Kernel: 4.18.0-240.10.1.el8_3.x86_64
Compiler: gcc 8.3.1 20191121 (Red Hat 8.3.1-5)
Ubuntu 20.04
Kernel: 4.18.0-240.10.1.el8_3.x86_64
Compiler: gcc 9.3.0-17ubuntu1~20.04
Ubuntu 18.04
Kernel: 4.18.0-240.10.1.el8_3.x86_64
Compiler: gcc 7.5.0-3ubuntu1~18.04
Fedora 32
Kernel: 4.18.0-240.10.1.el8_3.x86_64
Compiler: gcc 10.2.1
CentOS 8
Kernel: 4.18.0-240.10.1.el8_3.x86_64
Compiler: gcc 8.3.1 20191121 (Red Hat 8.3.1-5)
CentOS Stream 8
Kernel: 4.18.0-240.10.1.el8_3.x86_64
Compiler: gcc 8.4.1 20200928
Arch Linux
Kernel: 4.18.0-240.10.1.el8_3.x86_64
Compiler: gcc 10.2.0
Fedora 31
Kernel: 4.18.0-240.10.1.el8_3.x86_64
Compiler: gcc 9.3.1
openSUSE Leap 15
Kernel: 4.18.0-240.10.1.el8_3.x86_64
Compiler: gcc 7.5.0
To view detailed results, visit:
https://lab.dpdk.org/results/dashboard/patchsets/16977/
UNH-IOL DPDK Community Lab
To manage your email subscriptions, visit:
https://lab.dpdk.org/results/dashboard/preferences/subscriptions/
^ permalink raw reply [flat|nested] 8+ messages in thread
* [dpdk-test-report] |SUCCESS| pw93030-93031 [PATCH] [2/2] net: fix header include order for FreeBSD
@ 2021-05-06 16:02 dpdklab
0 siblings, 0 replies; 8+ messages in thread
From: dpdklab @ 2021-05-06 16:02 UTC (permalink / raw)
To: Test Report; +Cc: dpdk-test-reports
[-- Attachment #1: Type: text/plain, Size: 4649 bytes --]
Test-Label: iol-testing
Test-Status: SUCCESS
http://dpdk.org/patch/93031
_Testing PASS_
Submitter: David Marchand <david.marchand@redhat.com>
Date: Thursday, May 06 2021 15:14:26
DPDK git baseline: Repo:dpdk
Branch: master
CommitID:4a8f4f97658d1e3458aa2590ca4b17fdf56126bc
93030-93031 --> testing pass
Test environment and result as below:
+---------------------+----------------------+--------------------+-------------------+----------------+
| Environment | dpdk_mingw64_compile | dpdk_meson_compile | dpdk_compile_spdk | dpdk_unit_test |
+=====================+======================+====================+===================+================+
| Windows Server 2019 | PASS | PASS | SKIPPED | SKIPPED |
+---------------------+----------------------+--------------------+-------------------+----------------+
| Fedora 31 | SKIPPED | PASS | SKIPPED | SKIPPED |
+---------------------+----------------------+--------------------+-------------------+----------------+
| FreeBSD 11.2 | SKIPPED | PASS | SKIPPED | SKIPPED |
+---------------------+----------------------+--------------------+-------------------+----------------+
| Ubuntu 18.04 ARM | SKIPPED | PASS | SKIPPED | SKIPPED |
+---------------------+----------------------+--------------------+-------------------+----------------+
| Ubuntu 18.04 | SKIPPED | PASS | PASS | PASS |
+---------------------+----------------------+--------------------+-------------------+----------------+
| CentOS 8 | SKIPPED | PASS | SKIPPED | SKIPPED |
+---------------------+----------------------+--------------------+-------------------+----------------+
| Fedora 32 | SKIPPED | PASS | SKIPPED | SKIPPED |
+---------------------+----------------------+--------------------+-------------------+----------------+
| CentOS Stream 8 | SKIPPED | PASS | SKIPPED | SKIPPED |
+---------------------+----------------------+--------------------+-------------------+----------------+
| RHEL 7 | SKIPPED | PASS | SKIPPED | SKIPPED |
+---------------------+----------------------+--------------------+-------------------+----------------+
| RHEL8 | SKIPPED | PASS | SKIPPED | SKIPPED |
+---------------------+----------------------+--------------------+-------------------+----------------+
| Ubuntu 20.04 | SKIPPED | PASS | SKIPPED | SKIPPED |
+---------------------+----------------------+--------------------+-------------------+----------------+
| Arch Linux | SKIPPED | PASS | SKIPPED | SKIPPED |
+---------------------+----------------------+--------------------+-------------------+----------------+
| openSUSE Leap 15 | SKIPPED | PASS | SKIPPED | SKIPPED |
+---------------------+----------------------+--------------------+-------------------+----------------+
Windows Server 2019
Kernel: 10.0
Compiler: clang 9.0 and gcc 8.1.0 (MinGW)
Fedora 31
Kernel: 4.18.0-240.10.1.el8_3.x86_64
Compiler: gcc 9.3.1
FreeBSD 11.2
Kernel: 11.2
Compiler: gcc 8.3
Ubuntu 18.04 ARM
Kernel: 5.4.0-53-generic
Compiler: gcc 9.3
Ubuntu 18.04
Kernel: 4.18.0-240.10.1.el8_3.x86_64
Compiler: gcc 7.5.0-3ubuntu1~18.04
CentOS 8
Kernel: 4.18.0-240.10.1.el8_3.x86_64
Compiler: gcc 8.3.1 20191121 (Red Hat 8.3.1-5)
Fedora 32
Kernel: 4.18.0-240.10.1.el8_3.x86_64
Compiler: gcc 10.2.1
CentOS Stream 8
Kernel: 4.18.0-240.10.1.el8_3.x86_64
Compiler: gcc 8.4.1 20200928
RHEL 7
Kernel: 4.18.0-240.10.1.el8_3.x86_64
Compiler: gcc 4.8.5 20150623 (Red Hat 4.8.5-44)
RHEL8
Kernel: 4.18.0-240.10.1.el8_3.x86_64
Compiler: gcc 8.3.1 20191121 (Red Hat 8.3.1-5)
Ubuntu 20.04
Kernel: 4.18.0-240.10.1.el8_3.x86_64
Compiler: gcc 9.3.0-17ubuntu1~20.04
Arch Linux
Kernel: 4.18.0-240.10.1.el8_3.x86_64
Compiler: gcc 10.2.0
openSUSE Leap 15
Kernel: 4.18.0-240.10.1.el8_3.x86_64
Compiler: gcc 7.5.0
To view detailed results, visit:
https://lab.dpdk.org/results/dashboard/patchsets/16977/
UNH-IOL DPDK Community Lab
To manage your email subscriptions, visit:
https://lab.dpdk.org/results/dashboard/preferences/subscriptions/
^ permalink raw reply [flat|nested] 8+ messages in thread
end of thread, other threads:[~2021-05-15 1:11 UTC | newest]
Thread overview: 8+ messages (download: mbox.gz / follow: Atom feed)
-- links below jump to the message on this page --
2021-05-06 19:39 [dpdk-test-report] |SUCCESS| pw93030-93031 [PATCH] [2/2] net: fix header include order for FreeBSD dpdklab
-- strict thread matches above, loose matches on Subject: below --
2021-05-15 1:10 dpdklab
2021-05-06 18:47 dpdklab
2021-05-06 17:55 dpdklab
2021-05-06 16:19 dpdklab
2021-05-06 16:18 dpdklab
2021-05-06 16:03 dpdklab
2021-05-06 16:02 dpdklab
This is a public inbox, see mirroring instructions
for how to clone and mirror all data and code used for this inbox;
as well as URLs for NNTP newsgroup(s).