Test-Label: checkpatch Test-Status: SUCCESS http://dpdk.org/patch/93082 _coding style OK_
[-- Attachment #1: Type: text/plain, Size: 1250 bytes --] Test-Label: iol-intel-Performance Test-Status: SUCCESS http://dpdk.org/patch/93082 _Performance Testing PASS_ Submitter: Feifei Wang <feifei.wang2@arm.com> Date: Monday, May 10 2021 06:11:48 DPDK git baseline: Repo:dpdk Branch: master CommitID:627c5b41bb14a1afbd1489b0fc4b8224532a823d 93082 --> performance testing pass Test environment and result as below: Ubuntu 18.04 Kernel: 4.15.0-generic Compiler: gcc 7.4 NIC: Intel Corporation Ethernet Converged Network Adapter 82599ES 10000 Mbps Target: x86_64-native-linuxapp-gcc Fail/Total: 0/2 Detail performance results: +------------+---------+-------------------------------------+ | frame_size | txd/rxd | throughput difference from expected | +============+=========+=====================================+ | 64 | 512 | -0.46713% | +------------+---------+-------------------------------------+ | 64 | 2048 | 0.58387% | +------------+---------+-------------------------------------+ To view detailed results, visit: https://lab.dpdk.org/results/dashboard/patchsets/17006/ UNH-IOL DPDK Community Lab To manage your email subscriptions, visit: https://lab.dpdk.org/results/dashboard/preferences/subscriptions/
[-- Attachment #1: Type: text/plain, Size: 1719 bytes --] Test-Label: iol-mellanox-Performance Test-Status: SUCCESS http://dpdk.org/patch/93082 _Performance Testing PASS_ Submitter: Feifei Wang <feifei.wang2@arm.com> Date: Monday, May 10 2021 06:11:48 DPDK git baseline: Repo:dpdk Branch: master CommitID:627c5b41bb14a1afbd1489b0fc4b8224532a823d 93082 --> performance testing pass Test environment and result as below: Ubuntu 18.04 Kernel: 4.15.0-generic Compiler: gcc 7.4 NIC: Mellanox ConnectX-4 Lx 40000 Mbps Target: x86_64-native-linuxapp-gcc Fail/Total: 0/6 Detail performance results: +------------+---------+-------------------------------------+ | frame_size | txd/rxd | throughput difference from expected | +============+=========+=====================================+ | 64 | 256 | 0.26831% | +------------+---------+-------------------------------------+ | 128 | 256 | 0.18603% | +------------+---------+-------------------------------------+ | 256 | 256 | 0.24512% | +------------+---------+-------------------------------------+ | 512 | 256 | 0.06923% | +------------+---------+-------------------------------------+ | 1024 | 256 | 0.0% | +------------+---------+-------------------------------------+ | 1518 | 256 | -0.23066% | +------------+---------+-------------------------------------+ To view detailed results, visit: https://lab.dpdk.org/results/dashboard/patchsets/17006/ UNH-IOL DPDK Community Lab To manage your email subscriptions, visit: https://lab.dpdk.org/results/dashboard/preferences/subscriptions/
[-- Attachment #1: Type: text/plain, Size: 777 bytes --] Test-Label: iol-intel-Functional Test-Status: SUCCESS http://dpdk.org/patch/93082 _Functional Testing PASS_ Submitter: Feifei Wang <feifei.wang2@arm.com> Date: Monday, May 10 2021 06:11:48 DPDK git baseline: Repo:dpdk Branch: master CommitID:627c5b41bb14a1afbd1489b0fc4b8224532a823d 93082 --> functional testing pass Test environment and result as below: Ubuntu 18.04 Kernel: 4.15.0-generic Compiler: gcc 7.4 NIC: Intel Corporation Ethernet Converged Network Adapter 82599ES 10000 Mbps Target: x86_64-native-linuxapp-gcc Fail/Total: 0/5 To view detailed results, visit: https://lab.dpdk.org/results/dashboard/patchsets/17006/ UNH-IOL DPDK Community Lab To manage your email subscriptions, visit: https://lab.dpdk.org/results/dashboard/preferences/subscriptions/
[-- Attachment #1: Type: text/plain, Size: 4633 bytes --] Test-Label: iol-testing Test-Status: SUCCESS http://dpdk.org/patch/93082 _Testing PASS_ Submitter: Feifei Wang <feifei.wang2@arm.com> Date: Monday, May 10 2021 06:11:48 DPDK git baseline: Repo:dpdk Branch: master CommitID:627c5b41bb14a1afbd1489b0fc4b8224532a823d 93082 --> testing pass Test environment and result as below: +---------------------+----------------------+-------------------+--------------------+----------------+ | Environment | dpdk_mingw64_compile | dpdk_compile_spdk | dpdk_meson_compile | dpdk_unit_test | +=====================+======================+===================+====================+================+ | Windows Server 2019 | PASS | SKIPPED | PASS | SKIPPED | +---------------------+----------------------+-------------------+--------------------+----------------+ | Ubuntu 18.04 | SKIPPED | PASS | PASS | PASS | +---------------------+----------------------+-------------------+--------------------+----------------+ | Fedora 31 | SKIPPED | SKIPPED | PASS | SKIPPED | +---------------------+----------------------+-------------------+--------------------+----------------+ | Ubuntu 18.04 ARM | SKIPPED | SKIPPED | PASS | SKIPPED | +---------------------+----------------------+-------------------+--------------------+----------------+ | FreeBSD 11.2 | SKIPPED | SKIPPED | PASS | SKIPPED | +---------------------+----------------------+-------------------+--------------------+----------------+ | CentOS 8 | SKIPPED | SKIPPED | PASS | SKIPPED | +---------------------+----------------------+-------------------+--------------------+----------------+ | CentOS Stream 8 | SKIPPED | SKIPPED | PASS | SKIPPED | +---------------------+----------------------+-------------------+--------------------+----------------+ | Ubuntu 20.04 | SKIPPED | SKIPPED | PASS | SKIPPED | +---------------------+----------------------+-------------------+--------------------+----------------+ | Fedora 32 | SKIPPED | SKIPPED | PASS | SKIPPED | +---------------------+----------------------+-------------------+--------------------+----------------+ | RHEL 7 | SKIPPED | SKIPPED | PASS | SKIPPED | +---------------------+----------------------+-------------------+--------------------+----------------+ | RHEL8 | SKIPPED | SKIPPED | PASS | SKIPPED | +---------------------+----------------------+-------------------+--------------------+----------------+ | Arch Linux | SKIPPED | SKIPPED | PASS | SKIPPED | +---------------------+----------------------+-------------------+--------------------+----------------+ | openSUSE Leap 15 | SKIPPED | SKIPPED | PASS | SKIPPED | +---------------------+----------------------+-------------------+--------------------+----------------+ Windows Server 2019 Kernel: 10.0 Compiler: clang 9.0 and gcc 8.1.0 (MinGW) Ubuntu 18.04 Kernel: 4.18.0-240.10.1.el8_3.x86_64 Compiler: gcc 7.5.0-3ubuntu1~18.04 Fedora 31 Kernel: 4.18.0-240.10.1.el8_3.x86_64 Compiler: gcc 9.3.1 Ubuntu 18.04 ARM Kernel: 5.4.0-53-generic Compiler: gcc 9.3 FreeBSD 11.2 Kernel: 11.2 Compiler: gcc 8.3 CentOS 8 Kernel: 4.18.0-240.10.1.el8_3.x86_64 Compiler: gcc 8.3.1 20191121 (Red Hat 8.3.1-5) CentOS Stream 8 Kernel: 4.18.0-240.10.1.el8_3.x86_64 Compiler: gcc 8.4.1 20200928 Ubuntu 20.04 Kernel: 4.18.0-240.10.1.el8_3.x86_64 Compiler: gcc 9.3.0-17ubuntu1~20.04 Fedora 32 Kernel: 4.18.0-240.10.1.el8_3.x86_64 Compiler: gcc 10.2.1 RHEL 7 Kernel: 4.18.0-240.10.1.el8_3.x86_64 Compiler: gcc 4.8.5 20150623 (Red Hat 4.8.5-44) RHEL8 Kernel: 4.18.0-240.10.1.el8_3.x86_64 Compiler: gcc 8.3.1 20191121 (Red Hat 8.3.1-5) Arch Linux Kernel: 4.18.0-240.10.1.el8_3.x86_64 Compiler: gcc 10.2.0 openSUSE Leap 15 Kernel: 4.18.0-240.10.1.el8_3.x86_64 Compiler: gcc 7.5.0 To view detailed results, visit: https://lab.dpdk.org/results/dashboard/patchsets/17006/ UNH-IOL DPDK Community Lab To manage your email subscriptions, visit: https://lab.dpdk.org/results/dashboard/preferences/subscriptions/
[-- Attachment #1: Type: text/plain, Size: 2267 bytes --] Test-Label: iol-abi-testing Test-Status: SUCCESS http://dpdk.org/patch/93082 _Testing PASS_ Submitter: Feifei Wang <feifei.wang2@arm.com> Date: Monday, May 10 2021 06:11:48 DPDK git baseline: Repo:dpdk Branch: master CommitID:627c5b41bb14a1afbd1489b0fc4b8224532a823d 93082 --> testing pass Test environment and result as below: +------------------+----------+ | Environment | abi_test | +==================+==========+ | Ubuntu 18.04 ARM | PASS | +------------------+----------+ | RHEL8 | PASS | +------------------+----------+ | Ubuntu 20.04 | PASS | +------------------+----------+ | Arch Linux | PASS | +------------------+----------+ | Ubuntu 18.04 | PASS | +------------------+----------+ | RHEL 7 | PASS | +------------------+----------+ | CentOS 8 | PASS | +------------------+----------+ | Fedora 32 | PASS | +------------------+----------+ | Fedora 31 | PASS | +------------------+----------+ | CentOS Stream 8 | PASS | +------------------+----------+ | openSUSE Leap 15 | PASS | +------------------+----------+ Ubuntu 18.04 ARM Kernel: 5.4.0-53-generic Compiler: gcc 9.3 RHEL8 Kernel: 4.18.0-240.10.1.el8_3.x86_64 Compiler: gcc 8.3.1 20191121 (Red Hat 8.3.1-5) Ubuntu 20.04 Kernel: 4.18.0-240.10.1.el8_3.x86_64 Compiler: gcc 9.3.0-17ubuntu1~20.04 Arch Linux Kernel: 4.18.0-240.10.1.el8_3.x86_64 Compiler: gcc 10.2.0 Ubuntu 18.04 Kernel: 4.18.0-240.10.1.el8_3.x86_64 Compiler: gcc 7.5.0-3ubuntu1~18.04 RHEL 7 Kernel: 4.18.0-240.10.1.el8_3.x86_64 Compiler: gcc 4.8.5 20150623 (Red Hat 4.8.5-44) CentOS 8 Kernel: 4.18.0-240.10.1.el8_3.x86_64 Compiler: gcc 8.3.1 20191121 (Red Hat 8.3.1-5) Fedora 32 Kernel: 4.18.0-240.10.1.el8_3.x86_64 Compiler: gcc 10.2.1 Fedora 31 Kernel: 4.18.0-240.10.1.el8_3.x86_64 Compiler: gcc 9.3.1 CentOS Stream 8 Kernel: 4.18.0-240.10.1.el8_3.x86_64 Compiler: gcc 8.4.1 20200928 openSUSE Leap 15 Kernel: 4.18.0-240.10.1.el8_3.x86_64 Compiler: gcc 7.5.0 To view detailed results, visit: https://lab.dpdk.org/results/dashboard/patchsets/17006/ UNH-IOL DPDK Community Lab To manage your email subscriptions, visit: https://lab.dpdk.org/results/dashboard/preferences/subscriptions/
[-- Attachment #1: Type: text/plain, Size: 2839 bytes --] Test-Label: iol-mellanox-Performance Test-Status: SUCCESS http://dpdk.org/patch/93082 _Performance Testing PASS_ Submitter: Feifei Wang <feifei.wang2@arm.com> Date: Monday, May 10 2021 06:11:48 DPDK git baseline: Repo:dpdk Branch: master CommitID:627c5b41bb14a1afbd1489b0fc4b8224532a823d 93082 --> performance testing pass Test environment and result as below: Ubuntu 18.04 Kernel: 4.15.0-generic Compiler: gcc 7.4 NIC: Mellanox ConnectX-4 Lx 40000 Mbps Target: x86_64-native-linuxapp-gcc Fail/Total: 0/6 Detail performance results: +------------+---------+-------------------------------------+ | frame_size | txd/rxd | throughput difference from expected | +============+=========+=====================================+ | 64 | 256 | 0.26831% | +------------+---------+-------------------------------------+ | 128 | 256 | 0.18603% | +------------+---------+-------------------------------------+ | 256 | 256 | 0.24512% | +------------+---------+-------------------------------------+ | 512 | 256 | 0.06923% | +------------+---------+-------------------------------------+ | 1024 | 256 | 0.0% | +------------+---------+-------------------------------------+ | 1518 | 256 | -0.23066% | +------------+---------+-------------------------------------+ Ubuntu 18.04 Kernel: 4.15.0-generic Compiler: gcc 7.4 NIC: Mellanox ConnectX-4 Lx 25000 Mbps Target: x86_64-native-linuxapp-gcc Fail/Total: 0/6 Detail performance results: +------------+---------+-------------------------------------+ | frame_size | txd/rxd | throughput difference from expected | +============+=========+=====================================+ | 64 | 256 | -0.45235% | +------------+---------+-------------------------------------+ | 128 | 256 | -0.0622% | +------------+---------+-------------------------------------+ | 256 | 256 | -1.30288% | +------------+---------+-------------------------------------+ | 512 | 256 | 0.1284% | +------------+---------+-------------------------------------+ | 1024 | 256 | -0.06692% | +------------+---------+-------------------------------------+ | 1518 | 256 | -0.04921% | +------------+---------+-------------------------------------+ To view detailed results, visit: https://lab.dpdk.org/results/dashboard/patchsets/17006/ UNH-IOL DPDK Community Lab To manage your email subscriptions, visit: https://lab.dpdk.org/results/dashboard/preferences/subscriptions/
[-- Attachment #1: Type: text/plain, Size: 3957 bytes --] Test-Label: iol-mellanox-Performance Test-Status: SUCCESS http://dpdk.org/patch/93082 _Performance Testing PASS_ Submitter: Feifei Wang <feifei.wang2@arm.com> Date: Monday, May 10 2021 06:11:48 DPDK git baseline: Repo:dpdk Branch: master CommitID:627c5b41bb14a1afbd1489b0fc4b8224532a823d 93082 --> performance testing pass Test environment and result as below: Ubuntu 18.04 Kernel: 4.15.0-generic Compiler: gcc 7.4 NIC: Mellanox ConnectX-4 Lx 40000 Mbps Target: x86_64-native-linuxapp-gcc Fail/Total: 0/6 Detail performance results: +------------+---------+-------------------------------------+ | frame_size | txd/rxd | throughput difference from expected | +============+=========+=====================================+ | 64 | 256 | 0.26831% | +------------+---------+-------------------------------------+ | 128 | 256 | 0.18603% | +------------+---------+-------------------------------------+ | 256 | 256 | 0.24512% | +------------+---------+-------------------------------------+ | 512 | 256 | 0.06923% | +------------+---------+-------------------------------------+ | 1024 | 256 | 0.0% | +------------+---------+-------------------------------------+ | 1518 | 256 | -0.23066% | +------------+---------+-------------------------------------+ Ubuntu 18.04 Kernel: 4.15.0-generic Compiler: gcc 7.4 NIC: Mellanox ConnectX-4 Lx 25000 Mbps Target: x86_64-native-linuxapp-gcc Fail/Total: 0/6 Detail performance results: +------------+---------+-------------------------------------+ | frame_size | txd/rxd | throughput difference from expected | +============+=========+=====================================+ | 64 | 256 | -0.45235% | +------------+---------+-------------------------------------+ | 128 | 256 | -0.0622% | +------------+---------+-------------------------------------+ | 256 | 256 | -1.30288% | +------------+---------+-------------------------------------+ | 512 | 256 | 0.1284% | +------------+---------+-------------------------------------+ | 1024 | 256 | -0.06692% | +------------+---------+-------------------------------------+ | 1518 | 256 | -0.04921% | +------------+---------+-------------------------------------+ Ubuntu 18.04 Kernel: 4.15.0-generic Compiler: gcc 7.4 NIC: Mellanox ConnectX-5 100000 Mbps Target: x86_64-native-linuxapp-gcc Fail/Total: 0/6 Detail performance results: +------------+---------+-------------------------------------+ | frame_size | txd/rxd | throughput difference from expected | +============+=========+=====================================+ | 64 | 256 | -0.03557% | +------------+---------+-------------------------------------+ | 128 | 256 | -0.30003% | +------------+---------+-------------------------------------+ | 256 | 256 | 0.64159% | +------------+---------+-------------------------------------+ | 512 | 256 | 0.53288% | +------------+---------+-------------------------------------+ | 1024 | 256 | -2.43159% | +------------+---------+-------------------------------------+ | 1518 | 256 | -0.19941% | +------------+---------+-------------------------------------+ To view detailed results, visit: https://lab.dpdk.org/results/dashboard/patchsets/17006/ UNH-IOL DPDK Community Lab To manage your email subscriptions, visit: https://lab.dpdk.org/results/dashboard/preferences/subscriptions/
[-- Attachment #1: Type: text/plain, Size: 1919 bytes --] Test-Label: iol-intel-Performance Test-Status: SUCCESS http://dpdk.org/patch/93082 _Performance Testing PASS_ Submitter: Feifei Wang <feifei.wang2@arm.com> Date: Monday, May 10 2021 06:11:48 DPDK git baseline: Repo:dpdk Branch: master CommitID:627c5b41bb14a1afbd1489b0fc4b8224532a823d 93082 --> performance testing pass Test environment and result as below: Ubuntu 18.04 Kernel: 4.15.0-generic Compiler: gcc 7.4 NIC: Intel Corporation Ethernet Converged Network Adapter 82599ES 10000 Mbps Target: x86_64-native-linuxapp-gcc Fail/Total: 0/2 Detail performance results: +------------+---------+-------------------------------------+ | frame_size | txd/rxd | throughput difference from expected | +============+=========+=====================================+ | 64 | 512 | -0.46713% | +------------+---------+-------------------------------------+ | 64 | 2048 | 0.58387% | +------------+---------+-------------------------------------+ Ubuntu 18.04 ARM Kernel: 4.15.0-132-generic Compiler: gcc 7.5 NIC: Arm Intel Corporation Ethernet Converged Network Adapter XL710-QDA2 40000 Mbps Target: x86_64-native-linuxapp-gcc Fail/Total: 0/2 Detail performance results: +------------+---------+-------------------------------------+ | frame_size | txd/rxd | throughput difference from expected | +============+=========+=====================================+ | 64 | 512 | -0.18505% | +------------+---------+-------------------------------------+ | 64 | 2048 | -0.15694% | +------------+---------+-------------------------------------+ To view detailed results, visit: https://lab.dpdk.org/results/dashboard/patchsets/17006/ UNH-IOL DPDK Community Lab To manage your email subscriptions, visit: https://lab.dpdk.org/results/dashboard/preferences/subscriptions/
[-- Attachment #1: Type: text/plain, Size: 4834 bytes --] Test-Label: iol-mellanox-Performance Test-Status: SUCCESS http://dpdk.org/patch/93082 _Performance Testing PASS_ Submitter: Feifei Wang <feifei.wang2@arm.com> Date: Monday, May 10 2021 06:11:48 DPDK git baseline: Repo:dpdk Branch: master CommitID:627c5b41bb14a1afbd1489b0fc4b8224532a823d 93082 --> performance testing pass Test environment and result as below: Ubuntu 18.04 Kernel: 4.15.0-generic Compiler: gcc 7.4 NIC: Mellanox ConnectX-4 Lx 40000 Mbps Target: x86_64-native-linuxapp-gcc Fail/Total: 0/6 Detail performance results: +------------+---------+-------------------------------------+ | frame_size | txd/rxd | throughput difference from expected | +============+=========+=====================================+ | 64 | 256 | 0.26831% | +------------+---------+-------------------------------------+ | 128 | 256 | 0.18603% | +------------+---------+-------------------------------------+ | 256 | 256 | 0.24512% | +------------+---------+-------------------------------------+ | 512 | 256 | 0.06923% | +------------+---------+-------------------------------------+ | 1024 | 256 | 0.0% | +------------+---------+-------------------------------------+ | 1518 | 256 | -0.23066% | +------------+---------+-------------------------------------+ Ubuntu 18.04 Kernel: 4.15.0-generic Compiler: gcc 7.4 NIC: Mellanox ConnectX-4 Lx 25000 Mbps Target: x86_64-native-linuxapp-gcc Fail/Total: 0/6 Detail performance results: +------------+---------+-------------------------------------+ | frame_size | txd/rxd | throughput difference from expected | +============+=========+=====================================+ | 64 | 256 | -0.45235% | +------------+---------+-------------------------------------+ | 128 | 256 | -0.0622% | +------------+---------+-------------------------------------+ | 256 | 256 | -1.30288% | +------------+---------+-------------------------------------+ | 512 | 256 | 0.1284% | +------------+---------+-------------------------------------+ | 1024 | 256 | -0.06692% | +------------+---------+-------------------------------------+ | 1518 | 256 | -0.04921% | +------------+---------+-------------------------------------+ Ubuntu 18.04 Kernel: 4.15.0-generic Compiler: gcc 7.4 NIC: Mellanox ConnectX-5 100000 Mbps Target: x86_64-native-linuxapp-gcc Fail/Total: 0/6 Detail performance results: +------------+---------+-------------------------------------+ | frame_size | txd/rxd | throughput difference from expected | +============+=========+=====================================+ | 64 | 256 | -0.03557% | +------------+---------+-------------------------------------+ | 128 | 256 | -0.30003% | +------------+---------+-------------------------------------+ | 256 | 256 | 0.64159% | +------------+---------+-------------------------------------+ | 512 | 256 | 0.53288% | +------------+---------+-------------------------------------+ | 1024 | 256 | -2.43159% | +------------+---------+-------------------------------------+ | 1518 | 256 | -0.19941% | +------------+---------+-------------------------------------+ Ubuntu 18.04 ARM Kernel: 4.15.0-132-generic Compiler: gcc 7.5 NIC: Arm Mellanox ConnectX-5 10000 Mbps Target: x86_64-native-linuxapp-gcc Fail/Total: 0/4 Detail performance results: +------------+---------+-------------------------------------+ | frame_size | txd/rxd | throughput difference from expected | +============+=========+=====================================+ | 64 | 128 | -0.17158% | +------------+---------+-------------------------------------+ | 64 | 256 | -0.13966% | +------------+---------+-------------------------------------+ | 64 | 512 | 2.52276% | +------------+---------+-------------------------------------+ | 64 | 2048 | -0.37602% | +------------+---------+-------------------------------------+ To view detailed results, visit: https://lab.dpdk.org/results/dashboard/patchsets/17006/ UNH-IOL DPDK Community Lab To manage your email subscriptions, visit: https://lab.dpdk.org/results/dashboard/preferences/subscriptions/