[-- Attachment #1: Type: text/plain, Size: 1261 bytes --] Test-Label: iol-intel-Performance Test-Status: SUCCESS http://dpdk.org/patch/93088 _Performance Testing PASS_ Submitter: Chengwen Feng <fengchengwen@huawei.com> Date: Monday, May 10 2021 12:06:03 DPDK git baseline: Repo:dpdk Branch: master CommitID:627c5b41bb14a1afbd1489b0fc4b8224532a823d 93089-93088 --> performance testing pass Test environment and result as below: Ubuntu 18.04 Kernel: 4.15.0-generic Compiler: gcc 7.4 NIC: Intel Corporation Ethernet Converged Network Adapter 82599ES 10000 Mbps Target: x86_64-native-linuxapp-gcc Fail/Total: 0/2 Detail performance results: +------------+---------+-------------------------------------+ | frame_size | txd/rxd | throughput difference from expected | +============+=========+=====================================+ | 64 | 512 | -0.60901% | +------------+---------+-------------------------------------+ | 64 | 2048 | 0.23975% | +------------+---------+-------------------------------------+ To view detailed results, visit: https://lab.dpdk.org/results/dashboard/patchsets/17011/ UNH-IOL DPDK Community Lab To manage your email subscriptions, visit: https://lab.dpdk.org/results/dashboard/preferences/subscriptions/
[-- Attachment #1: Type: text/plain, Size: 2278 bytes --] Test-Label: iol-abi-testing Test-Status: SUCCESS http://dpdk.org/patch/93088 _Testing PASS_ Submitter: Chengwen Feng <fengchengwen@huawei.com> Date: Monday, May 10 2021 12:06:03 DPDK git baseline: Repo:dpdk Branch: master CommitID:627c5b41bb14a1afbd1489b0fc4b8224532a823d 93089-93088 --> testing pass Test environment and result as below: +------------------+----------+ | Environment | abi_test | +==================+==========+ | Ubuntu 18.04 ARM | PASS | +------------------+----------+ | Ubuntu 18.04 | PASS | +------------------+----------+ | Ubuntu 20.04 | PASS | +------------------+----------+ | Arch Linux | PASS | +------------------+----------+ | RHEL 7 | PASS | +------------------+----------+ | CentOS 8 | PASS | +------------------+----------+ | RHEL8 | PASS | +------------------+----------+ | CentOS Stream 8 | PASS | +------------------+----------+ | Fedora 32 | PASS | +------------------+----------+ | Fedora 31 | PASS | +------------------+----------+ | openSUSE Leap 15 | PASS | +------------------+----------+ Ubuntu 18.04 ARM Kernel: 5.4.0-53-generic Compiler: gcc 9.3 Ubuntu 18.04 Kernel: 4.18.0-240.10.1.el8_3.x86_64 Compiler: gcc 7.5.0-3ubuntu1~18.04 Ubuntu 20.04 Kernel: 4.18.0-240.10.1.el8_3.x86_64 Compiler: gcc 9.3.0-17ubuntu1~20.04 Arch Linux Kernel: 4.18.0-240.10.1.el8_3.x86_64 Compiler: gcc 10.2.0 RHEL 7 Kernel: 4.18.0-240.10.1.el8_3.x86_64 Compiler: gcc 4.8.5 20150623 (Red Hat 4.8.5-44) CentOS 8 Kernel: 4.18.0-240.10.1.el8_3.x86_64 Compiler: gcc 8.3.1 20191121 (Red Hat 8.3.1-5) RHEL8 Kernel: 4.18.0-240.10.1.el8_3.x86_64 Compiler: gcc 8.3.1 20191121 (Red Hat 8.3.1-5) CentOS Stream 8 Kernel: 4.18.0-240.10.1.el8_3.x86_64 Compiler: gcc 8.4.1 20200928 Fedora 32 Kernel: 4.18.0-240.10.1.el8_3.x86_64 Compiler: gcc 10.2.1 Fedora 31 Kernel: 4.18.0-240.10.1.el8_3.x86_64 Compiler: gcc 9.3.1 openSUSE Leap 15 Kernel: 4.18.0-240.10.1.el8_3.x86_64 Compiler: gcc 7.5.0 To view detailed results, visit: https://lab.dpdk.org/results/dashboard/patchsets/17011/ UNH-IOL DPDK Community Lab To manage your email subscriptions, visit: https://lab.dpdk.org/results/dashboard/preferences/subscriptions/
[-- Attachment #1: Type: text/plain, Size: 4644 bytes --] Test-Label: iol-testing Test-Status: SUCCESS http://dpdk.org/patch/93088 _Testing PASS_ Submitter: Chengwen Feng <fengchengwen@huawei.com> Date: Monday, May 10 2021 12:06:03 DPDK git baseline: Repo:dpdk Branch: master CommitID:627c5b41bb14a1afbd1489b0fc4b8224532a823d 93089-93088 --> testing pass Test environment and result as below: +---------------------+----------------------+-------------------+--------------------+----------------+ | Environment | dpdk_mingw64_compile | dpdk_compile_spdk | dpdk_meson_compile | dpdk_unit_test | +=====================+======================+===================+====================+================+ | Windows Server 2019 | PASS | SKIPPED | PASS | SKIPPED | +---------------------+----------------------+-------------------+--------------------+----------------+ | Ubuntu 18.04 | SKIPPED | PASS | PASS | PASS | +---------------------+----------------------+-------------------+--------------------+----------------+ | Fedora 31 | SKIPPED | SKIPPED | PASS | SKIPPED | +---------------------+----------------------+-------------------+--------------------+----------------+ | Ubuntu 18.04 ARM | SKIPPED | SKIPPED | PASS | SKIPPED | +---------------------+----------------------+-------------------+--------------------+----------------+ | FreeBSD 11.2 | SKIPPED | SKIPPED | PASS | SKIPPED | +---------------------+----------------------+-------------------+--------------------+----------------+ | CentOS Stream 8 | SKIPPED | SKIPPED | PASS | SKIPPED | +---------------------+----------------------+-------------------+--------------------+----------------+ | CentOS 8 | SKIPPED | SKIPPED | PASS | SKIPPED | +---------------------+----------------------+-------------------+--------------------+----------------+ | Ubuntu 20.04 | SKIPPED | SKIPPED | PASS | SKIPPED | +---------------------+----------------------+-------------------+--------------------+----------------+ | Fedora 32 | SKIPPED | SKIPPED | PASS | SKIPPED | +---------------------+----------------------+-------------------+--------------------+----------------+ | RHEL8 | SKIPPED | SKIPPED | PASS | SKIPPED | +---------------------+----------------------+-------------------+--------------------+----------------+ | RHEL 7 | SKIPPED | SKIPPED | PASS | SKIPPED | +---------------------+----------------------+-------------------+--------------------+----------------+ | Arch Linux | SKIPPED | SKIPPED | PASS | SKIPPED | +---------------------+----------------------+-------------------+--------------------+----------------+ | openSUSE Leap 15 | SKIPPED | SKIPPED | PASS | SKIPPED | +---------------------+----------------------+-------------------+--------------------+----------------+ Windows Server 2019 Kernel: 10.0 Compiler: clang 9.0 and gcc 8.1.0 (MinGW) Ubuntu 18.04 Kernel: 4.18.0-240.10.1.el8_3.x86_64 Compiler: gcc 7.5.0-3ubuntu1~18.04 Fedora 31 Kernel: 4.18.0-240.10.1.el8_3.x86_64 Compiler: gcc 9.3.1 Ubuntu 18.04 ARM Kernel: 5.4.0-53-generic Compiler: gcc 9.3 FreeBSD 11.2 Kernel: 11.2 Compiler: gcc 8.3 CentOS Stream 8 Kernel: 4.18.0-240.10.1.el8_3.x86_64 Compiler: gcc 8.4.1 20200928 CentOS 8 Kernel: 4.18.0-240.10.1.el8_3.x86_64 Compiler: gcc 8.3.1 20191121 (Red Hat 8.3.1-5) Ubuntu 20.04 Kernel: 4.18.0-240.10.1.el8_3.x86_64 Compiler: gcc 9.3.0-17ubuntu1~20.04 Fedora 32 Kernel: 4.18.0-240.10.1.el8_3.x86_64 Compiler: gcc 10.2.1 RHEL8 Kernel: 4.18.0-240.10.1.el8_3.x86_64 Compiler: gcc 8.3.1 20191121 (Red Hat 8.3.1-5) RHEL 7 Kernel: 4.18.0-240.10.1.el8_3.x86_64 Compiler: gcc 4.8.5 20150623 (Red Hat 4.8.5-44) Arch Linux Kernel: 4.18.0-240.10.1.el8_3.x86_64 Compiler: gcc 10.2.0 openSUSE Leap 15 Kernel: 4.18.0-240.10.1.el8_3.x86_64 Compiler: gcc 7.5.0 To view detailed results, visit: https://lab.dpdk.org/results/dashboard/patchsets/17011/ UNH-IOL DPDK Community Lab To manage your email subscriptions, visit: https://lab.dpdk.org/results/dashboard/preferences/subscriptions/
[-- Attachment #1: Type: text/plain, Size: 788 bytes --] Test-Label: iol-intel-Functional Test-Status: SUCCESS http://dpdk.org/patch/93088 _Functional Testing PASS_ Submitter: Chengwen Feng <fengchengwen@huawei.com> Date: Monday, May 10 2021 12:06:03 DPDK git baseline: Repo:dpdk Branch: master CommitID:627c5b41bb14a1afbd1489b0fc4b8224532a823d 93089-93088 --> functional testing pass Test environment and result as below: Ubuntu 18.04 Kernel: 4.15.0-generic Compiler: gcc 7.4 NIC: Intel Corporation Ethernet Converged Network Adapter 82599ES 10000 Mbps Target: x86_64-native-linuxapp-gcc Fail/Total: 0/5 To view detailed results, visit: https://lab.dpdk.org/results/dashboard/patchsets/17011/ UNH-IOL DPDK Community Lab To manage your email subscriptions, visit: https://lab.dpdk.org/results/dashboard/preferences/subscriptions/
[-- Attachment #1: Type: text/plain, Size: 1730 bytes --] Test-Label: iol-mellanox-Performance Test-Status: SUCCESS http://dpdk.org/patch/93088 _Performance Testing PASS_ Submitter: Chengwen Feng <fengchengwen@huawei.com> Date: Monday, May 10 2021 12:06:03 DPDK git baseline: Repo:dpdk Branch: master CommitID:627c5b41bb14a1afbd1489b0fc4b8224532a823d 93089-93088 --> performance testing pass Test environment and result as below: Ubuntu 18.04 Kernel: 4.15.0-generic Compiler: gcc 7.4 NIC: Mellanox ConnectX-4 Lx 40000 Mbps Target: x86_64-native-linuxapp-gcc Fail/Total: 0/6 Detail performance results: +------------+---------+-------------------------------------+ | frame_size | txd/rxd | throughput difference from expected | +============+=========+=====================================+ | 64 | 256 | 0.69932% | +------------+---------+-------------------------------------+ | 128 | 256 | 0.39782% | +------------+---------+-------------------------------------+ | 256 | 256 | 0.30365% | +------------+---------+-------------------------------------+ | 512 | 256 | 0.0213% | +------------+---------+-------------------------------------+ | 1024 | 256 | 0.01044% | +------------+---------+-------------------------------------+ | 1518 | 256 | -0.16915% | +------------+---------+-------------------------------------+ To view detailed results, visit: https://lab.dpdk.org/results/dashboard/patchsets/17011/ UNH-IOL DPDK Community Lab To manage your email subscriptions, visit: https://lab.dpdk.org/results/dashboard/preferences/subscriptions/
[-- Attachment #1: Type: text/plain, Size: 2848 bytes --] Test-Label: iol-mellanox-Performance Test-Status: SUCCESS http://dpdk.org/patch/93088 _Performance Testing PASS_ Submitter: Chengwen Feng <fengchengwen@huawei.com> Date: Monday, May 10 2021 12:06:03 DPDK git baseline: Repo:dpdk Branch: master CommitID:627c5b41bb14a1afbd1489b0fc4b8224532a823d 93089-93088 --> performance testing pass Test environment and result as below: Ubuntu 18.04 Kernel: 4.15.0-generic Compiler: gcc 7.4 NIC: Mellanox ConnectX-4 Lx 40000 Mbps Target: x86_64-native-linuxapp-gcc Fail/Total: 0/6 Detail performance results: +------------+---------+-------------------------------------+ | frame_size | txd/rxd | throughput difference from expected | +============+=========+=====================================+ | 64 | 256 | 0.69932% | +------------+---------+-------------------------------------+ | 128 | 256 | 0.39782% | +------------+---------+-------------------------------------+ | 256 | 256 | 0.30365% | +------------+---------+-------------------------------------+ | 512 | 256 | 0.0213% | +------------+---------+-------------------------------------+ | 1024 | 256 | 0.01044% | +------------+---------+-------------------------------------+ | 1518 | 256 | -0.16915% | +------------+---------+-------------------------------------+ Ubuntu 18.04 Kernel: 4.15.0-generic Compiler: gcc 7.4 NIC: Mellanox ConnectX-5 100000 Mbps Target: x86_64-native-linuxapp-gcc Fail/Total: 0/6 Detail performance results: +------------+---------+-------------------------------------+ | frame_size | txd/rxd | throughput difference from expected | +============+=========+=====================================+ | 64 | 256 | -0.57717% | +------------+---------+-------------------------------------+ | 128 | 256 | -0.34605% | +------------+---------+-------------------------------------+ | 256 | 256 | -0.10235% | +------------+---------+-------------------------------------+ | 512 | 256 | 1.48763% | +------------+---------+-------------------------------------+ | 1024 | 256 | 0.27112% | +------------+---------+-------------------------------------+ | 1518 | 256 | 0.26979% | +------------+---------+-------------------------------------+ To view detailed results, visit: https://lab.dpdk.org/results/dashboard/patchsets/17011/ UNH-IOL DPDK Community Lab To manage your email subscriptions, visit: https://lab.dpdk.org/results/dashboard/preferences/subscriptions/
[-- Attachment #1: Type: text/plain, Size: 3968 bytes --] Test-Label: iol-mellanox-Performance Test-Status: SUCCESS http://dpdk.org/patch/93088 _Performance Testing PASS_ Submitter: Chengwen Feng <fengchengwen@huawei.com> Date: Monday, May 10 2021 12:06:03 DPDK git baseline: Repo:dpdk Branch: master CommitID:627c5b41bb14a1afbd1489b0fc4b8224532a823d 93089-93088 --> performance testing pass Test environment and result as below: Ubuntu 18.04 Kernel: 4.15.0-generic Compiler: gcc 7.4 NIC: Mellanox ConnectX-4 Lx 40000 Mbps Target: x86_64-native-linuxapp-gcc Fail/Total: 0/6 Detail performance results: +------------+---------+-------------------------------------+ | frame_size | txd/rxd | throughput difference from expected | +============+=========+=====================================+ | 64 | 256 | 0.69932% | +------------+---------+-------------------------------------+ | 128 | 256 | 0.39782% | +------------+---------+-------------------------------------+ | 256 | 256 | 0.30365% | +------------+---------+-------------------------------------+ | 512 | 256 | 0.0213% | +------------+---------+-------------------------------------+ | 1024 | 256 | 0.01044% | +------------+---------+-------------------------------------+ | 1518 | 256 | -0.16915% | +------------+---------+-------------------------------------+ Ubuntu 18.04 Kernel: 4.15.0-generic Compiler: gcc 7.4 NIC: Mellanox ConnectX-5 100000 Mbps Target: x86_64-native-linuxapp-gcc Fail/Total: 0/6 Detail performance results: +------------+---------+-------------------------------------+ | frame_size | txd/rxd | throughput difference from expected | +============+=========+=====================================+ | 64 | 256 | -0.57717% | +------------+---------+-------------------------------------+ | 128 | 256 | -0.34605% | +------------+---------+-------------------------------------+ | 256 | 256 | -0.10235% | +------------+---------+-------------------------------------+ | 512 | 256 | 1.48763% | +------------+---------+-------------------------------------+ | 1024 | 256 | 0.27112% | +------------+---------+-------------------------------------+ | 1518 | 256 | 0.26979% | +------------+---------+-------------------------------------+ Ubuntu 18.04 Kernel: 4.15.0-generic Compiler: gcc 7.4 NIC: Mellanox ConnectX-4 Lx 25000 Mbps Target: x86_64-native-linuxapp-gcc Fail/Total: 0/6 Detail performance results: +------------+---------+-------------------------------------+ | frame_size | txd/rxd | throughput difference from expected | +============+=========+=====================================+ | 64 | 256 | -0.39015% | +------------+---------+-------------------------------------+ | 128 | 256 | 0.22114% | +------------+---------+-------------------------------------+ | 256 | 256 | 0.35668% | +------------+---------+-------------------------------------+ | 512 | 256 | 0.10272% | +------------+---------+-------------------------------------+ | 1024 | 256 | -0.05019% | +------------+---------+-------------------------------------+ | 1518 | 256 | -0.04921% | +------------+---------+-------------------------------------+ To view detailed results, visit: https://lab.dpdk.org/results/dashboard/patchsets/17011/ UNH-IOL DPDK Community Lab To manage your email subscriptions, visit: https://lab.dpdk.org/results/dashboard/preferences/subscriptions/
[-- Attachment #1: Type: text/plain, Size: 4845 bytes --] Test-Label: iol-mellanox-Performance Test-Status: SUCCESS http://dpdk.org/patch/93088 _Performance Testing PASS_ Submitter: Chengwen Feng <fengchengwen@huawei.com> Date: Monday, May 10 2021 12:06:03 DPDK git baseline: Repo:dpdk Branch: master CommitID:627c5b41bb14a1afbd1489b0fc4b8224532a823d 93089-93088 --> performance testing pass Test environment and result as below: Ubuntu 18.04 Kernel: 4.15.0-generic Compiler: gcc 7.4 NIC: Mellanox ConnectX-4 Lx 40000 Mbps Target: x86_64-native-linuxapp-gcc Fail/Total: 0/6 Detail performance results: +------------+---------+-------------------------------------+ | frame_size | txd/rxd | throughput difference from expected | +============+=========+=====================================+ | 64 | 256 | 0.69932% | +------------+---------+-------------------------------------+ | 128 | 256 | 0.39782% | +------------+---------+-------------------------------------+ | 256 | 256 | 0.30365% | +------------+---------+-------------------------------------+ | 512 | 256 | 0.0213% | +------------+---------+-------------------------------------+ | 1024 | 256 | 0.01044% | +------------+---------+-------------------------------------+ | 1518 | 256 | -0.16915% | +------------+---------+-------------------------------------+ Ubuntu 18.04 Kernel: 4.15.0-generic Compiler: gcc 7.4 NIC: Mellanox ConnectX-5 100000 Mbps Target: x86_64-native-linuxapp-gcc Fail/Total: 0/6 Detail performance results: +------------+---------+-------------------------------------+ | frame_size | txd/rxd | throughput difference from expected | +============+=========+=====================================+ | 64 | 256 | -0.57717% | +------------+---------+-------------------------------------+ | 128 | 256 | -0.34605% | +------------+---------+-------------------------------------+ | 256 | 256 | -0.10235% | +------------+---------+-------------------------------------+ | 512 | 256 | 1.48763% | +------------+---------+-------------------------------------+ | 1024 | 256 | 0.27112% | +------------+---------+-------------------------------------+ | 1518 | 256 | 0.26979% | +------------+---------+-------------------------------------+ Ubuntu 18.04 Kernel: 4.15.0-generic Compiler: gcc 7.4 NIC: Mellanox ConnectX-4 Lx 25000 Mbps Target: x86_64-native-linuxapp-gcc Fail/Total: 0/6 Detail performance results: +------------+---------+-------------------------------------+ | frame_size | txd/rxd | throughput difference from expected | +============+=========+=====================================+ | 64 | 256 | -0.39015% | +------------+---------+-------------------------------------+ | 128 | 256 | 0.22114% | +------------+---------+-------------------------------------+ | 256 | 256 | 0.35668% | +------------+---------+-------------------------------------+ | 512 | 256 | 0.10272% | +------------+---------+-------------------------------------+ | 1024 | 256 | -0.05019% | +------------+---------+-------------------------------------+ | 1518 | 256 | -0.04921% | +------------+---------+-------------------------------------+ Ubuntu 18.04 ARM Kernel: 4.15.0-132-generic Compiler: gcc 7.5 NIC: Arm Mellanox ConnectX-5 10000 Mbps Target: x86_64-native-linuxapp-gcc Fail/Total: 0/4 Detail performance results: +------------+---------+-------------------------------------+ | frame_size | txd/rxd | throughput difference from expected | +============+=========+=====================================+ | 64 | 128 | 0.0% | +------------+---------+-------------------------------------+ | 64 | 256 | 0.41899% | +------------+---------+-------------------------------------+ | 64 | 512 | 1.70012% | +------------+---------+-------------------------------------+ | 64 | 2048 | -0.33305% | +------------+---------+-------------------------------------+ To view detailed results, visit: https://lab.dpdk.org/results/dashboard/patchsets/17011/ UNH-IOL DPDK Community Lab To manage your email subscriptions, visit: https://lab.dpdk.org/results/dashboard/preferences/subscriptions/
[-- Attachment #1: Type: text/plain, Size: 1930 bytes --] Test-Label: iol-intel-Performance Test-Status: SUCCESS http://dpdk.org/patch/93088 _Performance Testing PASS_ Submitter: Chengwen Feng <fengchengwen@huawei.com> Date: Monday, May 10 2021 12:06:03 DPDK git baseline: Repo:dpdk Branch: master CommitID:627c5b41bb14a1afbd1489b0fc4b8224532a823d 93089-93088 --> performance testing pass Test environment and result as below: Ubuntu 18.04 Kernel: 4.15.0-generic Compiler: gcc 7.4 NIC: Intel Corporation Ethernet Converged Network Adapter 82599ES 10000 Mbps Target: x86_64-native-linuxapp-gcc Fail/Total: 0/2 Detail performance results: +------------+---------+-------------------------------------+ | frame_size | txd/rxd | throughput difference from expected | +============+=========+=====================================+ | 64 | 512 | -0.60901% | +------------+---------+-------------------------------------+ | 64 | 2048 | 0.23975% | +------------+---------+-------------------------------------+ Ubuntu 18.04 ARM Kernel: 4.15.0-132-generic Compiler: gcc 7.5 NIC: Arm Intel Corporation Ethernet Converged Network Adapter XL710-QDA2 40000 Mbps Target: x86_64-native-linuxapp-gcc Fail/Total: 0/2 Detail performance results: +------------+---------+-------------------------------------+ | frame_size | txd/rxd | throughput difference from expected | +============+=========+=====================================+ | 64 | 512 | -0.11388% | +------------+---------+-------------------------------------+ | 64 | 2048 | -0.05707% | +------------+---------+-------------------------------------+ To view detailed results, visit: https://lab.dpdk.org/results/dashboard/patchsets/17011/ UNH-IOL DPDK Community Lab To manage your email subscriptions, visit: https://lab.dpdk.org/results/dashboard/preferences/subscriptions/