[-- Attachment #1: Type: text/plain, Size: 1249 bytes --] Test-Label: iol-intel-Performance Test-Status: SUCCESS http://dpdk.org/patch/93079 _Performance Testing PASS_ Submitter: Wenzhuo Lu <wenzhuo.lu@intel.com> Date: Monday, May 10 2021 01:32:51 DPDK git baseline: Repo:dpdk Branch: master CommitID:627c5b41bb14a1afbd1489b0fc4b8224532a823d 93079 --> performance testing pass Test environment and result as below: Ubuntu 18.04 Kernel: 4.15.0-generic Compiler: gcc 7.4 NIC: Intel Corporation Ethernet Converged Network Adapter 82599ES 10000 Mbps Target: x86_64-native-linuxapp-gcc Fail/Total: 0/2 Detail performance results: +------------+---------+-------------------------------------+ | frame_size | txd/rxd | throughput difference from expected | +============+=========+=====================================+ | 64 | 512 | -0.55662% | +------------+---------+-------------------------------------+ | 64 | 2048 | 0.68824% | +------------+---------+-------------------------------------+ To view detailed results, visit: https://lab.dpdk.org/results/dashboard/patchsets/17003/ UNH-IOL DPDK Community Lab To manage your email subscriptions, visit: https://lab.dpdk.org/results/dashboard/preferences/subscriptions/
[-- Attachment #1: Type: text/plain, Size: 1718 bytes --] Test-Label: iol-mellanox-Performance Test-Status: SUCCESS http://dpdk.org/patch/93079 _Performance Testing PASS_ Submitter: Wenzhuo Lu <wenzhuo.lu@intel.com> Date: Monday, May 10 2021 01:32:51 DPDK git baseline: Repo:dpdk Branch: master CommitID:627c5b41bb14a1afbd1489b0fc4b8224532a823d 93079 --> performance testing pass Test environment and result as below: Ubuntu 18.04 Kernel: 4.15.0-generic Compiler: gcc 7.4 NIC: Mellanox ConnectX-4 Lx 40000 Mbps Target: x86_64-native-linuxapp-gcc Fail/Total: 0/6 Detail performance results: +------------+---------+-------------------------------------+ | frame_size | txd/rxd | throughput difference from expected | +============+=========+=====================================+ | 64 | 256 | 1.1132% | +------------+---------+-------------------------------------+ | 128 | 256 | 0.02576% | +------------+---------+-------------------------------------+ | 256 | 256 | 0.14268% | +------------+---------+-------------------------------------+ | 512 | 256 | -0.04261% | +------------+---------+-------------------------------------+ | 1024 | 256 | -0.15661% | +------------+---------+-------------------------------------+ | 1518 | 256 | -0.1384% | +------------+---------+-------------------------------------+ To view detailed results, visit: https://lab.dpdk.org/results/dashboard/patchsets/17003/ UNH-IOL DPDK Community Lab To manage your email subscriptions, visit: https://lab.dpdk.org/results/dashboard/preferences/subscriptions/
[-- Attachment #1: Type: text/plain, Size: 4632 bytes --] Test-Label: iol-testing Test-Status: SUCCESS http://dpdk.org/patch/93079 _Testing PASS_ Submitter: Wenzhuo Lu <wenzhuo.lu@intel.com> Date: Monday, May 10 2021 01:32:51 DPDK git baseline: Repo:dpdk Branch: master CommitID:627c5b41bb14a1afbd1489b0fc4b8224532a823d 93079 --> testing pass Test environment and result as below: +---------------------+----------------------+-------------------+--------------------+----------------+ | Environment | dpdk_mingw64_compile | dpdk_compile_spdk | dpdk_meson_compile | dpdk_unit_test | +=====================+======================+===================+====================+================+ | Windows Server 2019 | PASS | SKIPPED | PASS | SKIPPED | +---------------------+----------------------+-------------------+--------------------+----------------+ | Ubuntu 18.04 | SKIPPED | PASS | PASS | PASS | +---------------------+----------------------+-------------------+--------------------+----------------+ | Fedora 31 | SKIPPED | SKIPPED | PASS | SKIPPED | +---------------------+----------------------+-------------------+--------------------+----------------+ | Ubuntu 18.04 ARM | SKIPPED | SKIPPED | PASS | SKIPPED | +---------------------+----------------------+-------------------+--------------------+----------------+ | FreeBSD 11.2 | SKIPPED | SKIPPED | PASS | SKIPPED | +---------------------+----------------------+-------------------+--------------------+----------------+ | CentOS 8 | SKIPPED | SKIPPED | PASS | SKIPPED | +---------------------+----------------------+-------------------+--------------------+----------------+ | CentOS Stream 8 | SKIPPED | SKIPPED | PASS | SKIPPED | +---------------------+----------------------+-------------------+--------------------+----------------+ | Fedora 32 | SKIPPED | SKIPPED | PASS | SKIPPED | +---------------------+----------------------+-------------------+--------------------+----------------+ | Ubuntu 20.04 | SKIPPED | SKIPPED | PASS | SKIPPED | +---------------------+----------------------+-------------------+--------------------+----------------+ | RHEL8 | SKIPPED | SKIPPED | PASS | SKIPPED | +---------------------+----------------------+-------------------+--------------------+----------------+ | Arch Linux | SKIPPED | SKIPPED | PASS | SKIPPED | +---------------------+----------------------+-------------------+--------------------+----------------+ | RHEL 7 | SKIPPED | SKIPPED | PASS | SKIPPED | +---------------------+----------------------+-------------------+--------------------+----------------+ | openSUSE Leap 15 | SKIPPED | SKIPPED | PASS | SKIPPED | +---------------------+----------------------+-------------------+--------------------+----------------+ Windows Server 2019 Kernel: 10.0 Compiler: clang 9.0 and gcc 8.1.0 (MinGW) Ubuntu 18.04 Kernel: 4.18.0-240.10.1.el8_3.x86_64 Compiler: gcc 7.5.0-3ubuntu1~18.04 Fedora 31 Kernel: 4.18.0-240.10.1.el8_3.x86_64 Compiler: gcc 9.3.1 Ubuntu 18.04 ARM Kernel: 5.4.0-53-generic Compiler: gcc 9.3 FreeBSD 11.2 Kernel: 11.2 Compiler: gcc 8.3 CentOS 8 Kernel: 4.18.0-240.10.1.el8_3.x86_64 Compiler: gcc 8.3.1 20191121 (Red Hat 8.3.1-5) CentOS Stream 8 Kernel: 4.18.0-240.10.1.el8_3.x86_64 Compiler: gcc 8.4.1 20200928 Fedora 32 Kernel: 4.18.0-240.10.1.el8_3.x86_64 Compiler: gcc 10.2.1 Ubuntu 20.04 Kernel: 4.18.0-240.10.1.el8_3.x86_64 Compiler: gcc 9.3.0-17ubuntu1~20.04 RHEL8 Kernel: 4.18.0-240.10.1.el8_3.x86_64 Compiler: gcc 8.3.1 20191121 (Red Hat 8.3.1-5) Arch Linux Kernel: 4.18.0-240.10.1.el8_3.x86_64 Compiler: gcc 10.2.0 RHEL 7 Kernel: 4.18.0-240.10.1.el8_3.x86_64 Compiler: gcc 4.8.5 20150623 (Red Hat 4.8.5-44) openSUSE Leap 15 Kernel: 4.18.0-240.10.1.el8_3.x86_64 Compiler: gcc 7.5.0 To view detailed results, visit: https://lab.dpdk.org/results/dashboard/patchsets/17003/ UNH-IOL DPDK Community Lab To manage your email subscriptions, visit: https://lab.dpdk.org/results/dashboard/preferences/subscriptions/
[-- Attachment #1: Type: text/plain, Size: 2266 bytes --] Test-Label: iol-abi-testing Test-Status: SUCCESS http://dpdk.org/patch/93079 _Testing PASS_ Submitter: Wenzhuo Lu <wenzhuo.lu@intel.com> Date: Monday, May 10 2021 01:32:51 DPDK git baseline: Repo:dpdk Branch: master CommitID:627c5b41bb14a1afbd1489b0fc4b8224532a823d 93079 --> testing pass Test environment and result as below: +------------------+----------+ | Environment | abi_test | +==================+==========+ | Ubuntu 18.04 ARM | PASS | +------------------+----------+ | Arch Linux | PASS | +------------------+----------+ | RHEL 7 | PASS | +------------------+----------+ | Ubuntu 18.04 | PASS | +------------------+----------+ | RHEL8 | PASS | +------------------+----------+ | Ubuntu 20.04 | PASS | +------------------+----------+ | CentOS 8 | PASS | +------------------+----------+ | openSUSE Leap 15 | PASS | +------------------+----------+ | CentOS Stream 8 | PASS | +------------------+----------+ | Fedora 32 | PASS | +------------------+----------+ | Fedora 31 | PASS | +------------------+----------+ Ubuntu 18.04 ARM Kernel: 5.4.0-53-generic Compiler: gcc 9.3 Arch Linux Kernel: 4.18.0-240.10.1.el8_3.x86_64 Compiler: gcc 10.2.0 RHEL 7 Kernel: 4.18.0-240.10.1.el8_3.x86_64 Compiler: gcc 4.8.5 20150623 (Red Hat 4.8.5-44) Ubuntu 18.04 Kernel: 4.18.0-240.10.1.el8_3.x86_64 Compiler: gcc 7.5.0-3ubuntu1~18.04 RHEL8 Kernel: 4.18.0-240.10.1.el8_3.x86_64 Compiler: gcc 8.3.1 20191121 (Red Hat 8.3.1-5) Ubuntu 20.04 Kernel: 4.18.0-240.10.1.el8_3.x86_64 Compiler: gcc 9.3.0-17ubuntu1~20.04 CentOS 8 Kernel: 4.18.0-240.10.1.el8_3.x86_64 Compiler: gcc 8.3.1 20191121 (Red Hat 8.3.1-5) openSUSE Leap 15 Kernel: 4.18.0-240.10.1.el8_3.x86_64 Compiler: gcc 7.5.0 CentOS Stream 8 Kernel: 4.18.0-240.10.1.el8_3.x86_64 Compiler: gcc 8.4.1 20200928 Fedora 32 Kernel: 4.18.0-240.10.1.el8_3.x86_64 Compiler: gcc 10.2.1 Fedora 31 Kernel: 4.18.0-240.10.1.el8_3.x86_64 Compiler: gcc 9.3.1 To view detailed results, visit: https://lab.dpdk.org/results/dashboard/patchsets/17003/ UNH-IOL DPDK Community Lab To manage your email subscriptions, visit: https://lab.dpdk.org/results/dashboard/preferences/subscriptions/
[-- Attachment #1: Type: text/plain, Size: 776 bytes --] Test-Label: iol-intel-Functional Test-Status: SUCCESS http://dpdk.org/patch/93079 _Functional Testing PASS_ Submitter: Wenzhuo Lu <wenzhuo.lu@intel.com> Date: Monday, May 10 2021 01:32:51 DPDK git baseline: Repo:dpdk Branch: master CommitID:627c5b41bb14a1afbd1489b0fc4b8224532a823d 93079 --> functional testing pass Test environment and result as below: Ubuntu 18.04 Kernel: 4.15.0-generic Compiler: gcc 7.4 NIC: Intel Corporation Ethernet Converged Network Adapter 82599ES 10000 Mbps Target: x86_64-native-linuxapp-gcc Fail/Total: 0/5 To view detailed results, visit: https://lab.dpdk.org/results/dashboard/patchsets/17003/ UNH-IOL DPDK Community Lab To manage your email subscriptions, visit: https://lab.dpdk.org/results/dashboard/preferences/subscriptions/
[-- Attachment #1: Type: text/plain, Size: 2838 bytes --] Test-Label: iol-mellanox-Performance Test-Status: SUCCESS http://dpdk.org/patch/93079 _Performance Testing PASS_ Submitter: Wenzhuo Lu <wenzhuo.lu@intel.com> Date: Monday, May 10 2021 01:32:51 DPDK git baseline: Repo:dpdk Branch: master CommitID:627c5b41bb14a1afbd1489b0fc4b8224532a823d 93079 --> performance testing pass Test environment and result as below: Ubuntu 18.04 Kernel: 4.15.0-generic Compiler: gcc 7.4 NIC: Mellanox ConnectX-4 Lx 40000 Mbps Target: x86_64-native-linuxapp-gcc Fail/Total: 0/6 Detail performance results: +------------+---------+-------------------------------------+ | frame_size | txd/rxd | throughput difference from expected | +============+=========+=====================================+ | 64 | 256 | 1.1132% | +------------+---------+-------------------------------------+ | 128 | 256 | 0.02576% | +------------+---------+-------------------------------------+ | 256 | 256 | 0.14268% | +------------+---------+-------------------------------------+ | 512 | 256 | -0.04261% | +------------+---------+-------------------------------------+ | 1024 | 256 | -0.15661% | +------------+---------+-------------------------------------+ | 1518 | 256 | -0.1384% | +------------+---------+-------------------------------------+ Ubuntu 18.04 Kernel: 4.15.0-generic Compiler: gcc 7.4 NIC: Mellanox ConnectX-4 Lx 25000 Mbps Target: x86_64-native-linuxapp-gcc Fail/Total: 0/6 Detail performance results: +------------+---------+-------------------------------------+ | frame_size | txd/rxd | throughput difference from expected | +============+=========+=====================================+ | 64 | 256 | -0.18094% | +------------+---------+-------------------------------------+ | 128 | 256 | -0.14858% | +------------+---------+-------------------------------------+ | 256 | 256 | -0.63906% | +------------+---------+-------------------------------------+ | 512 | 256 | -0.31673% | +------------+---------+-------------------------------------+ | 1024 | 256 | 0.18404% | +------------+---------+-------------------------------------+ | 1518 | 256 | -0.04921% | +------------+---------+-------------------------------------+ To view detailed results, visit: https://lab.dpdk.org/results/dashboard/patchsets/17003/ UNH-IOL DPDK Community Lab To manage your email subscriptions, visit: https://lab.dpdk.org/results/dashboard/preferences/subscriptions/
[-- Attachment #1: Type: text/plain, Size: 3956 bytes --] Test-Label: iol-mellanox-Performance Test-Status: SUCCESS http://dpdk.org/patch/93079 _Performance Testing PASS_ Submitter: Wenzhuo Lu <wenzhuo.lu@intel.com> Date: Monday, May 10 2021 01:32:51 DPDK git baseline: Repo:dpdk Branch: master CommitID:627c5b41bb14a1afbd1489b0fc4b8224532a823d 93079 --> performance testing pass Test environment and result as below: Ubuntu 18.04 Kernel: 4.15.0-generic Compiler: gcc 7.4 NIC: Mellanox ConnectX-4 Lx 40000 Mbps Target: x86_64-native-linuxapp-gcc Fail/Total: 0/6 Detail performance results: +------------+---------+-------------------------------------+ | frame_size | txd/rxd | throughput difference from expected | +============+=========+=====================================+ | 64 | 256 | 1.1132% | +------------+---------+-------------------------------------+ | 128 | 256 | 0.02576% | +------------+---------+-------------------------------------+ | 256 | 256 | 0.14268% | +------------+---------+-------------------------------------+ | 512 | 256 | -0.04261% | +------------+---------+-------------------------------------+ | 1024 | 256 | -0.15661% | +------------+---------+-------------------------------------+ | 1518 | 256 | -0.1384% | +------------+---------+-------------------------------------+ Ubuntu 18.04 Kernel: 4.15.0-generic Compiler: gcc 7.4 NIC: Mellanox ConnectX-4 Lx 25000 Mbps Target: x86_64-native-linuxapp-gcc Fail/Total: 0/6 Detail performance results: +------------+---------+-------------------------------------+ | frame_size | txd/rxd | throughput difference from expected | +============+=========+=====================================+ | 64 | 256 | -0.18094% | +------------+---------+-------------------------------------+ | 128 | 256 | -0.14858% | +------------+---------+-------------------------------------+ | 256 | 256 | -0.63906% | +------------+---------+-------------------------------------+ | 512 | 256 | -0.31673% | +------------+---------+-------------------------------------+ | 1024 | 256 | 0.18404% | +------------+---------+-------------------------------------+ | 1518 | 256 | -0.04921% | +------------+---------+-------------------------------------+ Ubuntu 18.04 Kernel: 4.15.0-generic Compiler: gcc 7.4 NIC: Mellanox ConnectX-5 100000 Mbps Target: x86_64-native-linuxapp-gcc Fail/Total: 0/6 Detail performance results: +------------+---------+-------------------------------------+ | frame_size | txd/rxd | throughput difference from expected | +============+=========+=====================================+ | 64 | 256 | -0.38317% | +------------+---------+-------------------------------------+ | 128 | 256 | 0.09572% | +------------+---------+-------------------------------------+ | 256 | 256 | -0.28459% | +------------+---------+-------------------------------------+ | 512 | 256 | 0.52844% | +------------+---------+-------------------------------------+ | 1024 | 256 | -0.27112% | +------------+---------+-------------------------------------+ | 1518 | 256 | -0.09384% | +------------+---------+-------------------------------------+ To view detailed results, visit: https://lab.dpdk.org/results/dashboard/patchsets/17003/ UNH-IOL DPDK Community Lab To manage your email subscriptions, visit: https://lab.dpdk.org/results/dashboard/preferences/subscriptions/
[-- Attachment #1: Type: text/plain, Size: 1918 bytes --] Test-Label: iol-intel-Performance Test-Status: SUCCESS http://dpdk.org/patch/93079 _Performance Testing PASS_ Submitter: Wenzhuo Lu <wenzhuo.lu@intel.com> Date: Monday, May 10 2021 01:32:51 DPDK git baseline: Repo:dpdk Branch: master CommitID:627c5b41bb14a1afbd1489b0fc4b8224532a823d 93079 --> performance testing pass Test environment and result as below: Ubuntu 18.04 Kernel: 4.15.0-generic Compiler: gcc 7.4 NIC: Intel Corporation Ethernet Converged Network Adapter 82599ES 10000 Mbps Target: x86_64-native-linuxapp-gcc Fail/Total: 0/2 Detail performance results: +------------+---------+-------------------------------------+ | frame_size | txd/rxd | throughput difference from expected | +============+=========+=====================================+ | 64 | 512 | -0.55662% | +------------+---------+-------------------------------------+ | 64 | 2048 | 0.68824% | +------------+---------+-------------------------------------+ Ubuntu 18.04 ARM Kernel: 4.15.0-132-generic Compiler: gcc 7.5 NIC: Arm Intel Corporation Ethernet Converged Network Adapter XL710-QDA2 40000 Mbps Target: x86_64-native-linuxapp-gcc Fail/Total: 0/2 Detail performance results: +------------+---------+-------------------------------------+ | frame_size | txd/rxd | throughput difference from expected | +============+=========+=====================================+ | 64 | 512 | -0.31317% | +------------+---------+-------------------------------------+ | 64 | 2048 | -0.09987% | +------------+---------+-------------------------------------+ To view detailed results, visit: https://lab.dpdk.org/results/dashboard/patchsets/17003/ UNH-IOL DPDK Community Lab To manage your email subscriptions, visit: https://lab.dpdk.org/results/dashboard/preferences/subscriptions/
[-- Attachment #1: Type: text/plain, Size: 4833 bytes --] Test-Label: iol-mellanox-Performance Test-Status: SUCCESS http://dpdk.org/patch/93079 _Performance Testing PASS_ Submitter: Wenzhuo Lu <wenzhuo.lu@intel.com> Date: Monday, May 10 2021 01:32:51 DPDK git baseline: Repo:dpdk Branch: master CommitID:627c5b41bb14a1afbd1489b0fc4b8224532a823d 93079 --> performance testing pass Test environment and result as below: Ubuntu 18.04 Kernel: 4.15.0-generic Compiler: gcc 7.4 NIC: Mellanox ConnectX-4 Lx 40000 Mbps Target: x86_64-native-linuxapp-gcc Fail/Total: 0/6 Detail performance results: +------------+---------+-------------------------------------+ | frame_size | txd/rxd | throughput difference from expected | +============+=========+=====================================+ | 64 | 256 | 1.1132% | +------------+---------+-------------------------------------+ | 128 | 256 | 0.02576% | +------------+---------+-------------------------------------+ | 256 | 256 | 0.14268% | +------------+---------+-------------------------------------+ | 512 | 256 | -0.04261% | +------------+---------+-------------------------------------+ | 1024 | 256 | -0.15661% | +------------+---------+-------------------------------------+ | 1518 | 256 | -0.1384% | +------------+---------+-------------------------------------+ Ubuntu 18.04 Kernel: 4.15.0-generic Compiler: gcc 7.4 NIC: Mellanox ConnectX-4 Lx 25000 Mbps Target: x86_64-native-linuxapp-gcc Fail/Total: 0/6 Detail performance results: +------------+---------+-------------------------------------+ | frame_size | txd/rxd | throughput difference from expected | +============+=========+=====================================+ | 64 | 256 | -0.18094% | +------------+---------+-------------------------------------+ | 128 | 256 | -0.14858% | +------------+---------+-------------------------------------+ | 256 | 256 | -0.63906% | +------------+---------+-------------------------------------+ | 512 | 256 | -0.31673% | +------------+---------+-------------------------------------+ | 1024 | 256 | 0.18404% | +------------+---------+-------------------------------------+ | 1518 | 256 | -0.04921% | +------------+---------+-------------------------------------+ Ubuntu 18.04 Kernel: 4.15.0-generic Compiler: gcc 7.4 NIC: Mellanox ConnectX-5 100000 Mbps Target: x86_64-native-linuxapp-gcc Fail/Total: 0/6 Detail performance results: +------------+---------+-------------------------------------+ | frame_size | txd/rxd | throughput difference from expected | +============+=========+=====================================+ | 64 | 256 | -0.38317% | +------------+---------+-------------------------------------+ | 128 | 256 | 0.09572% | +------------+---------+-------------------------------------+ | 256 | 256 | -0.28459% | +------------+---------+-------------------------------------+ | 512 | 256 | 0.52844% | +------------+---------+-------------------------------------+ | 1024 | 256 | -0.27112% | +------------+---------+-------------------------------------+ | 1518 | 256 | -0.09384% | +------------+---------+-------------------------------------+ Ubuntu 18.04 ARM Kernel: 4.15.0-132-generic Compiler: gcc 7.5 NIC: Arm Mellanox ConnectX-5 10000 Mbps Target: x86_64-native-linuxapp-gcc Fail/Total: 0/4 Detail performance results: +------------+---------+-------------------------------------+ | frame_size | txd/rxd | throughput difference from expected | +============+=========+=====================================+ | 64 | 128 | 0.03217% | +------------+---------+-------------------------------------+ | 64 | 256 | -0.11818% | +------------+---------+-------------------------------------+ | 64 | 512 | 1.93046% | +------------+---------+-------------------------------------+ | 64 | 2048 | -0.15041% | +------------+---------+-------------------------------------+ To view detailed results, visit: https://lab.dpdk.org/results/dashboard/patchsets/17003/ UNH-IOL DPDK Community Lab To manage your email subscriptions, visit: https://lab.dpdk.org/results/dashboard/preferences/subscriptions/