Test-Label: checkpatch Test-Status: SUCCESS http://dpdk.org/patch/93112 _coding style OK_
[-- Attachment #1: Type: text/plain, Size: 786 bytes --] Test-Label: iol-intel-Functional Test-Status: SUCCESS http://dpdk.org/patch/93112 _Functional Testing PASS_ Submitter: Heinrich Kuhn <heinrich.kuhn@netronome.com> Date: Monday, May 10 2021 16:45:50 DPDK git baseline: Repo:dpdk Branch: master CommitID:627c5b41bb14a1afbd1489b0fc4b8224532a823d 93112 --> functional testing pass Test environment and result as below: Ubuntu 18.04 Kernel: 4.15.0-generic Compiler: gcc 7.4 NIC: Intel Corporation Ethernet Converged Network Adapter 82599ES 10000 Mbps Target: x86_64-native-linuxapp-gcc Fail/Total: 0/5 To view detailed results, visit: https://lab.dpdk.org/results/dashboard/patchsets/17021/ UNH-IOL DPDK Community Lab To manage your email subscriptions, visit: https://lab.dpdk.org/results/dashboard/preferences/subscriptions/
[-- Attachment #1: Type: text/plain, Size: 1259 bytes --] Test-Label: iol-intel-Performance Test-Status: SUCCESS http://dpdk.org/patch/93112 _Performance Testing PASS_ Submitter: Heinrich Kuhn <heinrich.kuhn@netronome.com> Date: Monday, May 10 2021 16:45:50 DPDK git baseline: Repo:dpdk Branch: master CommitID:627c5b41bb14a1afbd1489b0fc4b8224532a823d 93112 --> performance testing pass Test environment and result as below: Ubuntu 18.04 Kernel: 4.15.0-generic Compiler: gcc 7.4 NIC: Intel Corporation Ethernet Converged Network Adapter 82599ES 10000 Mbps Target: x86_64-native-linuxapp-gcc Fail/Total: 0/2 Detail performance results: +------------+---------+-------------------------------------+ | frame_size | txd/rxd | throughput difference from expected | +============+=========+=====================================+ | 64 | 512 | -0.01746% | +------------+---------+-------------------------------------+ | 64 | 2048 | 0.45412% | +------------+---------+-------------------------------------+ To view detailed results, visit: https://lab.dpdk.org/results/dashboard/patchsets/17021/ UNH-IOL DPDK Community Lab To manage your email subscriptions, visit: https://lab.dpdk.org/results/dashboard/preferences/subscriptions/
[-- Attachment #1: Type: text/plain, Size: 4642 bytes --] Test-Label: iol-testing Test-Status: SUCCESS http://dpdk.org/patch/93112 _Testing PASS_ Submitter: Heinrich Kuhn <heinrich.kuhn@netronome.com> Date: Monday, May 10 2021 16:45:50 DPDK git baseline: Repo:dpdk Branch: master CommitID:627c5b41bb14a1afbd1489b0fc4b8224532a823d 93112 --> testing pass Test environment and result as below: +---------------------+----------------------+--------------------+-------------------+----------------+ | Environment | dpdk_mingw64_compile | dpdk_meson_compile | dpdk_compile_spdk | dpdk_unit_test | +=====================+======================+====================+===================+================+ | Windows Server 2019 | PASS | PASS | SKIPPED | SKIPPED | +---------------------+----------------------+--------------------+-------------------+----------------+ | Ubuntu 18.04 | SKIPPED | PASS | PASS | PASS | +---------------------+----------------------+--------------------+-------------------+----------------+ | CentOS 8 | SKIPPED | PASS | SKIPPED | SKIPPED | +---------------------+----------------------+--------------------+-------------------+----------------+ | Ubuntu 18.04 ARM | SKIPPED | PASS | SKIPPED | SKIPPED | +---------------------+----------------------+--------------------+-------------------+----------------+ | Ubuntu 20.04 | SKIPPED | PASS | SKIPPED | SKIPPED | +---------------------+----------------------+--------------------+-------------------+----------------+ | Fedora 32 | SKIPPED | PASS | SKIPPED | SKIPPED | +---------------------+----------------------+--------------------+-------------------+----------------+ | Fedora 31 | SKIPPED | PASS | SKIPPED | SKIPPED | +---------------------+----------------------+--------------------+-------------------+----------------+ | CentOS Stream 8 | SKIPPED | PASS | SKIPPED | SKIPPED | +---------------------+----------------------+--------------------+-------------------+----------------+ | openSUSE Leap 15 | SKIPPED | PASS | SKIPPED | SKIPPED | +---------------------+----------------------+--------------------+-------------------+----------------+ | RHEL 7 | SKIPPED | PASS | SKIPPED | SKIPPED | +---------------------+----------------------+--------------------+-------------------+----------------+ | RHEL8 | SKIPPED | PASS | SKIPPED | SKIPPED | +---------------------+----------------------+--------------------+-------------------+----------------+ | FreeBSD 11.2 | SKIPPED | PASS | SKIPPED | SKIPPED | +---------------------+----------------------+--------------------+-------------------+----------------+ | Arch Linux | SKIPPED | PASS | SKIPPED | SKIPPED | +---------------------+----------------------+--------------------+-------------------+----------------+ Windows Server 2019 Kernel: 10.0 Compiler: clang 9.0 and gcc 8.1.0 (MinGW) Ubuntu 18.04 Kernel: 4.18.0-240.10.1.el8_3.x86_64 Compiler: gcc 7.5.0-3ubuntu1~18.04 CentOS 8 Kernel: 4.18.0-240.10.1.el8_3.x86_64 Compiler: gcc 8.3.1 20191121 (Red Hat 8.3.1-5) Ubuntu 18.04 ARM Kernel: 5.4.0-53-generic Compiler: gcc 9.3 Ubuntu 20.04 Kernel: 4.18.0-240.10.1.el8_3.x86_64 Compiler: gcc 9.3.0-17ubuntu1~20.04 Fedora 32 Kernel: 4.18.0-240.10.1.el8_3.x86_64 Compiler: gcc 10.2.1 Fedora 31 Kernel: 4.18.0-240.10.1.el8_3.x86_64 Compiler: gcc 9.3.1 CentOS Stream 8 Kernel: 4.18.0-240.10.1.el8_3.x86_64 Compiler: gcc 8.4.1 20200928 openSUSE Leap 15 Kernel: 4.18.0-240.10.1.el8_3.x86_64 Compiler: gcc 7.5.0 RHEL 7 Kernel: 4.18.0-240.10.1.el8_3.x86_64 Compiler: gcc 4.8.5 20150623 (Red Hat 4.8.5-44) RHEL8 Kernel: 4.18.0-240.10.1.el8_3.x86_64 Compiler: gcc 8.3.1 20191121 (Red Hat 8.3.1-5) FreeBSD 11.2 Kernel: 11.2 Compiler: gcc 8.3 Arch Linux Kernel: 4.18.0-240.10.1.el8_3.x86_64 Compiler: gcc 10.2.0 To view detailed results, visit: https://lab.dpdk.org/results/dashboard/patchsets/17021/ UNH-IOL DPDK Community Lab To manage your email subscriptions, visit: https://lab.dpdk.org/results/dashboard/preferences/subscriptions/
From: robot@bytheb.org Test-Label: github-robot Test-Status: SUCCESS http://patchwork.dpdk.org/patch/93112/ _github build: passed_ Build URL: https://github.com/ovsrobot/dpdk/actions/runs/828836314
[-- Attachment #1: Type: text/plain, Size: 2276 bytes --] Test-Label: iol-abi-testing Test-Status: SUCCESS http://dpdk.org/patch/93112 _Testing PASS_ Submitter: Heinrich Kuhn <heinrich.kuhn@netronome.com> Date: Monday, May 10 2021 16:45:50 DPDK git baseline: Repo:dpdk Branch: master CommitID:627c5b41bb14a1afbd1489b0fc4b8224532a823d 93112 --> testing pass Test environment and result as below: +------------------+----------+ | Environment | abi_test | +==================+==========+ | Ubuntu 18.04 ARM | PASS | +------------------+----------+ | Ubuntu 20.04 | PASS | +------------------+----------+ | CentOS 8 | PASS | +------------------+----------+ | Ubuntu 18.04 | PASS | +------------------+----------+ | RHEL 7 | PASS | +------------------+----------+ | Fedora 31 | PASS | +------------------+----------+ | Fedora 32 | PASS | +------------------+----------+ | openSUSE Leap 15 | PASS | +------------------+----------+ | CentOS Stream 8 | PASS | +------------------+----------+ | RHEL8 | PASS | +------------------+----------+ | Arch Linux | PASS | +------------------+----------+ Ubuntu 18.04 ARM Kernel: 5.4.0-53-generic Compiler: gcc 9.3 Ubuntu 20.04 Kernel: 4.18.0-240.10.1.el8_3.x86_64 Compiler: gcc 9.3.0-17ubuntu1~20.04 CentOS 8 Kernel: 4.18.0-240.10.1.el8_3.x86_64 Compiler: gcc 8.3.1 20191121 (Red Hat 8.3.1-5) Ubuntu 18.04 Kernel: 4.18.0-240.10.1.el8_3.x86_64 Compiler: gcc 7.5.0-3ubuntu1~18.04 RHEL 7 Kernel: 4.18.0-240.10.1.el8_3.x86_64 Compiler: gcc 4.8.5 20150623 (Red Hat 4.8.5-44) Fedora 31 Kernel: 4.18.0-240.10.1.el8_3.x86_64 Compiler: gcc 9.3.1 Fedora 32 Kernel: 4.18.0-240.10.1.el8_3.x86_64 Compiler: gcc 10.2.1 openSUSE Leap 15 Kernel: 4.18.0-240.10.1.el8_3.x86_64 Compiler: gcc 7.5.0 CentOS Stream 8 Kernel: 4.18.0-240.10.1.el8_3.x86_64 Compiler: gcc 8.4.1 20200928 RHEL8 Kernel: 4.18.0-240.10.1.el8_3.x86_64 Compiler: gcc 8.3.1 20191121 (Red Hat 8.3.1-5) Arch Linux Kernel: 4.18.0-240.10.1.el8_3.x86_64 Compiler: gcc 10.2.0 To view detailed results, visit: https://lab.dpdk.org/results/dashboard/patchsets/17021/ UNH-IOL DPDK Community Lab To manage your email subscriptions, visit: https://lab.dpdk.org/results/dashboard/preferences/subscriptions/
[-- Attachment #1: Type: text/plain, Size: 1726 bytes --] Test-Label: iol-mellanox-Performance Test-Status: SUCCESS http://dpdk.org/patch/93112 _Performance Testing PASS_ Submitter: Heinrich Kuhn <heinrich.kuhn@netronome.com> Date: Monday, May 10 2021 16:45:50 DPDK git baseline: Repo:dpdk Branch: master CommitID:627c5b41bb14a1afbd1489b0fc4b8224532a823d 93112 --> performance testing pass Test environment and result as below: Ubuntu 18.04 Kernel: 4.15.0-generic Compiler: gcc 7.4 NIC: Mellanox ConnectX-5 100000 Mbps Target: x86_64-native-linuxapp-gcc Fail/Total: 0/6 Detail performance results: +------------+---------+-------------------------------------+ | frame_size | txd/rxd | throughput difference from expected | +============+=========+=====================================+ | 64 | 256 | -0.33628% | +------------+---------+-------------------------------------+ | 128 | 256 | -0.34237% | +------------+---------+-------------------------------------+ | 256 | 256 | 0.31954% | +------------+---------+-------------------------------------+ | 512 | 256 | 1.25672% | +------------+---------+-------------------------------------+ | 1024 | 256 | 1.24545% | +------------+---------+-------------------------------------+ | 1518 | 256 | -0.22287% | +------------+---------+-------------------------------------+ To view detailed results, visit: https://lab.dpdk.org/results/dashboard/patchsets/17021/ UNH-IOL DPDK Community Lab To manage your email subscriptions, visit: https://lab.dpdk.org/results/dashboard/preferences/subscriptions/
[-- Attachment #1: Type: text/plain, Size: 2846 bytes --] Test-Label: iol-mellanox-Performance Test-Status: SUCCESS http://dpdk.org/patch/93112 _Performance Testing PASS_ Submitter: Heinrich Kuhn <heinrich.kuhn@netronome.com> Date: Monday, May 10 2021 16:45:50 DPDK git baseline: Repo:dpdk Branch: master CommitID:627c5b41bb14a1afbd1489b0fc4b8224532a823d 93112 --> performance testing pass Test environment and result as below: Ubuntu 18.04 Kernel: 4.15.0-generic Compiler: gcc 7.4 NIC: Mellanox ConnectX-5 100000 Mbps Target: x86_64-native-linuxapp-gcc Fail/Total: 0/6 Detail performance results: +------------+---------+-------------------------------------+ | frame_size | txd/rxd | throughput difference from expected | +============+=========+=====================================+ | 64 | 256 | -0.33628% | +------------+---------+-------------------------------------+ | 128 | 256 | -0.34237% | +------------+---------+-------------------------------------+ | 256 | 256 | 0.31954% | +------------+---------+-------------------------------------+ | 512 | 256 | 1.25672% | +------------+---------+-------------------------------------+ | 1024 | 256 | 1.24545% | +------------+---------+-------------------------------------+ | 1518 | 256 | -0.22287% | +------------+---------+-------------------------------------+ Ubuntu 18.04 Kernel: 4.15.0-generic Compiler: gcc 7.4 NIC: Mellanox ConnectX-4 Lx 25000 Mbps Target: x86_64-native-linuxapp-gcc Fail/Total: 0/6 Detail performance results: +------------+---------+-------------------------------------+ | frame_size | txd/rxd | throughput difference from expected | +============+=========+=====================================+ | 64 | 256 | -0.02262% | +------------+---------+-------------------------------------+ | 128 | 256 | 0.01728% | +------------+---------+-------------------------------------+ | 256 | 256 | -0.39631% | +------------+---------+-------------------------------------+ | 512 | 256 | 0.36809% | +------------+---------+-------------------------------------+ | 1024 | 256 | 0.20077% | +------------+---------+-------------------------------------+ | 1518 | 256 | -0.04921% | +------------+---------+-------------------------------------+ To view detailed results, visit: https://lab.dpdk.org/results/dashboard/patchsets/17021/ UNH-IOL DPDK Community Lab To manage your email subscriptions, visit: https://lab.dpdk.org/results/dashboard/preferences/subscriptions/
[-- Attachment #1: Type: text/plain, Size: 3966 bytes --] Test-Label: iol-mellanox-Performance Test-Status: SUCCESS http://dpdk.org/patch/93112 _Performance Testing PASS_ Submitter: Heinrich Kuhn <heinrich.kuhn@netronome.com> Date: Monday, May 10 2021 16:45:50 DPDK git baseline: Repo:dpdk Branch: master CommitID:627c5b41bb14a1afbd1489b0fc4b8224532a823d 93112 --> performance testing pass Test environment and result as below: Ubuntu 18.04 Kernel: 4.15.0-generic Compiler: gcc 7.4 NIC: Mellanox ConnectX-5 100000 Mbps Target: x86_64-native-linuxapp-gcc Fail/Total: 0/6 Detail performance results: +------------+---------+-------------------------------------+ | frame_size | txd/rxd | throughput difference from expected | +============+=========+=====================================+ | 64 | 256 | -0.33628% | +------------+---------+-------------------------------------+ | 128 | 256 | -0.34237% | +------------+---------+-------------------------------------+ | 256 | 256 | 0.31954% | +------------+---------+-------------------------------------+ | 512 | 256 | 1.25672% | +------------+---------+-------------------------------------+ | 1024 | 256 | 1.24545% | +------------+---------+-------------------------------------+ | 1518 | 256 | -0.22287% | +------------+---------+-------------------------------------+ Ubuntu 18.04 Kernel: 4.15.0-generic Compiler: gcc 7.4 NIC: Mellanox ConnectX-4 Lx 25000 Mbps Target: x86_64-native-linuxapp-gcc Fail/Total: 0/6 Detail performance results: +------------+---------+-------------------------------------+ | frame_size | txd/rxd | throughput difference from expected | +============+=========+=====================================+ | 64 | 256 | -0.02262% | +------------+---------+-------------------------------------+ | 128 | 256 | 0.01728% | +------------+---------+-------------------------------------+ | 256 | 256 | -0.39631% | +------------+---------+-------------------------------------+ | 512 | 256 | 0.36809% | +------------+---------+-------------------------------------+ | 1024 | 256 | 0.20077% | +------------+---------+-------------------------------------+ | 1518 | 256 | -0.04921% | +------------+---------+-------------------------------------+ Ubuntu 18.04 Kernel: 4.15.0-generic Compiler: gcc 7.4 NIC: Mellanox ConnectX-4 Lx 40000 Mbps Target: x86_64-native-linuxapp-gcc Fail/Total: 0/6 Detail performance results: +------------+---------+-------------------------------------+ | frame_size | txd/rxd | throughput difference from expected | +============+=========+=====================================+ | 64 | 256 | 0.52806% | +------------+---------+-------------------------------------+ | 128 | 256 | -0.20321% | +------------+---------+-------------------------------------+ | 256 | 256 | -0.01463% | +------------+---------+-------------------------------------+ | 512 | 256 | -0.10651% | +------------+---------+-------------------------------------+ | 1024 | 256 | -0.17749% | +------------+---------+-------------------------------------+ | 1518 | 256 | 0.0% | +------------+---------+-------------------------------------+ To view detailed results, visit: https://lab.dpdk.org/results/dashboard/patchsets/17021/ UNH-IOL DPDK Community Lab To manage your email subscriptions, visit: https://lab.dpdk.org/results/dashboard/preferences/subscriptions/