Test-Label: checkpatch Test-Status: SUCCESS http://dpdk.org/patch/93094 _coding style OK_
[-- Attachment #1: Type: text/plain, Size: 778 bytes --] Test-Label: iol-intel-Functional Test-Status: SUCCESS http://dpdk.org/patch/93094 _Functional Testing PASS_ Submitter: Kevin Laatz <kevin.laatz@intel.com> Date: Monday, May 10 2021 12:55:14 DPDK git baseline: Repo:dpdk Branch: master CommitID:627c5b41bb14a1afbd1489b0fc4b8224532a823d 93094 --> functional testing pass Test environment and result as below: Ubuntu 18.04 Kernel: 4.15.0-generic Compiler: gcc 7.4 NIC: Intel Corporation Ethernet Converged Network Adapter 82599ES 10000 Mbps Target: x86_64-native-linuxapp-gcc Fail/Total: 0/5 To view detailed results, visit: https://lab.dpdk.org/results/dashboard/patchsets/17014/ UNH-IOL DPDK Community Lab To manage your email subscriptions, visit: https://lab.dpdk.org/results/dashboard/preferences/subscriptions/
[-- Attachment #1: Type: text/plain, Size: 4634 bytes --] Test-Label: iol-testing Test-Status: SUCCESS http://dpdk.org/patch/93094 _Testing PASS_ Submitter: Kevin Laatz <kevin.laatz@intel.com> Date: Monday, May 10 2021 12:55:14 DPDK git baseline: Repo:dpdk Branch: master CommitID:627c5b41bb14a1afbd1489b0fc4b8224532a823d 93094 --> testing pass Test environment and result as below: +---------------------+----------------------+--------------------+-------------------+----------------+ | Environment | dpdk_mingw64_compile | dpdk_meson_compile | dpdk_compile_spdk | dpdk_unit_test | +=====================+======================+====================+===================+================+ | Windows Server 2019 | PASS | PASS | SKIPPED | SKIPPED | +---------------------+----------------------+--------------------+-------------------+----------------+ | Fedora 31 | SKIPPED | PASS | SKIPPED | SKIPPED | +---------------------+----------------------+--------------------+-------------------+----------------+ | Ubuntu 18.04 ARM | SKIPPED | PASS | SKIPPED | SKIPPED | +---------------------+----------------------+--------------------+-------------------+----------------+ | FreeBSD 11.2 | SKIPPED | PASS | SKIPPED | SKIPPED | +---------------------+----------------------+--------------------+-------------------+----------------+ | Ubuntu 18.04 | SKIPPED | PASS | PASS | PASS | +---------------------+----------------------+--------------------+-------------------+----------------+ | CentOS 8 | SKIPPED | PASS | SKIPPED | SKIPPED | +---------------------+----------------------+--------------------+-------------------+----------------+ | Fedora 32 | SKIPPED | PASS | SKIPPED | SKIPPED | +---------------------+----------------------+--------------------+-------------------+----------------+ | RHEL8 | SKIPPED | PASS | SKIPPED | SKIPPED | +---------------------+----------------------+--------------------+-------------------+----------------+ | CentOS Stream 8 | SKIPPED | PASS | SKIPPED | SKIPPED | +---------------------+----------------------+--------------------+-------------------+----------------+ | Ubuntu 20.04 | SKIPPED | PASS | SKIPPED | SKIPPED | +---------------------+----------------------+--------------------+-------------------+----------------+ | RHEL 7 | SKIPPED | PASS | SKIPPED | SKIPPED | +---------------------+----------------------+--------------------+-------------------+----------------+ | Arch Linux | SKIPPED | PASS | SKIPPED | SKIPPED | +---------------------+----------------------+--------------------+-------------------+----------------+ | openSUSE Leap 15 | SKIPPED | PASS | SKIPPED | SKIPPED | +---------------------+----------------------+--------------------+-------------------+----------------+ Windows Server 2019 Kernel: 10.0 Compiler: clang 9.0 and gcc 8.1.0 (MinGW) Fedora 31 Kernel: 4.18.0-240.10.1.el8_3.x86_64 Compiler: gcc 9.3.1 Ubuntu 18.04 ARM Kernel: 5.4.0-53-generic Compiler: gcc 9.3 FreeBSD 11.2 Kernel: 11.2 Compiler: gcc 8.3 Ubuntu 18.04 Kernel: 4.18.0-240.10.1.el8_3.x86_64 Compiler: gcc 7.5.0-3ubuntu1~18.04 CentOS 8 Kernel: 4.18.0-240.10.1.el8_3.x86_64 Compiler: gcc 8.3.1 20191121 (Red Hat 8.3.1-5) Fedora 32 Kernel: 4.18.0-240.10.1.el8_3.x86_64 Compiler: gcc 10.2.1 RHEL8 Kernel: 4.18.0-240.10.1.el8_3.x86_64 Compiler: gcc 8.3.1 20191121 (Red Hat 8.3.1-5) CentOS Stream 8 Kernel: 4.18.0-240.10.1.el8_3.x86_64 Compiler: gcc 8.4.1 20200928 Ubuntu 20.04 Kernel: 4.18.0-240.10.1.el8_3.x86_64 Compiler: gcc 9.3.0-17ubuntu1~20.04 RHEL 7 Kernel: 4.18.0-240.10.1.el8_3.x86_64 Compiler: gcc 4.8.5 20150623 (Red Hat 4.8.5-44) Arch Linux Kernel: 4.18.0-240.10.1.el8_3.x86_64 Compiler: gcc 10.2.0 openSUSE Leap 15 Kernel: 4.18.0-240.10.1.el8_3.x86_64 Compiler: gcc 7.5.0 To view detailed results, visit: https://lab.dpdk.org/results/dashboard/patchsets/17014/ UNH-IOL DPDK Community Lab To manage your email subscriptions, visit: https://lab.dpdk.org/results/dashboard/preferences/subscriptions/
[-- Attachment #1: Type: text/plain, Size: 2268 bytes --] Test-Label: iol-abi-testing Test-Status: SUCCESS http://dpdk.org/patch/93094 _Testing PASS_ Submitter: Kevin Laatz <kevin.laatz@intel.com> Date: Monday, May 10 2021 12:55:14 DPDK git baseline: Repo:dpdk Branch: master CommitID:627c5b41bb14a1afbd1489b0fc4b8224532a823d 93094 --> testing pass Test environment and result as below: +------------------+----------+ | Environment | abi_test | +==================+==========+ | Ubuntu 18.04 ARM | PASS | +------------------+----------+ | Ubuntu 20.04 | PASS | +------------------+----------+ | RHEL 7 | PASS | +------------------+----------+ | RHEL8 | PASS | +------------------+----------+ | Ubuntu 18.04 | PASS | +------------------+----------+ | CentOS 8 | PASS | +------------------+----------+ | Arch Linux | PASS | +------------------+----------+ | Fedora 32 | PASS | +------------------+----------+ | CentOS Stream 8 | PASS | +------------------+----------+ | openSUSE Leap 15 | PASS | +------------------+----------+ | Fedora 31 | PASS | +------------------+----------+ Ubuntu 18.04 ARM Kernel: 5.4.0-53-generic Compiler: gcc 9.3 Ubuntu 20.04 Kernel: 4.18.0-240.10.1.el8_3.x86_64 Compiler: gcc 9.3.0-17ubuntu1~20.04 RHEL 7 Kernel: 4.18.0-240.10.1.el8_3.x86_64 Compiler: gcc 4.8.5 20150623 (Red Hat 4.8.5-44) RHEL8 Kernel: 4.18.0-240.10.1.el8_3.x86_64 Compiler: gcc 8.3.1 20191121 (Red Hat 8.3.1-5) Ubuntu 18.04 Kernel: 4.18.0-240.10.1.el8_3.x86_64 Compiler: gcc 7.5.0-3ubuntu1~18.04 CentOS 8 Kernel: 4.18.0-240.10.1.el8_3.x86_64 Compiler: gcc 8.3.1 20191121 (Red Hat 8.3.1-5) Arch Linux Kernel: 4.18.0-240.10.1.el8_3.x86_64 Compiler: gcc 10.2.0 Fedora 32 Kernel: 4.18.0-240.10.1.el8_3.x86_64 Compiler: gcc 10.2.1 CentOS Stream 8 Kernel: 4.18.0-240.10.1.el8_3.x86_64 Compiler: gcc 8.4.1 20200928 openSUSE Leap 15 Kernel: 4.18.0-240.10.1.el8_3.x86_64 Compiler: gcc 7.5.0 Fedora 31 Kernel: 4.18.0-240.10.1.el8_3.x86_64 Compiler: gcc 9.3.1 To view detailed results, visit: https://lab.dpdk.org/results/dashboard/patchsets/17014/ UNH-IOL DPDK Community Lab To manage your email subscriptions, visit: https://lab.dpdk.org/results/dashboard/preferences/subscriptions/
[-- Attachment #1: Type: text/plain, Size: 1251 bytes --] Test-Label: iol-intel-Performance Test-Status: SUCCESS http://dpdk.org/patch/93094 _Performance Testing PASS_ Submitter: Kevin Laatz <kevin.laatz@intel.com> Date: Monday, May 10 2021 12:55:14 DPDK git baseline: Repo:dpdk Branch: master CommitID:627c5b41bb14a1afbd1489b0fc4b8224532a823d 93094 --> performance testing pass Test environment and result as below: Ubuntu 18.04 Kernel: 4.15.0-generic Compiler: gcc 7.4 NIC: Intel Corporation Ethernet Converged Network Adapter 82599ES 10000 Mbps Target: x86_64-native-linuxapp-gcc Fail/Total: 0/2 Detail performance results: +------------+---------+-------------------------------------+ | frame_size | txd/rxd | throughput difference from expected | +============+=========+=====================================+ | 64 | 512 | -0.17681% | +------------+---------+-------------------------------------+ | 64 | 2048 | 0.76157% | +------------+---------+-------------------------------------+ To view detailed results, visit: https://lab.dpdk.org/results/dashboard/patchsets/17014/ UNH-IOL DPDK Community Lab To manage your email subscriptions, visit: https://lab.dpdk.org/results/dashboard/preferences/subscriptions/
[-- Attachment #1: Type: text/plain, Size: 1720 bytes --] Test-Label: iol-mellanox-Performance Test-Status: SUCCESS http://dpdk.org/patch/93094 _Performance Testing PASS_ Submitter: Kevin Laatz <kevin.laatz@intel.com> Date: Monday, May 10 2021 12:55:14 DPDK git baseline: Repo:dpdk Branch: master CommitID:627c5b41bb14a1afbd1489b0fc4b8224532a823d 93094 --> performance testing pass Test environment and result as below: Ubuntu 18.04 Kernel: 4.15.0-generic Compiler: gcc 7.4 NIC: Mellanox ConnectX-4 Lx 25000 Mbps Target: x86_64-native-linuxapp-gcc Fail/Total: 0/6 Detail performance results: +------------+---------+-------------------------------------+ | frame_size | txd/rxd | throughput difference from expected | +============+=========+=====================================+ | 64 | 256 | 0.40146% | +------------+---------+-------------------------------------+ | 128 | 256 | 0.13476% | +------------+---------+-------------------------------------+ | 256 | 256 | -0.95611% | +------------+---------+-------------------------------------+ | 512 | 256 | -0.37665% | +------------+---------+-------------------------------------+ | 1024 | 256 | -0.01673% | +------------+---------+-------------------------------------+ | 1518 | 256 | -0.19685% | +------------+---------+-------------------------------------+ To view detailed results, visit: https://lab.dpdk.org/results/dashboard/patchsets/17014/ UNH-IOL DPDK Community Lab To manage your email subscriptions, visit: https://lab.dpdk.org/results/dashboard/preferences/subscriptions/
[-- Attachment #1: Type: text/plain, Size: 2838 bytes --] Test-Label: iol-mellanox-Performance Test-Status: SUCCESS http://dpdk.org/patch/93094 _Performance Testing PASS_ Submitter: Kevin Laatz <kevin.laatz@intel.com> Date: Monday, May 10 2021 12:55:14 DPDK git baseline: Repo:dpdk Branch: master CommitID:627c5b41bb14a1afbd1489b0fc4b8224532a823d 93094 --> performance testing pass Test environment and result as below: Ubuntu 18.04 Kernel: 4.15.0-generic Compiler: gcc 7.4 NIC: Mellanox ConnectX-4 Lx 25000 Mbps Target: x86_64-native-linuxapp-gcc Fail/Total: 0/6 Detail performance results: +------------+---------+-------------------------------------+ | frame_size | txd/rxd | throughput difference from expected | +============+=========+=====================================+ | 64 | 256 | 0.40146% | +------------+---------+-------------------------------------+ | 128 | 256 | 0.13476% | +------------+---------+-------------------------------------+ | 256 | 256 | -0.95611% | +------------+---------+-------------------------------------+ | 512 | 256 | -0.37665% | +------------+---------+-------------------------------------+ | 1024 | 256 | -0.01673% | +------------+---------+-------------------------------------+ | 1518 | 256 | -0.19685% | +------------+---------+-------------------------------------+ Ubuntu 18.04 Kernel: 4.15.0-generic Compiler: gcc 7.4 NIC: Mellanox ConnectX-5 100000 Mbps Target: x86_64-native-linuxapp-gcc Fail/Total: 0/6 Detail performance results: +------------+---------+-------------------------------------+ | frame_size | txd/rxd | throughput difference from expected | +============+=========+=====================================+ | 64 | 256 | -0.30233% | +------------+---------+-------------------------------------+ | 128 | 256 | -0.24113% | +------------+---------+-------------------------------------+ | 256 | 256 | -0.40692% | +------------+---------+-------------------------------------+ | 512 | 256 | 0.45739% | +------------+---------+-------------------------------------+ | 1024 | 256 | 0.68627% | +------------+---------+-------------------------------------+ | 1518 | 256 | -0.01173% | +------------+---------+-------------------------------------+ To view detailed results, visit: https://lab.dpdk.org/results/dashboard/patchsets/17014/ UNH-IOL DPDK Community Lab To manage your email subscriptions, visit: https://lab.dpdk.org/results/dashboard/preferences/subscriptions/
[-- Attachment #1: Type: text/plain, Size: 3958 bytes --] Test-Label: iol-mellanox-Performance Test-Status: SUCCESS http://dpdk.org/patch/93094 _Performance Testing PASS_ Submitter: Kevin Laatz <kevin.laatz@intel.com> Date: Monday, May 10 2021 12:55:14 DPDK git baseline: Repo:dpdk Branch: master CommitID:627c5b41bb14a1afbd1489b0fc4b8224532a823d 93094 --> performance testing pass Test environment and result as below: Ubuntu 18.04 Kernel: 4.15.0-generic Compiler: gcc 7.4 NIC: Mellanox ConnectX-4 Lx 25000 Mbps Target: x86_64-native-linuxapp-gcc Fail/Total: 0/6 Detail performance results: +------------+---------+-------------------------------------+ | frame_size | txd/rxd | throughput difference from expected | +============+=========+=====================================+ | 64 | 256 | 0.40146% | +------------+---------+-------------------------------------+ | 128 | 256 | 0.13476% | +------------+---------+-------------------------------------+ | 256 | 256 | -0.95611% | +------------+---------+-------------------------------------+ | 512 | 256 | -0.37665% | +------------+---------+-------------------------------------+ | 1024 | 256 | -0.01673% | +------------+---------+-------------------------------------+ | 1518 | 256 | -0.19685% | +------------+---------+-------------------------------------+ Ubuntu 18.04 Kernel: 4.15.0-generic Compiler: gcc 7.4 NIC: Mellanox ConnectX-5 100000 Mbps Target: x86_64-native-linuxapp-gcc Fail/Total: 0/6 Detail performance results: +------------+---------+-------------------------------------+ | frame_size | txd/rxd | throughput difference from expected | +============+=========+=====================================+ | 64 | 256 | -0.30233% | +------------+---------+-------------------------------------+ | 128 | 256 | -0.24113% | +------------+---------+-------------------------------------+ | 256 | 256 | -0.40692% | +------------+---------+-------------------------------------+ | 512 | 256 | 0.45739% | +------------+---------+-------------------------------------+ | 1024 | 256 | 0.68627% | +------------+---------+-------------------------------------+ | 1518 | 256 | -0.01173% | +------------+---------+-------------------------------------+ Ubuntu 18.04 Kernel: 4.15.0-generic Compiler: gcc 7.4 NIC: Mellanox ConnectX-4 Lx 40000 Mbps Target: x86_64-native-linuxapp-gcc Fail/Total: 0/6 Detail performance results: +------------+---------+-------------------------------------+ | frame_size | txd/rxd | throughput difference from expected | +============+=========+=====================================+ | 64 | 256 | 0.61369% | +------------+---------+-------------------------------------+ | 128 | 256 | -0.29479% | +------------+---------+-------------------------------------+ | 256 | 256 | 0.09878% | +------------+---------+-------------------------------------+ | 512 | 256 | 0.11184% | +------------+---------+-------------------------------------+ | 1024 | 256 | -0.04176% | +------------+---------+-------------------------------------+ | 1518 | 256 | -0.04613% | +------------+---------+-------------------------------------+ To view detailed results, visit: https://lab.dpdk.org/results/dashboard/patchsets/17014/ UNH-IOL DPDK Community Lab To manage your email subscriptions, visit: https://lab.dpdk.org/results/dashboard/preferences/subscriptions/
[-- Attachment #1: Type: text/plain, Size: 4835 bytes --] Test-Label: iol-mellanox-Performance Test-Status: SUCCESS http://dpdk.org/patch/93094 _Performance Testing PASS_ Submitter: Kevin Laatz <kevin.laatz@intel.com> Date: Monday, May 10 2021 12:55:14 DPDK git baseline: Repo:dpdk Branch: master CommitID:627c5b41bb14a1afbd1489b0fc4b8224532a823d 93094 --> performance testing pass Test environment and result as below: Ubuntu 18.04 Kernel: 4.15.0-generic Compiler: gcc 7.4 NIC: Mellanox ConnectX-4 Lx 25000 Mbps Target: x86_64-native-linuxapp-gcc Fail/Total: 0/6 Detail performance results: +------------+---------+-------------------------------------+ | frame_size | txd/rxd | throughput difference from expected | +============+=========+=====================================+ | 64 | 256 | 0.40146% | +------------+---------+-------------------------------------+ | 128 | 256 | 0.13476% | +------------+---------+-------------------------------------+ | 256 | 256 | -0.95611% | +------------+---------+-------------------------------------+ | 512 | 256 | -0.37665% | +------------+---------+-------------------------------------+ | 1024 | 256 | -0.01673% | +------------+---------+-------------------------------------+ | 1518 | 256 | -0.19685% | +------------+---------+-------------------------------------+ Ubuntu 18.04 Kernel: 4.15.0-generic Compiler: gcc 7.4 NIC: Mellanox ConnectX-5 100000 Mbps Target: x86_64-native-linuxapp-gcc Fail/Total: 0/6 Detail performance results: +------------+---------+-------------------------------------+ | frame_size | txd/rxd | throughput difference from expected | +============+=========+=====================================+ | 64 | 256 | -0.30233% | +------------+---------+-------------------------------------+ | 128 | 256 | -0.24113% | +------------+---------+-------------------------------------+ | 256 | 256 | -0.40692% | +------------+---------+-------------------------------------+ | 512 | 256 | 0.45739% | +------------+---------+-------------------------------------+ | 1024 | 256 | 0.68627% | +------------+---------+-------------------------------------+ | 1518 | 256 | -0.01173% | +------------+---------+-------------------------------------+ Ubuntu 18.04 Kernel: 4.15.0-generic Compiler: gcc 7.4 NIC: Mellanox ConnectX-4 Lx 40000 Mbps Target: x86_64-native-linuxapp-gcc Fail/Total: 0/6 Detail performance results: +------------+---------+-------------------------------------+ | frame_size | txd/rxd | throughput difference from expected | +============+=========+=====================================+ | 64 | 256 | 0.61369% | +------------+---------+-------------------------------------+ | 128 | 256 | -0.29479% | +------------+---------+-------------------------------------+ | 256 | 256 | 0.09878% | +------------+---------+-------------------------------------+ | 512 | 256 | 0.11184% | +------------+---------+-------------------------------------+ | 1024 | 256 | -0.04176% | +------------+---------+-------------------------------------+ | 1518 | 256 | -0.04613% | +------------+---------+-------------------------------------+ Ubuntu 18.04 ARM Kernel: 4.15.0-132-generic Compiler: gcc 7.5 NIC: Arm Mellanox ConnectX-5 10000 Mbps Target: x86_64-native-linuxapp-gcc Fail/Total: 0/4 Detail performance results: +------------+---------+-------------------------------------+ | frame_size | txd/rxd | throughput difference from expected | +============+=========+=====================================+ | 64 | 128 | 0.23592% | +------------+---------+-------------------------------------+ | 64 | 256 | 0.65535% | +------------+---------+-------------------------------------+ | 64 | 512 | 2.01821% | +------------+---------+-------------------------------------+ | 64 | 2048 | 0.38676% | +------------+---------+-------------------------------------+ To view detailed results, visit: https://lab.dpdk.org/results/dashboard/patchsets/17014/ UNH-IOL DPDK Community Lab To manage your email subscriptions, visit: https://lab.dpdk.org/results/dashboard/preferences/subscriptions/
[-- Attachment #1: Type: text/plain, Size: 1920 bytes --] Test-Label: iol-intel-Performance Test-Status: SUCCESS http://dpdk.org/patch/93094 _Performance Testing PASS_ Submitter: Kevin Laatz <kevin.laatz@intel.com> Date: Monday, May 10 2021 12:55:14 DPDK git baseline: Repo:dpdk Branch: master CommitID:627c5b41bb14a1afbd1489b0fc4b8224532a823d 93094 --> performance testing pass Test environment and result as below: Ubuntu 18.04 Kernel: 4.15.0-generic Compiler: gcc 7.4 NIC: Intel Corporation Ethernet Converged Network Adapter 82599ES 10000 Mbps Target: x86_64-native-linuxapp-gcc Fail/Total: 0/2 Detail performance results: +------------+---------+-------------------------------------+ | frame_size | txd/rxd | throughput difference from expected | +============+=========+=====================================+ | 64 | 512 | -0.17681% | +------------+---------+-------------------------------------+ | 64 | 2048 | 0.76157% | +------------+---------+-------------------------------------+ Ubuntu 18.04 ARM Kernel: 4.15.0-132-generic Compiler: gcc 7.5 NIC: Arm Intel Corporation Ethernet Converged Network Adapter XL710-QDA2 40000 Mbps Target: x86_64-native-linuxapp-gcc Fail/Total: 0/2 Detail performance results: +------------+---------+-------------------------------------+ | frame_size | txd/rxd | throughput difference from expected | +============+=========+=====================================+ | 64 | 512 | -0.24199% | +------------+---------+-------------------------------------+ | 64 | 2048 | -0.01427% | +------------+---------+-------------------------------------+ To view detailed results, visit: https://lab.dpdk.org/results/dashboard/patchsets/17014/ UNH-IOL DPDK Community Lab To manage your email subscriptions, visit: https://lab.dpdk.org/results/dashboard/preferences/subscriptions/