* [dpdk-test-report] |SUCCESS| pw93189 [PATCH] net/iavf: fix wrong Tx context descriptor
@ 2021-05-12 8:18 dpdklab
0 siblings, 0 replies; 13+ messages in thread
From: dpdklab @ 2021-05-12 8:18 UTC (permalink / raw)
To: Test Report; +Cc: dpdk-test-reports
[-- Attachment #1: Type: text/plain, Size: 4638 bytes --]
Test-Label: iol-testing
Test-Status: SUCCESS
http://dpdk.org/patch/93189
_Testing PASS_
Submitter: Xing, Beilei <beilei.xing@intel.com>
Date: Wednesday, May 12 2021 07:06:46
DPDK git baseline: Repo:dpdk
Branch: master
CommitID:86ff0663639417f9d25907d09343a5c231e32a51
93189 --> testing pass
Test environment and result as below:
+---------------------+----------------------+-------------------+--------------------+----------------+
| Environment | dpdk_mingw64_compile | dpdk_compile_spdk | dpdk_meson_compile | dpdk_unit_test |
+=====================+======================+===================+====================+================+
| Windows Server 2019 | PASS | SKIPPED | PASS | SKIPPED |
+---------------------+----------------------+-------------------+--------------------+----------------+
| Ubuntu 18.04 | SKIPPED | PASS | PASS | PASS |
+---------------------+----------------------+-------------------+--------------------+----------------+
| CentOS 8 | SKIPPED | SKIPPED | PASS | SKIPPED |
+---------------------+----------------------+-------------------+--------------------+----------------+
| Fedora 31 | SKIPPED | SKIPPED | PASS | SKIPPED |
+---------------------+----------------------+-------------------+--------------------+----------------+
| Fedora 32 | SKIPPED | SKIPPED | PASS | SKIPPED |
+---------------------+----------------------+-------------------+--------------------+----------------+
| CentOS Stream 8 | SKIPPED | SKIPPED | PASS | SKIPPED |
+---------------------+----------------------+-------------------+--------------------+----------------+
| Ubuntu 20.04 | SKIPPED | SKIPPED | PASS | SKIPPED |
+---------------------+----------------------+-------------------+--------------------+----------------+
| RHEL 7 | SKIPPED | SKIPPED | PASS | SKIPPED |
+---------------------+----------------------+-------------------+--------------------+----------------+
| RHEL8 | SKIPPED | SKIPPED | PASS | SKIPPED |
+---------------------+----------------------+-------------------+--------------------+----------------+
| Ubuntu 18.04 ARM | SKIPPED | SKIPPED | PASS | SKIPPED |
+---------------------+----------------------+-------------------+--------------------+----------------+
| Arch Linux | SKIPPED | SKIPPED | PASS | SKIPPED |
+---------------------+----------------------+-------------------+--------------------+----------------+
| openSUSE Leap 15 | SKIPPED | SKIPPED | PASS | SKIPPED |
+---------------------+----------------------+-------------------+--------------------+----------------+
| FreeBSD 11.2 | SKIPPED | SKIPPED | PASS | SKIPPED |
+---------------------+----------------------+-------------------+--------------------+----------------+
Windows Server 2019
Kernel: 10.0
Compiler: clang 9.0 and gcc 8.1.0 (MinGW)
Ubuntu 18.04
Kernel: 4.18.0-240.10.1.el8_3.x86_64
Compiler: gcc 7.5.0-3ubuntu1~18.04
CentOS 8
Kernel: 4.18.0-240.10.1.el8_3.x86_64
Compiler: gcc 8.3.1 20191121 (Red Hat 8.3.1-5)
Fedora 31
Kernel: 4.18.0-240.10.1.el8_3.x86_64
Compiler: gcc 9.3.1
Fedora 32
Kernel: 4.18.0-240.10.1.el8_3.x86_64
Compiler: gcc 10.2.1
CentOS Stream 8
Kernel: 4.18.0-240.10.1.el8_3.x86_64
Compiler: gcc 8.4.1 20200928
Ubuntu 20.04
Kernel: 4.18.0-240.10.1.el8_3.x86_64
Compiler: gcc 9.3.0-17ubuntu1~20.04
RHEL 7
Kernel: 4.18.0-240.10.1.el8_3.x86_64
Compiler: gcc 4.8.5 20150623 (Red Hat 4.8.5-44)
RHEL8
Kernel: 4.18.0-240.10.1.el8_3.x86_64
Compiler: gcc 8.3.1 20191121 (Red Hat 8.3.1-5)
Ubuntu 18.04 ARM
Kernel: 5.4.0-53-generic
Compiler: gcc 9.3
Arch Linux
Kernel: 4.18.0-240.10.1.el8_3.x86_64
Compiler: gcc 10.2.0
openSUSE Leap 15
Kernel: 4.18.0-240.10.1.el8_3.x86_64
Compiler: gcc 7.5.0
FreeBSD 11.2
Kernel: 11.2
Compiler: gcc 8.3
To view detailed results, visit:
https://lab.dpdk.org/results/dashboard/patchsets/17059/
UNH-IOL DPDK Community Lab
To manage your email subscriptions, visit:
https://lab.dpdk.org/results/dashboard/preferences/subscriptions/
^ permalink raw reply [flat|nested] 13+ messages in thread
* [dpdk-test-report] |SUCCESS| pw93189 [PATCH] net/iavf: fix wrong Tx context descriptor
@ 2021-05-13 14:33 dpdklab
0 siblings, 0 replies; 13+ messages in thread
From: dpdklab @ 2021-05-13 14:33 UTC (permalink / raw)
To: Ali Alnubani, Test Report; +Cc: dpdk-test-reports
[-- Attachment #1: Type: text/plain, Size: 1048 bytes --]
Test-Label: iol-mellanox-Functional
Test-Status: SUCCESS
http://dpdk.org/patch/93189
_Functional Testing PASS_
Submitter: Xing, Beilei <beilei.xing@intel.com>
Date: Wednesday, May 12 2021 07:06:46
DPDK git baseline: Repo:dpdk
Branch: master
CommitID:86ff0663639417f9d25907d09343a5c231e32a51
93189 --> functional testing pass
Test environment and result as below:
Ubuntu 18.04
Kernel: 4.15.0-generic
Compiler: gcc 7.4
NIC: Mellanox ConnectX-4 Lx 40000 Mbps
Target: x86_64-native-linuxapp-gcc
Fail/Total: 0/5
Ubuntu 18.04
Kernel: 4.15.0-generic
Compiler: gcc 7.4
NIC: Mellanox ConnectX-4 Lx 25000 Mbps
Target: x86_64-native-linuxapp-gcc
Fail/Total: 0/5
Ubuntu 18.04 ARM
Kernel: 4.15.0-132-generic
Compiler: gcc 7.5
NIC: Arm Mellanox ConnectX-5 10000 Mbps
Target: x86_64-native-linuxapp-gcc
Fail/Total: 0/4
To view detailed results, visit:
https://lab.dpdk.org/results/dashboard/patchsets/17059/
UNH-IOL DPDK Community Lab
To manage your email subscriptions, visit:
https://lab.dpdk.org/results/dashboard/preferences/subscriptions/
^ permalink raw reply [flat|nested] 13+ messages in thread
* [dpdk-test-report] |SUCCESS| pw93189 [PATCH] net/iavf: fix wrong Tx context descriptor
@ 2021-05-13 12:17 dpdklab
0 siblings, 0 replies; 13+ messages in thread
From: dpdklab @ 2021-05-13 12:17 UTC (permalink / raw)
To: Test Report; +Cc: dpdk-test-reports
[-- Attachment #1: Type: text/plain, Size: 1924 bytes --]
Test-Label: iol-intel-Performance
Test-Status: SUCCESS
http://dpdk.org/patch/93189
_Performance Testing PASS_
Submitter: Xing, Beilei <beilei.xing@intel.com>
Date: Wednesday, May 12 2021 07:06:46
DPDK git baseline: Repo:dpdk
Branch: master
CommitID:86ff0663639417f9d25907d09343a5c231e32a51
93189 --> performance testing pass
Test environment and result as below:
Ubuntu 18.04
Kernel: 4.15.0-generic
Compiler: gcc 7.4
NIC: Intel Corporation Ethernet Converged Network Adapter 82599ES 10000 Mbps
Target: x86_64-native-linuxapp-gcc
Fail/Total: 0/2
Detail performance results:
+------------+---------+-------------------------------------+
| frame_size | txd/rxd | throughput difference from expected |
+============+=========+=====================================+
| 64 | 512 | -0.42784% |
+------------+---------+-------------------------------------+
| 64 | 2048 | 0.79824% |
+------------+---------+-------------------------------------+
Ubuntu 18.04 ARM
Kernel: 4.15.0-132-generic
Compiler: gcc 7.5
NIC: Arm Intel Corporation Ethernet Converged Network Adapter XL710-QDA2 40000 Mbps
Target: x86_64-native-linuxapp-gcc
Fail/Total: 0/2
Detail performance results:
+------------+---------+-------------------------------------+
| frame_size | txd/rxd | throughput difference from expected |
+============+=========+=====================================+
| 64 | 512 | -0.12811% |
+------------+---------+-------------------------------------+
| 64 | 2048 | 0.0856% |
+------------+---------+-------------------------------------+
To view detailed results, visit:
https://lab.dpdk.org/results/dashboard/patchsets/17059/
UNH-IOL DPDK Community Lab
To manage your email subscriptions, visit:
https://lab.dpdk.org/results/dashboard/preferences/subscriptions/
^ permalink raw reply [flat|nested] 13+ messages in thread
* [dpdk-test-report] |SUCCESS| pw93189 [PATCH] net/iavf: fix wrong Tx context descriptor
@ 2021-05-13 11:55 dpdklab
0 siblings, 0 replies; 13+ messages in thread
From: dpdklab @ 2021-05-13 11:55 UTC (permalink / raw)
To: Test Report; +Cc: dpdk-test-reports
[-- Attachment #1: Type: text/plain, Size: 981 bytes --]
Test-Label: iol-intel-Functional
Test-Status: SUCCESS
http://dpdk.org/patch/93189
_Functional Testing PASS_
Submitter: Xing, Beilei <beilei.xing@intel.com>
Date: Wednesday, May 12 2021 07:06:46
DPDK git baseline: Repo:dpdk
Branch: master
CommitID:86ff0663639417f9d25907d09343a5c231e32a51
93189 --> functional testing pass
Test environment and result as below:
Ubuntu 18.04
Kernel: 4.15.0-generic
Compiler: gcc 7.4
NIC: Intel Corporation Ethernet Converged Network Adapter 82599ES 10000 Mbps
Target: x86_64-native-linuxapp-gcc
Fail/Total: 0/5
Ubuntu 18.04 ARM
Kernel: 4.15.0-132-generic
Compiler: gcc 7.5
NIC: Arm Intel Corporation Ethernet Converged Network Adapter XL710-QDA2 40000 Mbps
Target: x86_64-native-linuxapp-gcc
Fail/Total: 0/5
To view detailed results, visit:
https://lab.dpdk.org/results/dashboard/patchsets/17059/
UNH-IOL DPDK Community Lab
To manage your email subscriptions, visit:
https://lab.dpdk.org/results/dashboard/preferences/subscriptions/
^ permalink raw reply [flat|nested] 13+ messages in thread
* [dpdk-test-report] |SUCCESS| pw93189 [PATCH] net/iavf: fix wrong Tx context descriptor
@ 2021-05-13 11:39 dpdklab
0 siblings, 0 replies; 13+ messages in thread
From: dpdklab @ 2021-05-13 11:39 UTC (permalink / raw)
To: Ali Alnubani, Test Report; +Cc: dpdk-test-reports
[-- Attachment #1: Type: text/plain, Size: 4839 bytes --]
Test-Label: iol-mellanox-Performance
Test-Status: SUCCESS
http://dpdk.org/patch/93189
_Performance Testing PASS_
Submitter: Xing, Beilei <beilei.xing@intel.com>
Date: Wednesday, May 12 2021 07:06:46
DPDK git baseline: Repo:dpdk
Branch: master
CommitID:86ff0663639417f9d25907d09343a5c231e32a51
93189 --> performance testing pass
Test environment and result as below:
Ubuntu 18.04
Kernel: 4.15.0-generic
Compiler: gcc 7.4
NIC: Mellanox ConnectX-4 Lx 25000 Mbps
Target: x86_64-native-linuxapp-gcc
Fail/Total: 0/6
Detail performance results:
+------------+---------+-------------------------------------+
| frame_size | txd/rxd | throughput difference from expected |
+============+=========+=====================================+
| 64 | 256 | 0.24596% |
+------------+---------+-------------------------------------+
| 128 | 256 | 0.26606% |
+------------+---------+-------------------------------------+
| 256 | 256 | -0.67869% |
+------------+---------+-------------------------------------+
| 512 | 256 | 0.11128% |
+------------+---------+-------------------------------------+
| 1024 | 256 | -0.06692% |
+------------+---------+-------------------------------------+
| 1518 | 256 | -0.17224% |
+------------+---------+-------------------------------------+
Ubuntu 18.04
Kernel: 4.15.0-generic
Compiler: gcc 7.4
NIC: Mellanox ConnectX-5 100000 Mbps
Target: x86_64-native-linuxapp-gcc
Fail/Total: 0/6
Detail performance results:
+------------+---------+-------------------------------------+
| frame_size | txd/rxd | throughput difference from expected |
+============+=========+=====================================+
| 64 | 256 | -0.20209% |
+------------+---------+-------------------------------------+
| 128 | 256 | -0.06074% |
+------------+---------+-------------------------------------+
| 256 | 256 | 0.13481% |
+------------+---------+-------------------------------------+
| 512 | 256 | 0.21759% |
+------------+---------+-------------------------------------+
| 1024 | 256 | 0.26265% |
+------------+---------+-------------------------------------+
| 1518 | 256 | -0.02346% |
+------------+---------+-------------------------------------+
Ubuntu 18.04
Kernel: 4.15.0-generic
Compiler: gcc 7.4
NIC: Mellanox ConnectX-4 Lx 40000 Mbps
Target: x86_64-native-linuxapp-gcc
Fail/Total: 0/6
Detail performance results:
+------------+---------+-------------------------------------+
| frame_size | txd/rxd | throughput difference from expected |
+============+=========+=====================================+
| 64 | 256 | 1.18742% |
+------------+---------+-------------------------------------+
| 128 | 256 | 0.581% |
+------------+---------+-------------------------------------+
| 256 | 256 | 0.01829% |
+------------+---------+-------------------------------------+
| 512 | 256 | -0.10119% |
+------------+---------+-------------------------------------+
| 1024 | 256 | 0.19837% |
+------------+---------+-------------------------------------+
| 1518 | 256 | -0.03076% |
+------------+---------+-------------------------------------+
Ubuntu 18.04 ARM
Kernel: 4.15.0-132-generic
Compiler: gcc 7.5
NIC: Arm Mellanox ConnectX-5 10000 Mbps
Target: x86_64-native-linuxapp-gcc
Fail/Total: 0/4
Detail performance results:
+------------+---------+-------------------------------------+
| frame_size | txd/rxd | throughput difference from expected |
+============+=========+=====================================+
| 64 | 128 | 0.09651% |
+------------+---------+-------------------------------------+
| 64 | 256 | 0.66609% |
+------------+---------+-------------------------------------+
| 64 | 512 | 1.64528% |
+------------+---------+-------------------------------------+
| 64 | 2048 | -3.97508% |
+------------+---------+-------------------------------------+
To view detailed results, visit:
https://lab.dpdk.org/results/dashboard/patchsets/17059/
UNH-IOL DPDK Community Lab
To manage your email subscriptions, visit:
https://lab.dpdk.org/results/dashboard/preferences/subscriptions/
^ permalink raw reply [flat|nested] 13+ messages in thread
* [dpdk-test-report] |SUCCESS| pw93189 [PATCH] net/iavf: fix wrong Tx context descriptor
@ 2021-05-13 7:30 dpdklab
0 siblings, 0 replies; 13+ messages in thread
From: dpdklab @ 2021-05-13 7:30 UTC (permalink / raw)
To: Ali Alnubani, Test Report; +Cc: dpdk-test-reports
[-- Attachment #1: Type: text/plain, Size: 3962 bytes --]
Test-Label: iol-mellanox-Performance
Test-Status: SUCCESS
http://dpdk.org/patch/93189
_Performance Testing PASS_
Submitter: Xing, Beilei <beilei.xing@intel.com>
Date: Wednesday, May 12 2021 07:06:46
DPDK git baseline: Repo:dpdk
Branch: master
CommitID:86ff0663639417f9d25907d09343a5c231e32a51
93189 --> performance testing pass
Test environment and result as below:
Ubuntu 18.04
Kernel: 4.15.0-generic
Compiler: gcc 7.4
NIC: Mellanox ConnectX-4 Lx 25000 Mbps
Target: x86_64-native-linuxapp-gcc
Fail/Total: 0/6
Detail performance results:
+------------+---------+-------------------------------------+
| frame_size | txd/rxd | throughput difference from expected |
+============+=========+=====================================+
| 64 | 256 | 0.24596% |
+------------+---------+-------------------------------------+
| 128 | 256 | 0.26606% |
+------------+---------+-------------------------------------+
| 256 | 256 | -0.67869% |
+------------+---------+-------------------------------------+
| 512 | 256 | 0.11128% |
+------------+---------+-------------------------------------+
| 1024 | 256 | -0.06692% |
+------------+---------+-------------------------------------+
| 1518 | 256 | -0.17224% |
+------------+---------+-------------------------------------+
Ubuntu 18.04
Kernel: 4.15.0-generic
Compiler: gcc 7.4
NIC: Mellanox ConnectX-5 100000 Mbps
Target: x86_64-native-linuxapp-gcc
Fail/Total: 0/6
Detail performance results:
+------------+---------+-------------------------------------+
| frame_size | txd/rxd | throughput difference from expected |
+============+=========+=====================================+
| 64 | 256 | -0.20209% |
+------------+---------+-------------------------------------+
| 128 | 256 | -0.06074% |
+------------+---------+-------------------------------------+
| 256 | 256 | 0.13481% |
+------------+---------+-------------------------------------+
| 512 | 256 | 0.21759% |
+------------+---------+-------------------------------------+
| 1024 | 256 | 0.26265% |
+------------+---------+-------------------------------------+
| 1518 | 256 | -0.02346% |
+------------+---------+-------------------------------------+
Ubuntu 18.04
Kernel: 4.15.0-generic
Compiler: gcc 7.4
NIC: Mellanox ConnectX-4 Lx 40000 Mbps
Target: x86_64-native-linuxapp-gcc
Fail/Total: 0/6
Detail performance results:
+------------+---------+-------------------------------------+
| frame_size | txd/rxd | throughput difference from expected |
+============+=========+=====================================+
| 64 | 256 | 1.18742% |
+------------+---------+-------------------------------------+
| 128 | 256 | 0.581% |
+------------+---------+-------------------------------------+
| 256 | 256 | 0.01829% |
+------------+---------+-------------------------------------+
| 512 | 256 | -0.10119% |
+------------+---------+-------------------------------------+
| 1024 | 256 | 0.19837% |
+------------+---------+-------------------------------------+
| 1518 | 256 | -0.03076% |
+------------+---------+-------------------------------------+
To view detailed results, visit:
https://lab.dpdk.org/results/dashboard/patchsets/17059/
UNH-IOL DPDK Community Lab
To manage your email subscriptions, visit:
https://lab.dpdk.org/results/dashboard/preferences/subscriptions/
^ permalink raw reply [flat|nested] 13+ messages in thread
* [dpdk-test-report] |SUCCESS| pw93189 [PATCH] net/iavf: fix wrong Tx context descriptor
@ 2021-05-13 7:17 dpdklab
0 siblings, 0 replies; 13+ messages in thread
From: dpdklab @ 2021-05-13 7:17 UTC (permalink / raw)
To: Ali Alnubani, Test Report; +Cc: dpdk-test-reports
[-- Attachment #1: Type: text/plain, Size: 893 bytes --]
Test-Label: iol-mellanox-Functional
Test-Status: SUCCESS
http://dpdk.org/patch/93189
_Functional Testing PASS_
Submitter: Xing, Beilei <beilei.xing@intel.com>
Date: Wednesday, May 12 2021 07:06:46
DPDK git baseline: Repo:dpdk
Branch: master
CommitID:86ff0663639417f9d25907d09343a5c231e32a51
93189 --> functional testing pass
Test environment and result as below:
Ubuntu 18.04
Kernel: 4.15.0-generic
Compiler: gcc 7.4
NIC: Mellanox ConnectX-4 Lx 40000 Mbps
Target: x86_64-native-linuxapp-gcc
Fail/Total: 0/5
Ubuntu 18.04
Kernel: 4.15.0-generic
Compiler: gcc 7.4
NIC: Mellanox ConnectX-4 Lx 25000 Mbps
Target: x86_64-native-linuxapp-gcc
Fail/Total: 0/5
To view detailed results, visit:
https://lab.dpdk.org/results/dashboard/patchsets/17059/
UNH-IOL DPDK Community Lab
To manage your email subscriptions, visit:
https://lab.dpdk.org/results/dashboard/preferences/subscriptions/
^ permalink raw reply [flat|nested] 13+ messages in thread
* [dpdk-test-report] |SUCCESS| pw93189 [PATCH] net/iavf: fix wrong Tx context descriptor
@ 2021-05-13 6:36 dpdklab
0 siblings, 0 replies; 13+ messages in thread
From: dpdklab @ 2021-05-13 6:36 UTC (permalink / raw)
To: Ali Alnubani, Test Report; +Cc: dpdk-test-reports
[-- Attachment #1: Type: text/plain, Size: 2842 bytes --]
Test-Label: iol-mellanox-Performance
Test-Status: SUCCESS
http://dpdk.org/patch/93189
_Performance Testing PASS_
Submitter: Xing, Beilei <beilei.xing@intel.com>
Date: Wednesday, May 12 2021 07:06:46
DPDK git baseline: Repo:dpdk
Branch: master
CommitID:86ff0663639417f9d25907d09343a5c231e32a51
93189 --> performance testing pass
Test environment and result as below:
Ubuntu 18.04
Kernel: 4.15.0-generic
Compiler: gcc 7.4
NIC: Mellanox ConnectX-4 Lx 25000 Mbps
Target: x86_64-native-linuxapp-gcc
Fail/Total: 0/6
Detail performance results:
+------------+---------+-------------------------------------+
| frame_size | txd/rxd | throughput difference from expected |
+============+=========+=====================================+
| 64 | 256 | 0.24596% |
+------------+---------+-------------------------------------+
| 128 | 256 | 0.26606% |
+------------+---------+-------------------------------------+
| 256 | 256 | -0.67869% |
+------------+---------+-------------------------------------+
| 512 | 256 | 0.11128% |
+------------+---------+-------------------------------------+
| 1024 | 256 | -0.06692% |
+------------+---------+-------------------------------------+
| 1518 | 256 | -0.17224% |
+------------+---------+-------------------------------------+
Ubuntu 18.04
Kernel: 4.15.0-generic
Compiler: gcc 7.4
NIC: Mellanox ConnectX-5 100000 Mbps
Target: x86_64-native-linuxapp-gcc
Fail/Total: 0/6
Detail performance results:
+------------+---------+-------------------------------------+
| frame_size | txd/rxd | throughput difference from expected |
+============+=========+=====================================+
| 64 | 256 | -0.20209% |
+------------+---------+-------------------------------------+
| 128 | 256 | -0.06074% |
+------------+---------+-------------------------------------+
| 256 | 256 | 0.13481% |
+------------+---------+-------------------------------------+
| 512 | 256 | 0.21759% |
+------------+---------+-------------------------------------+
| 1024 | 256 | 0.26265% |
+------------+---------+-------------------------------------+
| 1518 | 256 | -0.02346% |
+------------+---------+-------------------------------------+
To view detailed results, visit:
https://lab.dpdk.org/results/dashboard/patchsets/17059/
UNH-IOL DPDK Community Lab
To manage your email subscriptions, visit:
https://lab.dpdk.org/results/dashboard/preferences/subscriptions/
^ permalink raw reply [flat|nested] 13+ messages in thread
* [dpdk-test-report] |SUCCESS| pw93189 [PATCH] net/iavf: fix wrong Tx context descriptor
@ 2021-05-13 6:24 dpdklab
0 siblings, 0 replies; 13+ messages in thread
From: dpdklab @ 2021-05-13 6:24 UTC (permalink / raw)
To: Ali Alnubani, Test Report; +Cc: dpdk-test-reports
[-- Attachment #1: Type: text/plain, Size: 1724 bytes --]
Test-Label: iol-mellanox-Performance
Test-Status: SUCCESS
http://dpdk.org/patch/93189
_Performance Testing PASS_
Submitter: Xing, Beilei <beilei.xing@intel.com>
Date: Wednesday, May 12 2021 07:06:46
DPDK git baseline: Repo:dpdk
Branch: master
CommitID:86ff0663639417f9d25907d09343a5c231e32a51
93189 --> performance testing pass
Test environment and result as below:
Ubuntu 18.04
Kernel: 4.15.0-generic
Compiler: gcc 7.4
NIC: Mellanox ConnectX-4 Lx 25000 Mbps
Target: x86_64-native-linuxapp-gcc
Fail/Total: 0/6
Detail performance results:
+------------+---------+-------------------------------------+
| frame_size | txd/rxd | throughput difference from expected |
+============+=========+=====================================+
| 64 | 256 | 0.24596% |
+------------+---------+-------------------------------------+
| 128 | 256 | 0.26606% |
+------------+---------+-------------------------------------+
| 256 | 256 | -0.67869% |
+------------+---------+-------------------------------------+
| 512 | 256 | 0.11128% |
+------------+---------+-------------------------------------+
| 1024 | 256 | -0.06692% |
+------------+---------+-------------------------------------+
| 1518 | 256 | -0.17224% |
+------------+---------+-------------------------------------+
To view detailed results, visit:
https://lab.dpdk.org/results/dashboard/patchsets/17059/
UNH-IOL DPDK Community Lab
To manage your email subscriptions, visit:
https://lab.dpdk.org/results/dashboard/preferences/subscriptions/
^ permalink raw reply [flat|nested] 13+ messages in thread
* [dpdk-test-report] |SUCCESS| pw93189 [PATCH] net/iavf: fix wrong Tx context descriptor
@ 2021-05-13 6:12 dpdklab
0 siblings, 0 replies; 13+ messages in thread
From: dpdklab @ 2021-05-13 6:12 UTC (permalink / raw)
To: Ali Alnubani, Test Report; +Cc: dpdk-test-reports
[-- Attachment #1: Type: text/plain, Size: 747 bytes --]
Test-Label: iol-mellanox-Functional
Test-Status: SUCCESS
http://dpdk.org/patch/93189
_Functional Testing PASS_
Submitter: Xing, Beilei <beilei.xing@intel.com>
Date: Wednesday, May 12 2021 07:06:46
DPDK git baseline: Repo:dpdk
Branch: master
CommitID:86ff0663639417f9d25907d09343a5c231e32a51
93189 --> functional testing pass
Test environment and result as below:
Ubuntu 18.04
Kernel: 4.15.0-generic
Compiler: gcc 7.4
NIC: Mellanox ConnectX-4 Lx 40000 Mbps
Target: x86_64-native-linuxapp-gcc
Fail/Total: 0/5
To view detailed results, visit:
https://lab.dpdk.org/results/dashboard/patchsets/17059/
UNH-IOL DPDK Community Lab
To manage your email subscriptions, visit:
https://lab.dpdk.org/results/dashboard/preferences/subscriptions/
^ permalink raw reply [flat|nested] 13+ messages in thread
* [dpdk-test-report] |SUCCESS| pw93189 [PATCH] net/iavf: fix wrong Tx context descriptor
@ 2021-05-12 8:32 dpdklab
0 siblings, 0 replies; 13+ messages in thread
From: dpdklab @ 2021-05-12 8:32 UTC (permalink / raw)
To: Test Report; +Cc: dpdk-test-reports
[-- Attachment #1: Type: text/plain, Size: 2272 bytes --]
Test-Label: iol-abi-testing
Test-Status: SUCCESS
http://dpdk.org/patch/93189
_Testing PASS_
Submitter: Xing, Beilei <beilei.xing@intel.com>
Date: Wednesday, May 12 2021 07:06:46
DPDK git baseline: Repo:dpdk
Branch: master
CommitID:86ff0663639417f9d25907d09343a5c231e32a51
93189 --> testing pass
Test environment and result as below:
+------------------+----------+
| Environment | abi_test |
+==================+==========+
| Ubuntu 18.04 ARM | PASS |
+------------------+----------+
| Ubuntu 18.04 | PASS |
+------------------+----------+
| Arch Linux | PASS |
+------------------+----------+
| Fedora 31 | PASS |
+------------------+----------+
| Fedora 32 | PASS |
+------------------+----------+
| RHEL 7 | PASS |
+------------------+----------+
| RHEL8 | PASS |
+------------------+----------+
| Ubuntu 20.04 | PASS |
+------------------+----------+
| CentOS 8 | PASS |
+------------------+----------+
| CentOS Stream 8 | PASS |
+------------------+----------+
| openSUSE Leap 15 | PASS |
+------------------+----------+
Ubuntu 18.04 ARM
Kernel: 5.4.0-53-generic
Compiler: gcc 9.3
Ubuntu 18.04
Kernel: 4.18.0-240.10.1.el8_3.x86_64
Compiler: gcc 7.5.0-3ubuntu1~18.04
Arch Linux
Kernel: 4.18.0-240.10.1.el8_3.x86_64
Compiler: gcc 10.2.0
Fedora 31
Kernel: 4.18.0-240.10.1.el8_3.x86_64
Compiler: gcc 9.3.1
Fedora 32
Kernel: 4.18.0-240.10.1.el8_3.x86_64
Compiler: gcc 10.2.1
RHEL 7
Kernel: 4.18.0-240.10.1.el8_3.x86_64
Compiler: gcc 4.8.5 20150623 (Red Hat 4.8.5-44)
RHEL8
Kernel: 4.18.0-240.10.1.el8_3.x86_64
Compiler: gcc 8.3.1 20191121 (Red Hat 8.3.1-5)
Ubuntu 20.04
Kernel: 4.18.0-240.10.1.el8_3.x86_64
Compiler: gcc 9.3.0-17ubuntu1~20.04
CentOS 8
Kernel: 4.18.0-240.10.1.el8_3.x86_64
Compiler: gcc 8.3.1 20191121 (Red Hat 8.3.1-5)
CentOS Stream 8
Kernel: 4.18.0-240.10.1.el8_3.x86_64
Compiler: gcc 8.4.1 20200928
openSUSE Leap 15
Kernel: 4.18.0-240.10.1.el8_3.x86_64
Compiler: gcc 7.5.0
To view detailed results, visit:
https://lab.dpdk.org/results/dashboard/patchsets/17059/
UNH-IOL DPDK Community Lab
To manage your email subscriptions, visit:
https://lab.dpdk.org/results/dashboard/preferences/subscriptions/
^ permalink raw reply [flat|nested] 13+ messages in thread
* [dpdk-test-report] |SUCCESS| pw93189 [PATCH] net/iavf: fix wrong Tx context descriptor
@ 2021-05-12 8:06 dpdklab
0 siblings, 0 replies; 13+ messages in thread
From: dpdklab @ 2021-05-12 8:06 UTC (permalink / raw)
To: Test Report; +Cc: dpdk-test-reports
[-- Attachment #1: Type: text/plain, Size: 1255 bytes --]
Test-Label: iol-intel-Performance
Test-Status: SUCCESS
http://dpdk.org/patch/93189
_Performance Testing PASS_
Submitter: Xing, Beilei <beilei.xing@intel.com>
Date: Wednesday, May 12 2021 07:06:46
DPDK git baseline: Repo:dpdk
Branch: master
CommitID:86ff0663639417f9d25907d09343a5c231e32a51
93189 --> performance testing pass
Test environment and result as below:
Ubuntu 18.04
Kernel: 4.15.0-generic
Compiler: gcc 7.4
NIC: Intel Corporation Ethernet Converged Network Adapter 82599ES 10000 Mbps
Target: x86_64-native-linuxapp-gcc
Fail/Total: 0/2
Detail performance results:
+------------+---------+-------------------------------------+
| frame_size | txd/rxd | throughput difference from expected |
+============+=========+=====================================+
| 64 | 512 | -0.42784% |
+------------+---------+-------------------------------------+
| 64 | 2048 | 0.79824% |
+------------+---------+-------------------------------------+
To view detailed results, visit:
https://lab.dpdk.org/results/dashboard/patchsets/17059/
UNH-IOL DPDK Community Lab
To manage your email subscriptions, visit:
https://lab.dpdk.org/results/dashboard/preferences/subscriptions/
^ permalink raw reply [flat|nested] 13+ messages in thread
* [dpdk-test-report] |SUCCESS| pw93189 [PATCH] net/iavf: fix wrong Tx context descriptor
@ 2021-05-12 7:59 dpdklab
0 siblings, 0 replies; 13+ messages in thread
From: dpdklab @ 2021-05-12 7:59 UTC (permalink / raw)
To: Test Report; +Cc: dpdk-test-reports
[-- Attachment #1: Type: text/plain, Size: 782 bytes --]
Test-Label: iol-intel-Functional
Test-Status: SUCCESS
http://dpdk.org/patch/93189
_Functional Testing PASS_
Submitter: Xing, Beilei <beilei.xing@intel.com>
Date: Wednesday, May 12 2021 07:06:46
DPDK git baseline: Repo:dpdk
Branch: master
CommitID:86ff0663639417f9d25907d09343a5c231e32a51
93189 --> functional testing pass
Test environment and result as below:
Ubuntu 18.04
Kernel: 4.15.0-generic
Compiler: gcc 7.4
NIC: Intel Corporation Ethernet Converged Network Adapter 82599ES 10000 Mbps
Target: x86_64-native-linuxapp-gcc
Fail/Total: 0/5
To view detailed results, visit:
https://lab.dpdk.org/results/dashboard/patchsets/17059/
UNH-IOL DPDK Community Lab
To manage your email subscriptions, visit:
https://lab.dpdk.org/results/dashboard/preferences/subscriptions/
^ permalink raw reply [flat|nested] 13+ messages in thread
end of thread, other threads:[~2021-05-13 14:34 UTC | newest]
Thread overview: 13+ messages (download: mbox.gz / follow: Atom feed)
-- links below jump to the message on this page --
2021-05-12 8:18 [dpdk-test-report] |SUCCESS| pw93189 [PATCH] net/iavf: fix wrong Tx context descriptor dpdklab
-- strict thread matches above, loose matches on Subject: below --
2021-05-13 14:33 dpdklab
2021-05-13 12:17 dpdklab
2021-05-13 11:55 dpdklab
2021-05-13 11:39 dpdklab
2021-05-13 7:30 dpdklab
2021-05-13 7:17 dpdklab
2021-05-13 6:36 dpdklab
2021-05-13 6:24 dpdklab
2021-05-13 6:12 dpdklab
2021-05-12 8:32 dpdklab
2021-05-12 8:06 dpdklab
2021-05-12 7:59 dpdklab
This is a public inbox, see mirroring instructions
for how to clone and mirror all data and code used for this inbox;
as well as URLs for NNTP newsgroup(s).