Test-Label: checkpatch Test-Status: SUCCESS http://dpdk.org/patch/93197 _coding style OK_
[-- Attachment #1: Type: text/plain, Size: 2275 bytes --] Test-Label: iol-abi-testing Test-Status: SUCCESS http://dpdk.org/patch/93197 _Testing PASS_ Submitter: Tejasree Kondoj <ktejasree@marvell.com> Date: Wednesday, May 12 2021 10:11:43 DPDK git baseline: Repo:dpdk Branch: master CommitID:86ff0663639417f9d25907d09343a5c231e32a51 93197 --> testing pass Test environment and result as below: +------------------+----------+ | Environment | abi_test | +==================+==========+ | Ubuntu 18.04 ARM | PASS | +------------------+----------+ | RHEL 7 | PASS | +------------------+----------+ | RHEL8 | PASS | +------------------+----------+ | CentOS Stream 8 | PASS | +------------------+----------+ | CentOS 8 | PASS | +------------------+----------+ | Ubuntu 20.04 | PASS | +------------------+----------+ | Fedora 32 | PASS | +------------------+----------+ | Ubuntu 18.04 | PASS | +------------------+----------+ | openSUSE Leap 15 | PASS | +------------------+----------+ | Fedora 31 | PASS | +------------------+----------+ | Arch Linux | PASS | +------------------+----------+ Ubuntu 18.04 ARM Kernel: 5.4.0-53-generic Compiler: gcc 9.3 RHEL 7 Kernel: 4.18.0-240.10.1.el8_3.x86_64 Compiler: gcc 4.8.5 20150623 (Red Hat 4.8.5-44) RHEL8 Kernel: 4.18.0-240.10.1.el8_3.x86_64 Compiler: gcc 8.3.1 20191121 (Red Hat 8.3.1-5) CentOS Stream 8 Kernel: 4.18.0-240.10.1.el8_3.x86_64 Compiler: gcc 8.4.1 20200928 CentOS 8 Kernel: 4.18.0-240.10.1.el8_3.x86_64 Compiler: gcc 8.3.1 20191121 (Red Hat 8.3.1-5) Ubuntu 20.04 Kernel: 4.18.0-240.10.1.el8_3.x86_64 Compiler: gcc 9.3.0-17ubuntu1~20.04 Fedora 32 Kernel: 4.18.0-240.10.1.el8_3.x86_64 Compiler: gcc 10.2.1 Ubuntu 18.04 Kernel: 4.18.0-240.10.1.el8_3.x86_64 Compiler: gcc 7.5.0-3ubuntu1~18.04 openSUSE Leap 15 Kernel: 4.18.0-240.10.1.el8_3.x86_64 Compiler: gcc 7.5.0 Fedora 31 Kernel: 4.18.0-240.10.1.el8_3.x86_64 Compiler: gcc 9.3.1 Arch Linux Kernel: 4.18.0-240.10.1.el8_3.x86_64 Compiler: gcc 10.2.0 To view detailed results, visit: https://lab.dpdk.org/results/dashboard/patchsets/17064/ UNH-IOL DPDK Community Lab To manage your email subscriptions, visit: https://lab.dpdk.org/results/dashboard/preferences/subscriptions/
[-- Attachment #1: Type: text/plain, Size: 750 bytes --] Test-Label: iol-mellanox-Functional Test-Status: SUCCESS http://dpdk.org/patch/93197 _Functional Testing PASS_ Submitter: Tejasree Kondoj <ktejasree@marvell.com> Date: Wednesday, May 12 2021 10:11:43 DPDK git baseline: Repo:dpdk Branch: master CommitID:86ff0663639417f9d25907d09343a5c231e32a51 93197 --> functional testing pass Test environment and result as below: Ubuntu 18.04 Kernel: 4.15.0-generic Compiler: gcc 7.4 NIC: Mellanox ConnectX-4 Lx 40000 Mbps Target: x86_64-native-linuxapp-gcc Fail/Total: 0/5 To view detailed results, visit: https://lab.dpdk.org/results/dashboard/patchsets/17064/ UNH-IOL DPDK Community Lab To manage your email subscriptions, visit: https://lab.dpdk.org/results/dashboard/preferences/subscriptions/
[-- Attachment #1: Type: text/plain, Size: 1725 bytes --] Test-Label: iol-mellanox-Performance Test-Status: SUCCESS http://dpdk.org/patch/93197 _Performance Testing PASS_ Submitter: Tejasree Kondoj <ktejasree@marvell.com> Date: Wednesday, May 12 2021 10:11:43 DPDK git baseline: Repo:dpdk Branch: master CommitID:86ff0663639417f9d25907d09343a5c231e32a51 93197 --> performance testing pass Test environment and result as below: Ubuntu 18.04 Kernel: 4.15.0-generic Compiler: gcc 7.4 NIC: Mellanox ConnectX-5 100000 Mbps Target: x86_64-native-linuxapp-gcc Fail/Total: 0/6 Detail performance results: +------------+---------+-------------------------------------+ | frame_size | txd/rxd | throughput difference from expected | +============+=========+=====================================+ | 64 | 256 | -0.29263% | +------------+---------+-------------------------------------+ | 128 | 256 | -0.13989% | +------------+---------+-------------------------------------+ | 256 | 256 | 0.01997% | +------------+---------+-------------------------------------+ | 512 | 256 | 0.91034% | +------------+---------+-------------------------------------+ | 1024 | 256 | -1.05905% | +------------+---------+-------------------------------------+ | 1518 | 256 | -0.12903% | +------------+---------+-------------------------------------+ To view detailed results, visit: https://lab.dpdk.org/results/dashboard/patchsets/17064/ UNH-IOL DPDK Community Lab To manage your email subscriptions, visit: https://lab.dpdk.org/results/dashboard/preferences/subscriptions/
[-- Attachment #1: Type: text/plain, Size: 896 bytes --] Test-Label: iol-mellanox-Functional Test-Status: SUCCESS http://dpdk.org/patch/93197 _Functional Testing PASS_ Submitter: Tejasree Kondoj <ktejasree@marvell.com> Date: Wednesday, May 12 2021 10:11:43 DPDK git baseline: Repo:dpdk Branch: master CommitID:86ff0663639417f9d25907d09343a5c231e32a51 93197 --> functional testing pass Test environment and result as below: Ubuntu 18.04 Kernel: 4.15.0-generic Compiler: gcc 7.4 NIC: Mellanox ConnectX-4 Lx 40000 Mbps Target: x86_64-native-linuxapp-gcc Fail/Total: 0/5 Ubuntu 18.04 Kernel: 4.15.0-generic Compiler: gcc 7.4 NIC: Mellanox ConnectX-4 Lx 25000 Mbps Target: x86_64-native-linuxapp-gcc Fail/Total: 0/5 To view detailed results, visit: https://lab.dpdk.org/results/dashboard/patchsets/17064/ UNH-IOL DPDK Community Lab To manage your email subscriptions, visit: https://lab.dpdk.org/results/dashboard/preferences/subscriptions/
[-- Attachment #1: Type: text/plain, Size: 2845 bytes --] Test-Label: iol-mellanox-Performance Test-Status: SUCCESS http://dpdk.org/patch/93197 _Performance Testing PASS_ Submitter: Tejasree Kondoj <ktejasree@marvell.com> Date: Wednesday, May 12 2021 10:11:43 DPDK git baseline: Repo:dpdk Branch: master CommitID:86ff0663639417f9d25907d09343a5c231e32a51 93197 --> performance testing pass Test environment and result as below: Ubuntu 18.04 Kernel: 4.15.0-generic Compiler: gcc 7.4 NIC: Mellanox ConnectX-5 100000 Mbps Target: x86_64-native-linuxapp-gcc Fail/Total: 0/6 Detail performance results: +------------+---------+-------------------------------------+ | frame_size | txd/rxd | throughput difference from expected | +============+=========+=====================================+ | 64 | 256 | -0.29263% | +------------+---------+-------------------------------------+ | 128 | 256 | -0.13989% | +------------+---------+-------------------------------------+ | 256 | 256 | 0.01997% | +------------+---------+-------------------------------------+ | 512 | 256 | 0.91034% | +------------+---------+-------------------------------------+ | 1024 | 256 | -1.05905% | +------------+---------+-------------------------------------+ | 1518 | 256 | -0.12903% | +------------+---------+-------------------------------------+ Ubuntu 18.04 Kernel: 4.15.0-generic Compiler: gcc 7.4 NIC: Mellanox ConnectX-4 Lx 25000 Mbps Target: x86_64-native-linuxapp-gcc Fail/Total: 0/6 Detail performance results: +------------+---------+-------------------------------------+ | frame_size | txd/rxd | throughput difference from expected | +============+=========+=====================================+ | 64 | 256 | -0.18659% | +------------+---------+-------------------------------------+ | 128 | 256 | 0.2937% | +------------+---------+-------------------------------------+ | 256 | 256 | 0.61429% | +------------+---------+-------------------------------------+ | 512 | 256 | -0.05136% | +------------+---------+-------------------------------------+ | 1024 | 256 | -0.03346% | +------------+---------+-------------------------------------+ | 1518 | 256 | -0.09843% | +------------+---------+-------------------------------------+ To view detailed results, visit: https://lab.dpdk.org/results/dashboard/patchsets/17064/ UNH-IOL DPDK Community Lab To manage your email subscriptions, visit: https://lab.dpdk.org/results/dashboard/preferences/subscriptions/
[-- Attachment #1: Type: text/plain, Size: 3965 bytes --] Test-Label: iol-mellanox-Performance Test-Status: SUCCESS http://dpdk.org/patch/93197 _Performance Testing PASS_ Submitter: Tejasree Kondoj <ktejasree@marvell.com> Date: Wednesday, May 12 2021 10:11:43 DPDK git baseline: Repo:dpdk Branch: master CommitID:86ff0663639417f9d25907d09343a5c231e32a51 93197 --> performance testing pass Test environment and result as below: Ubuntu 18.04 Kernel: 4.15.0-generic Compiler: gcc 7.4 NIC: Mellanox ConnectX-5 100000 Mbps Target: x86_64-native-linuxapp-gcc Fail/Total: 0/6 Detail performance results: +------------+---------+-------------------------------------+ | frame_size | txd/rxd | throughput difference from expected | +============+=========+=====================================+ | 64 | 256 | -0.29263% | +------------+---------+-------------------------------------+ | 128 | 256 | -0.13989% | +------------+---------+-------------------------------------+ | 256 | 256 | 0.01997% | +------------+---------+-------------------------------------+ | 512 | 256 | 0.91034% | +------------+---------+-------------------------------------+ | 1024 | 256 | -1.05905% | +------------+---------+-------------------------------------+ | 1518 | 256 | -0.12903% | +------------+---------+-------------------------------------+ Ubuntu 18.04 Kernel: 4.15.0-generic Compiler: gcc 7.4 NIC: Mellanox ConnectX-4 Lx 25000 Mbps Target: x86_64-native-linuxapp-gcc Fail/Total: 0/6 Detail performance results: +------------+---------+-------------------------------------+ | frame_size | txd/rxd | throughput difference from expected | +============+=========+=====================================+ | 64 | 256 | -0.18659% | +------------+---------+-------------------------------------+ | 128 | 256 | 0.2937% | +------------+---------+-------------------------------------+ | 256 | 256 | 0.61429% | +------------+---------+-------------------------------------+ | 512 | 256 | -0.05136% | +------------+---------+-------------------------------------+ | 1024 | 256 | -0.03346% | +------------+---------+-------------------------------------+ | 1518 | 256 | -0.09843% | +------------+---------+-------------------------------------+ Ubuntu 18.04 Kernel: 4.15.0-generic Compiler: gcc 7.4 NIC: Mellanox ConnectX-4 Lx 40000 Mbps Target: x86_64-native-linuxapp-gcc Fail/Total: 0/6 Detail performance results: +------------+---------+-------------------------------------+ | frame_size | txd/rxd | throughput difference from expected | +============+=========+=====================================+ | 64 | 256 | 0.66792% | +------------+---------+-------------------------------------+ | 128 | 256 | 1.55695% | +------------+---------+-------------------------------------+ | 256 | 256 | 0.21219% | +------------+---------+-------------------------------------+ | 512 | 256 | -0.07988% | +------------+---------+-------------------------------------+ | 1024 | 256 | 0.0% | +------------+---------+-------------------------------------+ | 1518 | 256 | -0.21529% | +------------+---------+-------------------------------------+ To view detailed results, visit: https://lab.dpdk.org/results/dashboard/patchsets/17064/ UNH-IOL DPDK Community Lab To manage your email subscriptions, visit: https://lab.dpdk.org/results/dashboard/preferences/subscriptions/
[-- Attachment #1: Type: text/plain, Size: 4842 bytes --] Test-Label: iol-mellanox-Performance Test-Status: SUCCESS http://dpdk.org/patch/93197 _Performance Testing PASS_ Submitter: Tejasree Kondoj <ktejasree@marvell.com> Date: Wednesday, May 12 2021 10:11:43 DPDK git baseline: Repo:dpdk Branch: master CommitID:86ff0663639417f9d25907d09343a5c231e32a51 93197 --> performance testing pass Test environment and result as below: Ubuntu 18.04 Kernel: 4.15.0-generic Compiler: gcc 7.4 NIC: Mellanox ConnectX-5 100000 Mbps Target: x86_64-native-linuxapp-gcc Fail/Total: 0/6 Detail performance results: +------------+---------+-------------------------------------+ | frame_size | txd/rxd | throughput difference from expected | +============+=========+=====================================+ | 64 | 256 | -0.29263% | +------------+---------+-------------------------------------+ | 128 | 256 | -0.13989% | +------------+---------+-------------------------------------+ | 256 | 256 | 0.01997% | +------------+---------+-------------------------------------+ | 512 | 256 | 0.91034% | +------------+---------+-------------------------------------+ | 1024 | 256 | -1.05905% | +------------+---------+-------------------------------------+ | 1518 | 256 | -0.12903% | +------------+---------+-------------------------------------+ Ubuntu 18.04 Kernel: 4.15.0-generic Compiler: gcc 7.4 NIC: Mellanox ConnectX-4 Lx 25000 Mbps Target: x86_64-native-linuxapp-gcc Fail/Total: 0/6 Detail performance results: +------------+---------+-------------------------------------+ | frame_size | txd/rxd | throughput difference from expected | +============+=========+=====================================+ | 64 | 256 | -0.18659% | +------------+---------+-------------------------------------+ | 128 | 256 | 0.2937% | +------------+---------+-------------------------------------+ | 256 | 256 | 0.61429% | +------------+---------+-------------------------------------+ | 512 | 256 | -0.05136% | +------------+---------+-------------------------------------+ | 1024 | 256 | -0.03346% | +------------+---------+-------------------------------------+ | 1518 | 256 | -0.09843% | +------------+---------+-------------------------------------+ Ubuntu 18.04 Kernel: 4.15.0-generic Compiler: gcc 7.4 NIC: Mellanox ConnectX-4 Lx 40000 Mbps Target: x86_64-native-linuxapp-gcc Fail/Total: 0/6 Detail performance results: +------------+---------+-------------------------------------+ | frame_size | txd/rxd | throughput difference from expected | +============+=========+=====================================+ | 64 | 256 | 0.66792% | +------------+---------+-------------------------------------+ | 128 | 256 | 1.55695% | +------------+---------+-------------------------------------+ | 256 | 256 | 0.21219% | +------------+---------+-------------------------------------+ | 512 | 256 | -0.07988% | +------------+---------+-------------------------------------+ | 1024 | 256 | 0.0% | +------------+---------+-------------------------------------+ | 1518 | 256 | -0.21529% | +------------+---------+-------------------------------------+ Ubuntu 18.04 ARM Kernel: 4.15.0-132-generic Compiler: gcc 7.5 NIC: Arm Mellanox ConnectX-5 10000 Mbps Target: x86_64-native-linuxapp-gcc Fail/Total: 0/4 Detail performance results: +------------+---------+-------------------------------------+ | frame_size | txd/rxd | throughput difference from expected | +============+=========+=====================================+ | 64 | 128 | 0.10724% | +------------+---------+-------------------------------------+ | 64 | 256 | -0.12892% | +------------+---------+-------------------------------------+ | 64 | 512 | 0.60327% | +------------+---------+-------------------------------------+ | 64 | 2048 | -1.40739% | +------------+---------+-------------------------------------+ To view detailed results, visit: https://lab.dpdk.org/results/dashboard/patchsets/17064/ UNH-IOL DPDK Community Lab To manage your email subscriptions, visit: https://lab.dpdk.org/results/dashboard/preferences/subscriptions/
[-- Attachment #1: Type: text/plain, Size: 1051 bytes --] Test-Label: iol-mellanox-Functional Test-Status: SUCCESS http://dpdk.org/patch/93197 _Functional Testing PASS_ Submitter: Tejasree Kondoj <ktejasree@marvell.com> Date: Wednesday, May 12 2021 10:11:43 DPDK git baseline: Repo:dpdk Branch: master CommitID:86ff0663639417f9d25907d09343a5c231e32a51 93197 --> functional testing pass Test environment and result as below: Ubuntu 18.04 Kernel: 4.15.0-generic Compiler: gcc 7.4 NIC: Mellanox ConnectX-4 Lx 40000 Mbps Target: x86_64-native-linuxapp-gcc Fail/Total: 0/5 Ubuntu 18.04 Kernel: 4.15.0-generic Compiler: gcc 7.4 NIC: Mellanox ConnectX-4 Lx 25000 Mbps Target: x86_64-native-linuxapp-gcc Fail/Total: 0/5 Ubuntu 18.04 ARM Kernel: 4.15.0-132-generic Compiler: gcc 7.5 NIC: Arm Mellanox ConnectX-5 10000 Mbps Target: x86_64-native-linuxapp-gcc Fail/Total: 0/4 To view detailed results, visit: https://lab.dpdk.org/results/dashboard/patchsets/17064/ UNH-IOL DPDK Community Lab To manage your email subscriptions, visit: https://lab.dpdk.org/results/dashboard/preferences/subscriptions/