Test-Label: checkpatch Test-Status: SUCCESS http://dpdk.org/patch/93192 _coding style OK_
[-- Attachment #1: Type: text/plain, Size: 1255 bytes --] Test-Label: iol-intel-Performance Test-Status: SUCCESS http://dpdk.org/patch/93192 _Performance Testing PASS_ Submitter: Xing, Beilei <beilei.xing@intel.com> Date: Wednesday, May 12 2021 08:10:14 DPDK git baseline: Repo:dpdk Branch: master CommitID:86ff0663639417f9d25907d09343a5c231e32a51 93192 --> performance testing pass Test environment and result as below: Ubuntu 18.04 Kernel: 4.15.0-generic Compiler: gcc 7.4 NIC: Intel Corporation Ethernet Converged Network Adapter 82599ES 10000 Mbps Target: x86_64-native-linuxapp-gcc Fail/Total: 0/2 Detail performance results: +------------+---------+-------------------------------------+ | frame_size | txd/rxd | throughput difference from expected | +============+=========+=====================================+ | 64 | 512 | -0.65267% | +------------+---------+-------------------------------------+ | 64 | 2048 | 0.93081% | +------------+---------+-------------------------------------+ To view detailed results, visit: https://lab.dpdk.org/results/dashboard/patchsets/17061/ UNH-IOL DPDK Community Lab To manage your email subscriptions, visit: https://lab.dpdk.org/results/dashboard/preferences/subscriptions/
[-- Attachment #1: Type: text/plain, Size: 782 bytes --] Test-Label: iol-intel-Functional Test-Status: SUCCESS http://dpdk.org/patch/93192 _Functional Testing PASS_ Submitter: Xing, Beilei <beilei.xing@intel.com> Date: Wednesday, May 12 2021 08:10:14 DPDK git baseline: Repo:dpdk Branch: master CommitID:86ff0663639417f9d25907d09343a5c231e32a51 93192 --> functional testing pass Test environment and result as below: Ubuntu 18.04 Kernel: 4.15.0-generic Compiler: gcc 7.4 NIC: Intel Corporation Ethernet Converged Network Adapter 82599ES 10000 Mbps Target: x86_64-native-linuxapp-gcc Fail/Total: 0/5 To view detailed results, visit: https://lab.dpdk.org/results/dashboard/patchsets/17061/ UNH-IOL DPDK Community Lab To manage your email subscriptions, visit: https://lab.dpdk.org/results/dashboard/preferences/subscriptions/
[-- Attachment #1: Type: text/plain, Size: 1255 bytes --] Test-Label: iol-intel-Performance Test-Status: SUCCESS http://dpdk.org/patch/93192 _Performance Testing PASS_ Submitter: Xing, Beilei <beilei.xing@intel.com> Date: Wednesday, May 12 2021 08:10:14 DPDK git baseline: Repo:dpdk Branch: master CommitID:86ff0663639417f9d25907d09343a5c231e32a51 93192 --> performance testing pass Test environment and result as below: Ubuntu 18.04 Kernel: 4.15.0-generic Compiler: gcc 7.4 NIC: Intel Corporation Ethernet Converged Network Adapter 82599ES 10000 Mbps Target: x86_64-native-linuxapp-gcc Fail/Total: 0/2 Detail performance results: +------------+---------+-------------------------------------+ | frame_size | txd/rxd | throughput difference from expected | +============+=========+=====================================+ | 64 | 512 | -0.62429% | +------------+---------+-------------------------------------+ | 64 | 2048 | 0.34412% | +------------+---------+-------------------------------------+ To view detailed results, visit: https://lab.dpdk.org/results/dashboard/patchsets/17061/ UNH-IOL DPDK Community Lab To manage your email subscriptions, visit: https://lab.dpdk.org/results/dashboard/preferences/subscriptions/
[-- Attachment #1: Type: text/plain, Size: 782 bytes --] Test-Label: iol-intel-Functional Test-Status: SUCCESS http://dpdk.org/patch/93192 _Functional Testing PASS_ Submitter: Xing, Beilei <beilei.xing@intel.com> Date: Wednesday, May 12 2021 08:10:14 DPDK git baseline: Repo:dpdk Branch: master CommitID:86ff0663639417f9d25907d09343a5c231e32a51 93192 --> functional testing pass Test environment and result as below: Ubuntu 18.04 Kernel: 4.15.0-generic Compiler: gcc 7.4 NIC: Intel Corporation Ethernet Converged Network Adapter 82599ES 10000 Mbps Target: x86_64-native-linuxapp-gcc Fail/Total: 0/5 To view detailed results, visit: https://lab.dpdk.org/results/dashboard/patchsets/17061/ UNH-IOL DPDK Community Lab To manage your email subscriptions, visit: https://lab.dpdk.org/results/dashboard/preferences/subscriptions/
[-- Attachment #1: Type: text/plain, Size: 4638 bytes --] Test-Label: iol-testing Test-Status: SUCCESS http://dpdk.org/patch/93192 _Testing PASS_ Submitter: Xing, Beilei <beilei.xing@intel.com> Date: Wednesday, May 12 2021 08:10:14 DPDK git baseline: Repo:dpdk Branch: master CommitID:86ff0663639417f9d25907d09343a5c231e32a51 93192 --> testing pass Test environment and result as below: +---------------------+----------------------+--------------------+-------------------+----------------+ | Environment | dpdk_mingw64_compile | dpdk_meson_compile | dpdk_compile_spdk | dpdk_unit_test | +=====================+======================+====================+===================+================+ | Windows Server 2019 | PASS | PASS | SKIPPED | SKIPPED | +---------------------+----------------------+--------------------+-------------------+----------------+ | Ubuntu 18.04 ARM | SKIPPED | PASS | SKIPPED | SKIPPED | +---------------------+----------------------+--------------------+-------------------+----------------+ | CentOS Stream 8 | SKIPPED | PASS | SKIPPED | SKIPPED | +---------------------+----------------------+--------------------+-------------------+----------------+ | FreeBSD 11.2 | SKIPPED | PASS | SKIPPED | SKIPPED | +---------------------+----------------------+--------------------+-------------------+----------------+ | Fedora 31 | SKIPPED | PASS | SKIPPED | SKIPPED | +---------------------+----------------------+--------------------+-------------------+----------------+ | CentOS 8 | SKIPPED | PASS | SKIPPED | SKIPPED | +---------------------+----------------------+--------------------+-------------------+----------------+ | Ubuntu 18.04 | SKIPPED | PASS | PASS | PASS | +---------------------+----------------------+--------------------+-------------------+----------------+ | RHEL 7 | SKIPPED | PASS | SKIPPED | SKIPPED | +---------------------+----------------------+--------------------+-------------------+----------------+ | Arch Linux | SKIPPED | PASS | SKIPPED | SKIPPED | +---------------------+----------------------+--------------------+-------------------+----------------+ | Fedora 32 | SKIPPED | PASS | SKIPPED | SKIPPED | +---------------------+----------------------+--------------------+-------------------+----------------+ | Ubuntu 20.04 | SKIPPED | PASS | SKIPPED | SKIPPED | +---------------------+----------------------+--------------------+-------------------+----------------+ | openSUSE Leap 15 | SKIPPED | PASS | SKIPPED | SKIPPED | +---------------------+----------------------+--------------------+-------------------+----------------+ | RHEL8 | SKIPPED | PASS | SKIPPED | SKIPPED | +---------------------+----------------------+--------------------+-------------------+----------------+ Windows Server 2019 Kernel: 10.0 Compiler: clang 9.0 and gcc 8.1.0 (MinGW) Ubuntu 18.04 ARM Kernel: 5.4.0-53-generic Compiler: gcc 9.3 CentOS Stream 8 Kernel: 4.18.0-240.10.1.el8_3.x86_64 Compiler: gcc 8.4.1 20200928 FreeBSD 11.2 Kernel: 11.2 Compiler: gcc 8.3 Fedora 31 Kernel: 4.18.0-240.10.1.el8_3.x86_64 Compiler: gcc 9.3.1 CentOS 8 Kernel: 4.18.0-240.10.1.el8_3.x86_64 Compiler: gcc 8.3.1 20191121 (Red Hat 8.3.1-5) Ubuntu 18.04 Kernel: 4.18.0-240.10.1.el8_3.x86_64 Compiler: gcc 7.5.0-3ubuntu1~18.04 RHEL 7 Kernel: 4.18.0-240.10.1.el8_3.x86_64 Compiler: gcc 4.8.5 20150623 (Red Hat 4.8.5-44) Arch Linux Kernel: 4.18.0-240.10.1.el8_3.x86_64 Compiler: gcc 10.2.0 Fedora 32 Kernel: 4.18.0-240.10.1.el8_3.x86_64 Compiler: gcc 10.2.1 Ubuntu 20.04 Kernel: 4.18.0-240.10.1.el8_3.x86_64 Compiler: gcc 9.3.0-17ubuntu1~20.04 openSUSE Leap 15 Kernel: 4.18.0-240.10.1.el8_3.x86_64 Compiler: gcc 7.5.0 RHEL8 Kernel: 4.18.0-240.10.1.el8_3.x86_64 Compiler: gcc 8.3.1 20191121 (Red Hat 8.3.1-5) To view detailed results, visit: https://lab.dpdk.org/results/dashboard/patchsets/17061/ UNH-IOL DPDK Community Lab To manage your email subscriptions, visit: https://lab.dpdk.org/results/dashboard/preferences/subscriptions/
[-- Attachment #1: Type: text/plain, Size: 2272 bytes --] Test-Label: iol-abi-testing Test-Status: SUCCESS http://dpdk.org/patch/93192 _Testing PASS_ Submitter: Xing, Beilei <beilei.xing@intel.com> Date: Wednesday, May 12 2021 08:10:14 DPDK git baseline: Repo:dpdk Branch: master CommitID:86ff0663639417f9d25907d09343a5c231e32a51 93192 --> testing pass Test environment and result as below: +------------------+----------+ | Environment | abi_test | +==================+==========+ | Ubuntu 18.04 ARM | PASS | +------------------+----------+ | RHEL8 | PASS | +------------------+----------+ | Ubuntu 18.04 | PASS | +------------------+----------+ | RHEL 7 | PASS | +------------------+----------+ | Ubuntu 20.04 | PASS | +------------------+----------+ | Arch Linux | PASS | +------------------+----------+ | Fedora 32 | PASS | +------------------+----------+ | CentOS Stream 8 | PASS | +------------------+----------+ | openSUSE Leap 15 | PASS | +------------------+----------+ | CentOS 8 | PASS | +------------------+----------+ | Fedora 31 | PASS | +------------------+----------+ Ubuntu 18.04 ARM Kernel: 5.4.0-53-generic Compiler: gcc 9.3 RHEL8 Kernel: 4.18.0-240.10.1.el8_3.x86_64 Compiler: gcc 8.3.1 20191121 (Red Hat 8.3.1-5) Ubuntu 18.04 Kernel: 4.18.0-240.10.1.el8_3.x86_64 Compiler: gcc 7.5.0-3ubuntu1~18.04 RHEL 7 Kernel: 4.18.0-240.10.1.el8_3.x86_64 Compiler: gcc 4.8.5 20150623 (Red Hat 4.8.5-44) Ubuntu 20.04 Kernel: 4.18.0-240.10.1.el8_3.x86_64 Compiler: gcc 9.3.0-17ubuntu1~20.04 Arch Linux Kernel: 4.18.0-240.10.1.el8_3.x86_64 Compiler: gcc 10.2.0 Fedora 32 Kernel: 4.18.0-240.10.1.el8_3.x86_64 Compiler: gcc 10.2.1 CentOS Stream 8 Kernel: 4.18.0-240.10.1.el8_3.x86_64 Compiler: gcc 8.4.1 20200928 openSUSE Leap 15 Kernel: 4.18.0-240.10.1.el8_3.x86_64 Compiler: gcc 7.5.0 CentOS 8 Kernel: 4.18.0-240.10.1.el8_3.x86_64 Compiler: gcc 8.3.1 20191121 (Red Hat 8.3.1-5) Fedora 31 Kernel: 4.18.0-240.10.1.el8_3.x86_64 Compiler: gcc 9.3.1 To view detailed results, visit: https://lab.dpdk.org/results/dashboard/patchsets/17061/ UNH-IOL DPDK Community Lab To manage your email subscriptions, visit: https://lab.dpdk.org/results/dashboard/preferences/subscriptions/
[-- Attachment #1: Type: text/plain, Size: 1722 bytes --] Test-Label: iol-mellanox-Performance Test-Status: SUCCESS http://dpdk.org/patch/93192 _Performance Testing PASS_ Submitter: Xing, Beilei <beilei.xing@intel.com> Date: Wednesday, May 12 2021 08:10:14 DPDK git baseline: Repo:dpdk Branch: master CommitID:86ff0663639417f9d25907d09343a5c231e32a51 93192 --> performance testing pass Test environment and result as below: Ubuntu 18.04 Kernel: 4.15.0-generic Compiler: gcc 7.4 NIC: Mellanox ConnectX-5 100000 Mbps Target: x86_64-native-linuxapp-gcc Fail/Total: 0/6 Detail performance results: +------------+---------+-------------------------------------+ | frame_size | txd/rxd | throughput difference from expected | +============+=========+=====================================+ | 64 | 256 | -0.13257% | +------------+---------+-------------------------------------+ | 128 | 256 | -0.15094% | +------------+---------+-------------------------------------+ | 256 | 256 | 0.05243% | +------------+---------+-------------------------------------+ | 512 | 256 | 0.4796% | +------------+---------+-------------------------------------+ | 1024 | 256 | 0.72863% | +------------+---------+-------------------------------------+ | 1518 | 256 | -0.12903% | +------------+---------+-------------------------------------+ To view detailed results, visit: https://lab.dpdk.org/results/dashboard/patchsets/17061/ UNH-IOL DPDK Community Lab To manage your email subscriptions, visit: https://lab.dpdk.org/results/dashboard/preferences/subscriptions/
[-- Attachment #1: Type: text/plain, Size: 2842 bytes --] Test-Label: iol-mellanox-Performance Test-Status: SUCCESS http://dpdk.org/patch/93192 _Performance Testing PASS_ Submitter: Xing, Beilei <beilei.xing@intel.com> Date: Wednesday, May 12 2021 08:10:14 DPDK git baseline: Repo:dpdk Branch: master CommitID:86ff0663639417f9d25907d09343a5c231e32a51 93192 --> performance testing pass Test environment and result as below: Ubuntu 18.04 Kernel: 4.15.0-generic Compiler: gcc 7.4 NIC: Mellanox ConnectX-5 100000 Mbps Target: x86_64-native-linuxapp-gcc Fail/Total: 0/6 Detail performance results: +------------+---------+-------------------------------------+ | frame_size | txd/rxd | throughput difference from expected | +============+=========+=====================================+ | 64 | 256 | -0.13257% | +------------+---------+-------------------------------------+ | 128 | 256 | -0.15094% | +------------+---------+-------------------------------------+ | 256 | 256 | 0.05243% | +------------+---------+-------------------------------------+ | 512 | 256 | 0.4796% | +------------+---------+-------------------------------------+ | 1024 | 256 | 0.72863% | +------------+---------+-------------------------------------+ | 1518 | 256 | -0.12903% | +------------+---------+-------------------------------------+ Ubuntu 18.04 Kernel: 4.15.0-generic Compiler: gcc 7.4 NIC: Mellanox ConnectX-4 Lx 40000 Mbps Target: x86_64-native-linuxapp-gcc Fail/Total: 0/6 Detail performance results: +------------+---------+-------------------------------------+ | frame_size | txd/rxd | throughput difference from expected | +============+=========+=====================================+ | 64 | 256 | 0.11703% | +------------+---------+-------------------------------------+ | 128 | 256 | -0.12879% | +------------+---------+-------------------------------------+ | 256 | 256 | 0.14268% | +------------+---------+-------------------------------------+ | 512 | 256 | 0.06923% | +------------+---------+-------------------------------------+ | 1024 | 256 | -0.02088% | +------------+---------+-------------------------------------+ | 1518 | 256 | 0.0% | +------------+---------+-------------------------------------+ To view detailed results, visit: https://lab.dpdk.org/results/dashboard/patchsets/17061/ UNH-IOL DPDK Community Lab To manage your email subscriptions, visit: https://lab.dpdk.org/results/dashboard/preferences/subscriptions/
[-- Attachment #1: Type: text/plain, Size: 3962 bytes --] Test-Label: iol-mellanox-Performance Test-Status: SUCCESS http://dpdk.org/patch/93192 _Performance Testing PASS_ Submitter: Xing, Beilei <beilei.xing@intel.com> Date: Wednesday, May 12 2021 08:10:14 DPDK git baseline: Repo:dpdk Branch: master CommitID:86ff0663639417f9d25907d09343a5c231e32a51 93192 --> performance testing pass Test environment and result as below: Ubuntu 18.04 Kernel: 4.15.0-generic Compiler: gcc 7.4 NIC: Mellanox ConnectX-5 100000 Mbps Target: x86_64-native-linuxapp-gcc Fail/Total: 0/6 Detail performance results: +------------+---------+-------------------------------------+ | frame_size | txd/rxd | throughput difference from expected | +============+=========+=====================================+ | 64 | 256 | -0.13257% | +------------+---------+-------------------------------------+ | 128 | 256 | -0.15094% | +------------+---------+-------------------------------------+ | 256 | 256 | 0.05243% | +------------+---------+-------------------------------------+ | 512 | 256 | 0.4796% | +------------+---------+-------------------------------------+ | 1024 | 256 | 0.72863% | +------------+---------+-------------------------------------+ | 1518 | 256 | -0.12903% | +------------+---------+-------------------------------------+ Ubuntu 18.04 Kernel: 4.15.0-generic Compiler: gcc 7.4 NIC: Mellanox ConnectX-4 Lx 40000 Mbps Target: x86_64-native-linuxapp-gcc Fail/Total: 0/6 Detail performance results: +------------+---------+-------------------------------------+ | frame_size | txd/rxd | throughput difference from expected | +============+=========+=====================================+ | 64 | 256 | 0.11703% | +------------+---------+-------------------------------------+ | 128 | 256 | -0.12879% | +------------+---------+-------------------------------------+ | 256 | 256 | 0.14268% | +------------+---------+-------------------------------------+ | 512 | 256 | 0.06923% | +------------+---------+-------------------------------------+ | 1024 | 256 | -0.02088% | +------------+---------+-------------------------------------+ | 1518 | 256 | 0.0% | +------------+---------+-------------------------------------+ Ubuntu 18.04 Kernel: 4.15.0-generic Compiler: gcc 7.4 NIC: Mellanox ConnectX-4 Lx 25000 Mbps Target: x86_64-native-linuxapp-gcc Fail/Total: 0/6 Detail performance results: +------------+---------+-------------------------------------+ | frame_size | txd/rxd | throughput difference from expected | +============+=========+=====================================+ | 64 | 256 | -0.28837% | +------------+---------+-------------------------------------+ | 128 | 256 | -0.03801% | +------------+---------+-------------------------------------+ | 256 | 256 | -0.13376% | +------------+---------+-------------------------------------+ | 512 | 256 | -0.35953% | +------------+---------+-------------------------------------+ | 1024 | 256 | 0.2175% | +------------+---------+-------------------------------------+ | 1518 | 256 | -0.04921% | +------------+---------+-------------------------------------+ To view detailed results, visit: https://lab.dpdk.org/results/dashboard/patchsets/17061/ UNH-IOL DPDK Community Lab To manage your email subscriptions, visit: https://lab.dpdk.org/results/dashboard/preferences/subscriptions/
[-- Attachment #1: Type: text/plain, Size: 3962 bytes --] Test-Label: iol-mellanox-Performance Test-Status: SUCCESS http://dpdk.org/patch/93192 _Performance Testing PASS_ Submitter: Xing, Beilei <beilei.xing@intel.com> Date: Wednesday, May 12 2021 08:10:14 DPDK git baseline: Repo:dpdk Branch: master CommitID:86ff0663639417f9d25907d09343a5c231e32a51 93192 --> performance testing pass Test environment and result as below: Ubuntu 18.04 Kernel: 4.15.0-generic Compiler: gcc 7.4 NIC: Mellanox ConnectX-5 100000 Mbps Target: x86_64-native-linuxapp-gcc Fail/Total: 0/6 Detail performance results: +------------+---------+-------------------------------------+ | frame_size | txd/rxd | throughput difference from expected | +============+=========+=====================================+ | 64 | 256 | -0.13581% | +------------+---------+-------------------------------------+ | 128 | 256 | -0.0589% | +------------+---------+-------------------------------------+ | 256 | 256 | 0.31954% | +------------+---------+-------------------------------------+ | 512 | 256 | 0.86149% | +------------+---------+-------------------------------------+ | 1024 | 256 | -0.05931% | +------------+---------+-------------------------------------+ | 1518 | 256 | 0.17595% | +------------+---------+-------------------------------------+ Ubuntu 18.04 Kernel: 4.15.0-generic Compiler: gcc 7.4 NIC: Mellanox ConnectX-4 Lx 40000 Mbps Target: x86_64-native-linuxapp-gcc Fail/Total: 0/6 Detail performance results: +------------+---------+-------------------------------------+ | frame_size | txd/rxd | throughput difference from expected | +============+=========+=====================================+ | 64 | 256 | 0.11703% | +------------+---------+-------------------------------------+ | 128 | 256 | -0.12879% | +------------+---------+-------------------------------------+ | 256 | 256 | 0.14268% | +------------+---------+-------------------------------------+ | 512 | 256 | 0.06923% | +------------+---------+-------------------------------------+ | 1024 | 256 | -0.02088% | +------------+---------+-------------------------------------+ | 1518 | 256 | 0.0% | +------------+---------+-------------------------------------+ Ubuntu 18.04 Kernel: 4.15.0-generic Compiler: gcc 7.4 NIC: Mellanox ConnectX-4 Lx 25000 Mbps Target: x86_64-native-linuxapp-gcc Fail/Total: 0/6 Detail performance results: +------------+---------+-------------------------------------+ | frame_size | txd/rxd | throughput difference from expected | +============+=========+=====================================+ | 64 | 256 | -0.28837% | +------------+---------+-------------------------------------+ | 128 | 256 | -0.03801% | +------------+---------+-------------------------------------+ | 256 | 256 | -0.13376% | +------------+---------+-------------------------------------+ | 512 | 256 | -0.35953% | +------------+---------+-------------------------------------+ | 1024 | 256 | 0.2175% | +------------+---------+-------------------------------------+ | 1518 | 256 | -0.04921% | +------------+---------+-------------------------------------+ To view detailed results, visit: https://lab.dpdk.org/results/dashboard/patchsets/17061/ UNH-IOL DPDK Community Lab To manage your email subscriptions, visit: https://lab.dpdk.org/results/dashboard/preferences/subscriptions/
[-- Attachment #1: Type: text/plain, Size: 893 bytes --] Test-Label: iol-mellanox-Functional Test-Status: SUCCESS http://dpdk.org/patch/93192 _Functional Testing PASS_ Submitter: Xing, Beilei <beilei.xing@intel.com> Date: Wednesday, May 12 2021 08:10:14 DPDK git baseline: Repo:dpdk Branch: master CommitID:86ff0663639417f9d25907d09343a5c231e32a51 93192 --> functional testing pass Test environment and result as below: Ubuntu 18.04 Kernel: 4.15.0-generic Compiler: gcc 7.4 NIC: Mellanox ConnectX-4 Lx 40000 Mbps Target: x86_64-native-linuxapp-gcc Fail/Total: 0/5 Ubuntu 18.04 Kernel: 4.15.0-generic Compiler: gcc 7.4 NIC: Mellanox ConnectX-4 Lx 25000 Mbps Target: x86_64-native-linuxapp-gcc Fail/Total: 0/5 To view detailed results, visit: https://lab.dpdk.org/results/dashboard/patchsets/17061/ UNH-IOL DPDK Community Lab To manage your email subscriptions, visit: https://lab.dpdk.org/results/dashboard/preferences/subscriptions/
[-- Attachment #1: Type: text/plain, Size: 3962 bytes --] Test-Label: iol-mellanox-Performance Test-Status: SUCCESS http://dpdk.org/patch/93192 _Performance Testing PASS_ Submitter: Xing, Beilei <beilei.xing@intel.com> Date: Wednesday, May 12 2021 08:10:14 DPDK git baseline: Repo:dpdk Branch: master CommitID:86ff0663639417f9d25907d09343a5c231e32a51 93192 --> performance testing pass Test environment and result as below: Ubuntu 18.04 Kernel: 4.15.0-generic Compiler: gcc 7.4 NIC: Mellanox ConnectX-5 100000 Mbps Target: x86_64-native-linuxapp-gcc Fail/Total: 0/6 Detail performance results: +------------+---------+-------------------------------------+ | frame_size | txd/rxd | throughput difference from expected | +============+=========+=====================================+ | 64 | 256 | -0.13581% | +------------+---------+-------------------------------------+ | 128 | 256 | -0.0589% | +------------+---------+-------------------------------------+ | 256 | 256 | 0.31954% | +------------+---------+-------------------------------------+ | 512 | 256 | 0.86149% | +------------+---------+-------------------------------------+ | 1024 | 256 | -0.05931% | +------------+---------+-------------------------------------+ | 1518 | 256 | 0.17595% | +------------+---------+-------------------------------------+ Ubuntu 18.04 Kernel: 4.15.0-generic Compiler: gcc 7.4 NIC: Mellanox ConnectX-4 Lx 40000 Mbps Target: x86_64-native-linuxapp-gcc Fail/Total: 0/6 Detail performance results: +------------+---------+-------------------------------------+ | frame_size | txd/rxd | throughput difference from expected | +============+=========+=====================================+ | 64 | 256 | 0.11703% | +------------+---------+-------------------------------------+ | 128 | 256 | -0.12879% | +------------+---------+-------------------------------------+ | 256 | 256 | 0.14268% | +------------+---------+-------------------------------------+ | 512 | 256 | 0.06923% | +------------+---------+-------------------------------------+ | 1024 | 256 | -0.02088% | +------------+---------+-------------------------------------+ | 1518 | 256 | 0.0% | +------------+---------+-------------------------------------+ Ubuntu 18.04 Kernel: 4.15.0-generic Compiler: gcc 7.4 NIC: Mellanox ConnectX-4 Lx 25000 Mbps Target: x86_64-native-linuxapp-gcc Fail/Total: 0/6 Detail performance results: +------------+---------+-------------------------------------+ | frame_size | txd/rxd | throughput difference from expected | +============+=========+=====================================+ | 64 | 256 | 0.20356% | +------------+---------+-------------------------------------+ | 128 | 256 | 0.12785% | +------------+---------+-------------------------------------+ | 256 | 256 | -1.03537% | +------------+---------+-------------------------------------+ | 512 | 256 | 0.10272% | +------------+---------+-------------------------------------+ | 1024 | 256 | 0.01673% | +------------+---------+-------------------------------------+ | 1518 | 256 | -0.19685% | +------------+---------+-------------------------------------+ To view detailed results, visit: https://lab.dpdk.org/results/dashboard/patchsets/17061/ UNH-IOL DPDK Community Lab To manage your email subscriptions, visit: https://lab.dpdk.org/results/dashboard/preferences/subscriptions/
[-- Attachment #1: Type: text/plain, Size: 893 bytes --] Test-Label: iol-mellanox-Functional Test-Status: SUCCESS http://dpdk.org/patch/93192 _Functional Testing PASS_ Submitter: Xing, Beilei <beilei.xing@intel.com> Date: Wednesday, May 12 2021 08:10:14 DPDK git baseline: Repo:dpdk Branch: master CommitID:86ff0663639417f9d25907d09343a5c231e32a51 93192 --> functional testing pass Test environment and result as below: Ubuntu 18.04 Kernel: 4.15.0-generic Compiler: gcc 7.4 NIC: Mellanox ConnectX-4 Lx 40000 Mbps Target: x86_64-native-linuxapp-gcc Fail/Total: 0/5 Ubuntu 18.04 Kernel: 4.15.0-generic Compiler: gcc 7.4 NIC: Mellanox ConnectX-4 Lx 25000 Mbps Target: x86_64-native-linuxapp-gcc Fail/Total: 0/5 To view detailed results, visit: https://lab.dpdk.org/results/dashboard/patchsets/17061/ UNH-IOL DPDK Community Lab To manage your email subscriptions, visit: https://lab.dpdk.org/results/dashboard/preferences/subscriptions/
[-- Attachment #1: Type: text/plain, Size: 3962 bytes --] Test-Label: iol-mellanox-Performance Test-Status: SUCCESS http://dpdk.org/patch/93192 _Performance Testing PASS_ Submitter: Xing, Beilei <beilei.xing@intel.com> Date: Wednesday, May 12 2021 08:10:14 DPDK git baseline: Repo:dpdk Branch: master CommitID:86ff0663639417f9d25907d09343a5c231e32a51 93192 --> performance testing pass Test environment and result as below: Ubuntu 18.04 Kernel: 4.15.0-generic Compiler: gcc 7.4 NIC: Mellanox ConnectX-5 100000 Mbps Target: x86_64-native-linuxapp-gcc Fail/Total: 0/6 Detail performance results: +------------+---------+-------------------------------------+ | frame_size | txd/rxd | throughput difference from expected | +============+=========+=====================================+ | 64 | 256 | -0.13581% | +------------+---------+-------------------------------------+ | 128 | 256 | -0.0589% | +------------+---------+-------------------------------------+ | 256 | 256 | 0.31954% | +------------+---------+-------------------------------------+ | 512 | 256 | 0.86149% | +------------+---------+-------------------------------------+ | 1024 | 256 | -0.05931% | +------------+---------+-------------------------------------+ | 1518 | 256 | 0.17595% | +------------+---------+-------------------------------------+ Ubuntu 18.04 Kernel: 4.15.0-generic Compiler: gcc 7.4 NIC: Mellanox ConnectX-4 Lx 40000 Mbps Target: x86_64-native-linuxapp-gcc Fail/Total: 0/6 Detail performance results: +------------+---------+-------------------------------------+ | frame_size | txd/rxd | throughput difference from expected | +============+=========+=====================================+ | 64 | 256 | 0.42245% | +------------+---------+-------------------------------------+ | 128 | 256 | 0.63251% | +------------+---------+-------------------------------------+ | 256 | 256 | 0.29999% | +------------+---------+-------------------------------------+ | 512 | 256 | -0.05326% | +------------+---------+-------------------------------------+ | 1024 | 256 | 0.01044% | +------------+---------+-------------------------------------+ | 1518 | 256 | -0.19991% | +------------+---------+-------------------------------------+ Ubuntu 18.04 Kernel: 4.15.0-generic Compiler: gcc 7.4 NIC: Mellanox ConnectX-4 Lx 25000 Mbps Target: x86_64-native-linuxapp-gcc Fail/Total: 0/6 Detail performance results: +------------+---------+-------------------------------------+ | frame_size | txd/rxd | throughput difference from expected | +============+=========+=====================================+ | 64 | 256 | 0.20356% | +------------+---------+-------------------------------------+ | 128 | 256 | 0.12785% | +------------+---------+-------------------------------------+ | 256 | 256 | -1.03537% | +------------+---------+-------------------------------------+ | 512 | 256 | 0.10272% | +------------+---------+-------------------------------------+ | 1024 | 256 | 0.01673% | +------------+---------+-------------------------------------+ | 1518 | 256 | -0.19685% | +------------+---------+-------------------------------------+ To view detailed results, visit: https://lab.dpdk.org/results/dashboard/patchsets/17061/ UNH-IOL DPDK Community Lab To manage your email subscriptions, visit: https://lab.dpdk.org/results/dashboard/preferences/subscriptions/
[-- Attachment #1: Type: text/plain, Size: 1924 bytes --] Test-Label: iol-intel-Performance Test-Status: SUCCESS http://dpdk.org/patch/93192 _Performance Testing PASS_ Submitter: Xing, Beilei <beilei.xing@intel.com> Date: Wednesday, May 12 2021 08:10:14 DPDK git baseline: Repo:dpdk Branch: master CommitID:86ff0663639417f9d25907d09343a5c231e32a51 93192 --> performance testing pass Test environment and result as below: Ubuntu 18.04 Kernel: 4.15.0-generic Compiler: gcc 7.4 NIC: Intel Corporation Ethernet Converged Network Adapter 82599ES 10000 Mbps Target: x86_64-native-linuxapp-gcc Fail/Total: 0/2 Detail performance results: +------------+---------+-------------------------------------+ | frame_size | txd/rxd | throughput difference from expected | +============+=========+=====================================+ | 64 | 512 | -0.62429% | +------------+---------+-------------------------------------+ | 64 | 2048 | 0.34412% | +------------+---------+-------------------------------------+ Ubuntu 18.04 ARM Kernel: 4.15.0-132-generic Compiler: gcc 7.5 NIC: Arm Intel Corporation Ethernet Converged Network Adapter XL710-QDA2 40000 Mbps Target: x86_64-native-linuxapp-gcc Fail/Total: 0/2 Detail performance results: +------------+---------+-------------------------------------+ | frame_size | txd/rxd | throughput difference from expected | +============+=========+=====================================+ | 64 | 512 | -0.05694% | +------------+---------+-------------------------------------+ | 64 | 2048 | 0.0428% | +------------+---------+-------------------------------------+ To view detailed results, visit: https://lab.dpdk.org/results/dashboard/patchsets/17061/ UNH-IOL DPDK Community Lab To manage your email subscriptions, visit: https://lab.dpdk.org/results/dashboard/preferences/subscriptions/
[-- Attachment #1: Type: text/plain, Size: 981 bytes --] Test-Label: iol-intel-Functional Test-Status: SUCCESS http://dpdk.org/patch/93192 _Functional Testing PASS_ Submitter: Xing, Beilei <beilei.xing@intel.com> Date: Wednesday, May 12 2021 08:10:14 DPDK git baseline: Repo:dpdk Branch: master CommitID:86ff0663639417f9d25907d09343a5c231e32a51 93192 --> functional testing pass Test environment and result as below: Ubuntu 18.04 Kernel: 4.15.0-generic Compiler: gcc 7.4 NIC: Intel Corporation Ethernet Converged Network Adapter 82599ES 10000 Mbps Target: x86_64-native-linuxapp-gcc Fail/Total: 0/5 Ubuntu 18.04 ARM Kernel: 4.15.0-132-generic Compiler: gcc 7.5 NIC: Arm Intel Corporation Ethernet Converged Network Adapter XL710-QDA2 40000 Mbps Target: x86_64-native-linuxapp-gcc Fail/Total: 0/5 To view detailed results, visit: https://lab.dpdk.org/results/dashboard/patchsets/17061/ UNH-IOL DPDK Community Lab To manage your email subscriptions, visit: https://lab.dpdk.org/results/dashboard/preferences/subscriptions/
[-- Attachment #1: Type: text/plain, Size: 4839 bytes --] Test-Label: iol-mellanox-Performance Test-Status: SUCCESS http://dpdk.org/patch/93192 _Performance Testing PASS_ Submitter: Xing, Beilei <beilei.xing@intel.com> Date: Wednesday, May 12 2021 08:10:14 DPDK git baseline: Repo:dpdk Branch: master CommitID:86ff0663639417f9d25907d09343a5c231e32a51 93192 --> performance testing pass Test environment and result as below: Ubuntu 18.04 Kernel: 4.15.0-generic Compiler: gcc 7.4 NIC: Mellanox ConnectX-5 100000 Mbps Target: x86_64-native-linuxapp-gcc Fail/Total: 0/6 Detail performance results: +------------+---------+-------------------------------------+ | frame_size | txd/rxd | throughput difference from expected | +============+=========+=====================================+ | 64 | 256 | -0.13581% | +------------+---------+-------------------------------------+ | 128 | 256 | -0.0589% | +------------+---------+-------------------------------------+ | 256 | 256 | 0.31954% | +------------+---------+-------------------------------------+ | 512 | 256 | 0.86149% | +------------+---------+-------------------------------------+ | 1024 | 256 | -0.05931% | +------------+---------+-------------------------------------+ | 1518 | 256 | 0.17595% | +------------+---------+-------------------------------------+ Ubuntu 18.04 Kernel: 4.15.0-generic Compiler: gcc 7.4 NIC: Mellanox ConnectX-4 Lx 40000 Mbps Target: x86_64-native-linuxapp-gcc Fail/Total: 0/6 Detail performance results: +------------+---------+-------------------------------------+ | frame_size | txd/rxd | throughput difference from expected | +============+=========+=====================================+ | 64 | 256 | 0.42245% | +------------+---------+-------------------------------------+ | 128 | 256 | 0.63251% | +------------+---------+-------------------------------------+ | 256 | 256 | 0.29999% | +------------+---------+-------------------------------------+ | 512 | 256 | -0.05326% | +------------+---------+-------------------------------------+ | 1024 | 256 | 0.01044% | +------------+---------+-------------------------------------+ | 1518 | 256 | -0.19991% | +------------+---------+-------------------------------------+ Ubuntu 18.04 Kernel: 4.15.0-generic Compiler: gcc 7.4 NIC: Mellanox ConnectX-4 Lx 25000 Mbps Target: x86_64-native-linuxapp-gcc Fail/Total: 0/6 Detail performance results: +------------+---------+-------------------------------------+ | frame_size | txd/rxd | throughput difference from expected | +============+=========+=====================================+ | 64 | 256 | 0.20356% | +------------+---------+-------------------------------------+ | 128 | 256 | 0.12785% | +------------+---------+-------------------------------------+ | 256 | 256 | -1.03537% | +------------+---------+-------------------------------------+ | 512 | 256 | 0.10272% | +------------+---------+-------------------------------------+ | 1024 | 256 | 0.01673% | +------------+---------+-------------------------------------+ | 1518 | 256 | -0.19685% | +------------+---------+-------------------------------------+ Ubuntu 18.04 ARM Kernel: 4.15.0-132-generic Compiler: gcc 7.5 NIC: Arm Mellanox ConnectX-5 10000 Mbps Target: x86_64-native-linuxapp-gcc Fail/Total: 0/4 Detail performance results: +------------+---------+-------------------------------------+ | frame_size | txd/rxd | throughput difference from expected | +============+=========+=====================================+ | 64 | 128 | 0.11796% | +------------+---------+-------------------------------------+ | 64 | 256 | 0.08595% | +------------+---------+-------------------------------------+ | 64 | 512 | 2.02918% | +------------+---------+-------------------------------------+ | 64 | 2048 | -0.42974% | +------------+---------+-------------------------------------+ To view detailed results, visit: https://lab.dpdk.org/results/dashboard/patchsets/17061/ UNH-IOL DPDK Community Lab To manage your email subscriptions, visit: https://lab.dpdk.org/results/dashboard/preferences/subscriptions/
[-- Attachment #1: Type: text/plain, Size: 1048 bytes --] Test-Label: iol-mellanox-Functional Test-Status: SUCCESS http://dpdk.org/patch/93192 _Functional Testing PASS_ Submitter: Xing, Beilei <beilei.xing@intel.com> Date: Wednesday, May 12 2021 08:10:14 DPDK git baseline: Repo:dpdk Branch: master CommitID:86ff0663639417f9d25907d09343a5c231e32a51 93192 --> functional testing pass Test environment and result as below: Ubuntu 18.04 Kernel: 4.15.0-generic Compiler: gcc 7.4 NIC: Mellanox ConnectX-4 Lx 40000 Mbps Target: x86_64-native-linuxapp-gcc Fail/Total: 0/5 Ubuntu 18.04 Kernel: 4.15.0-generic Compiler: gcc 7.4 NIC: Mellanox ConnectX-4 Lx 25000 Mbps Target: x86_64-native-linuxapp-gcc Fail/Total: 0/5 Ubuntu 18.04 ARM Kernel: 4.15.0-132-generic Compiler: gcc 7.5 NIC: Arm Mellanox ConnectX-5 10000 Mbps Target: x86_64-native-linuxapp-gcc Fail/Total: 0/4 To view detailed results, visit: https://lab.dpdk.org/results/dashboard/patchsets/17061/ UNH-IOL DPDK Community Lab To manage your email subscriptions, visit: https://lab.dpdk.org/results/dashboard/preferences/subscriptions/
[-- Attachment #1: Type: text/plain, Size: 1924 bytes --] Test-Label: iol-intel-Performance Test-Status: SUCCESS http://dpdk.org/patch/93192 _Performance Testing PASS_ Submitter: Xing, Beilei <beilei.xing@intel.com> Date: Wednesday, May 12 2021 08:10:14 DPDK git baseline: Repo:dpdk Branch: master CommitID:86ff0663639417f9d25907d09343a5c231e32a51 93192 --> performance testing pass Test environment and result as below: Ubuntu 18.04 Kernel: 4.15.0-generic Compiler: gcc 7.4 NIC: Intel Corporation Ethernet Converged Network Adapter 82599ES 10000 Mbps Target: x86_64-native-linuxapp-gcc Fail/Total: 0/2 Detail performance results: +------------+---------+-------------------------------------+ | frame_size | txd/rxd | throughput difference from expected | +============+=========+=====================================+ | 64 | 512 | -0.62429% | +------------+---------+-------------------------------------+ | 64 | 2048 | 0.34412% | +------------+---------+-------------------------------------+ Ubuntu 18.04 ARM Kernel: 4.15.0-132-generic Compiler: gcc 7.5 NIC: Arm Intel Corporation Ethernet Converged Network Adapter XL710-QDA2 40000 Mbps Target: x86_64-native-linuxapp-gcc Fail/Total: 0/2 Detail performance results: +------------+---------+-------------------------------------+ | frame_size | txd/rxd | throughput difference from expected | +============+=========+=====================================+ | 64 | 512 | 0.15658% | +------------+---------+-------------------------------------+ | 64 | 2048 | -0.05707% | +------------+---------+-------------------------------------+ To view detailed results, visit: https://lab.dpdk.org/results/dashboard/patchsets/17061/ UNH-IOL DPDK Community Lab To manage your email subscriptions, visit: https://lab.dpdk.org/results/dashboard/preferences/subscriptions/
[-- Attachment #1: Type: text/plain, Size: 981 bytes --] Test-Label: iol-intel-Functional Test-Status: SUCCESS http://dpdk.org/patch/93192 _Functional Testing PASS_ Submitter: Xing, Beilei <beilei.xing@intel.com> Date: Wednesday, May 12 2021 08:10:14 DPDK git baseline: Repo:dpdk Branch: master CommitID:86ff0663639417f9d25907d09343a5c231e32a51 93192 --> functional testing pass Test environment and result as below: Ubuntu 18.04 Kernel: 4.15.0-generic Compiler: gcc 7.4 NIC: Intel Corporation Ethernet Converged Network Adapter 82599ES 10000 Mbps Target: x86_64-native-linuxapp-gcc Fail/Total: 0/5 Ubuntu 18.04 ARM Kernel: 4.15.0-132-generic Compiler: gcc 7.5 NIC: Arm Intel Corporation Ethernet Converged Network Adapter XL710-QDA2 40000 Mbps Target: x86_64-native-linuxapp-gcc Fail/Total: 0/5 To view detailed results, visit: https://lab.dpdk.org/results/dashboard/patchsets/17061/ UNH-IOL DPDK Community Lab To manage your email subscriptions, visit: https://lab.dpdk.org/results/dashboard/preferences/subscriptions/
[-- Attachment #1: Type: text/plain, Size: 4839 bytes --] Test-Label: iol-mellanox-Performance Test-Status: SUCCESS http://dpdk.org/patch/93192 _Performance Testing PASS_ Submitter: Xing, Beilei <beilei.xing@intel.com> Date: Wednesday, May 12 2021 08:10:14 DPDK git baseline: Repo:dpdk Branch: master CommitID:86ff0663639417f9d25907d09343a5c231e32a51 93192 --> performance testing pass Test environment and result as below: Ubuntu 18.04 Kernel: 4.15.0-generic Compiler: gcc 7.4 NIC: Mellanox ConnectX-5 100000 Mbps Target: x86_64-native-linuxapp-gcc Fail/Total: 0/6 Detail performance results: +------------+---------+-------------------------------------+ | frame_size | txd/rxd | throughput difference from expected | +============+=========+=====================================+ | 64 | 256 | -0.13581% | +------------+---------+-------------------------------------+ | 128 | 256 | -0.0589% | +------------+---------+-------------------------------------+ | 256 | 256 | 0.31954% | +------------+---------+-------------------------------------+ | 512 | 256 | 0.86149% | +------------+---------+-------------------------------------+ | 1024 | 256 | -0.05931% | +------------+---------+-------------------------------------+ | 1518 | 256 | 0.17595% | +------------+---------+-------------------------------------+ Ubuntu 18.04 Kernel: 4.15.0-generic Compiler: gcc 7.4 NIC: Mellanox ConnectX-4 Lx 40000 Mbps Target: x86_64-native-linuxapp-gcc Fail/Total: 0/6 Detail performance results: +------------+---------+-------------------------------------+ | frame_size | txd/rxd | throughput difference from expected | +============+=========+=====================================+ | 64 | 256 | 0.42245% | +------------+---------+-------------------------------------+ | 128 | 256 | 0.63251% | +------------+---------+-------------------------------------+ | 256 | 256 | 0.29999% | +------------+---------+-------------------------------------+ | 512 | 256 | -0.05326% | +------------+---------+-------------------------------------+ | 1024 | 256 | 0.01044% | +------------+---------+-------------------------------------+ | 1518 | 256 | -0.19991% | +------------+---------+-------------------------------------+ Ubuntu 18.04 Kernel: 4.15.0-generic Compiler: gcc 7.4 NIC: Mellanox ConnectX-4 Lx 25000 Mbps Target: x86_64-native-linuxapp-gcc Fail/Total: 0/6 Detail performance results: +------------+---------+-------------------------------------+ | frame_size | txd/rxd | throughput difference from expected | +============+=========+=====================================+ | 64 | 256 | 0.20356% | +------------+---------+-------------------------------------+ | 128 | 256 | 0.12785% | +------------+---------+-------------------------------------+ | 256 | 256 | -1.03537% | +------------+---------+-------------------------------------+ | 512 | 256 | 0.10272% | +------------+---------+-------------------------------------+ | 1024 | 256 | 0.01673% | +------------+---------+-------------------------------------+ | 1518 | 256 | -0.19685% | +------------+---------+-------------------------------------+ Ubuntu 18.04 ARM Kernel: 4.15.0-132-generic Compiler: gcc 7.5 NIC: Arm Mellanox ConnectX-5 10000 Mbps Target: x86_64-native-linuxapp-gcc Fail/Total: 0/4 Detail performance results: +------------+---------+-------------------------------------+ | frame_size | txd/rxd | throughput difference from expected | +============+=========+=====================================+ | 64 | 128 | 0.12869% | +------------+---------+-------------------------------------+ | 64 | 256 | 0.63386% | +------------+---------+-------------------------------------+ | 64 | 512 | 2.06208% | +------------+---------+-------------------------------------+ | 64 | 2048 | -0.16115% | +------------+---------+-------------------------------------+ To view detailed results, visit: https://lab.dpdk.org/results/dashboard/patchsets/17061/ UNH-IOL DPDK Community Lab To manage your email subscriptions, visit: https://lab.dpdk.org/results/dashboard/preferences/subscriptions/
[-- Attachment #1: Type: text/plain, Size: 1048 bytes --] Test-Label: iol-mellanox-Functional Test-Status: SUCCESS http://dpdk.org/patch/93192 _Functional Testing PASS_ Submitter: Xing, Beilei <beilei.xing@intel.com> Date: Wednesday, May 12 2021 08:10:14 DPDK git baseline: Repo:dpdk Branch: master CommitID:86ff0663639417f9d25907d09343a5c231e32a51 93192 --> functional testing pass Test environment and result as below: Ubuntu 18.04 Kernel: 4.15.0-generic Compiler: gcc 7.4 NIC: Mellanox ConnectX-4 Lx 40000 Mbps Target: x86_64-native-linuxapp-gcc Fail/Total: 0/5 Ubuntu 18.04 Kernel: 4.15.0-generic Compiler: gcc 7.4 NIC: Mellanox ConnectX-4 Lx 25000 Mbps Target: x86_64-native-linuxapp-gcc Fail/Total: 0/5 Ubuntu 18.04 ARM Kernel: 4.15.0-132-generic Compiler: gcc 7.5 NIC: Arm Mellanox ConnectX-5 10000 Mbps Target: x86_64-native-linuxapp-gcc Fail/Total: 0/4 To view detailed results, visit: https://lab.dpdk.org/results/dashboard/patchsets/17061/ UNH-IOL DPDK Community Lab To manage your email subscriptions, visit: https://lab.dpdk.org/results/dashboard/preferences/subscriptions/