Test-Label: checkpatch Test-Status: SUCCESS http://dpdk.org/patch/93207 _coding style OK_
[-- Attachment #1: Type: text/plain, Size: 1250 bytes --] Test-Label: iol-intel-Performance Test-Status: SUCCESS http://dpdk.org/patch/93207 _Performance Testing PASS_ Submitter: Haifei Luo <haifeil@nvidia.com> Date: Wednesday, May 12 2021 10:49:33 DPDK git baseline: Repo:dpdk Branch: master CommitID:86ff0663639417f9d25907d09343a5c231e32a51 93207 --> performance testing pass Test environment and result as below: Ubuntu 18.04 Kernel: 4.15.0-generic Compiler: gcc 7.4 NIC: Intel Corporation Ethernet Converged Network Adapter 82599ES 10000 Mbps Target: x86_64-native-linuxapp-gcc Fail/Total: 0/2 Detail performance results: +------------+---------+-------------------------------------+ | frame_size | txd/rxd | throughput difference from expected | +============+=========+=====================================+ | 64 | 512 | -0.36235% | +------------+---------+-------------------------------------+ | 64 | 2048 | 0.53592% | +------------+---------+-------------------------------------+ To view detailed results, visit: https://lab.dpdk.org/results/dashboard/patchsets/17071/ UNH-IOL DPDK Community Lab To manage your email subscriptions, visit: https://lab.dpdk.org/results/dashboard/preferences/subscriptions/
[-- Attachment #1: Type: text/plain, Size: 777 bytes --] Test-Label: iol-intel-Functional Test-Status: SUCCESS http://dpdk.org/patch/93207 _Functional Testing PASS_ Submitter: Haifei Luo <haifeil@nvidia.com> Date: Wednesday, May 12 2021 10:49:33 DPDK git baseline: Repo:dpdk Branch: master CommitID:86ff0663639417f9d25907d09343a5c231e32a51 93207 --> functional testing pass Test environment and result as below: Ubuntu 18.04 Kernel: 4.15.0-generic Compiler: gcc 7.4 NIC: Intel Corporation Ethernet Converged Network Adapter 82599ES 10000 Mbps Target: x86_64-native-linuxapp-gcc Fail/Total: 0/5 To view detailed results, visit: https://lab.dpdk.org/results/dashboard/patchsets/17071/ UNH-IOL DPDK Community Lab To manage your email subscriptions, visit: https://lab.dpdk.org/results/dashboard/preferences/subscriptions/
[-- Attachment #1: Type: text/plain, Size: 4633 bytes --] Test-Label: iol-testing Test-Status: SUCCESS http://dpdk.org/patch/93207 _Testing PASS_ Submitter: Haifei Luo <haifeil@nvidia.com> Date: Wednesday, May 12 2021 10:49:33 DPDK git baseline: Repo:dpdk Branch: master CommitID:86ff0663639417f9d25907d09343a5c231e32a51 93207 --> testing pass Test environment and result as below: +---------------------+----------------------+--------------------+-------------------+----------------+ | Environment | dpdk_mingw64_compile | dpdk_meson_compile | dpdk_compile_spdk | dpdk_unit_test | +=====================+======================+====================+===================+================+ | Windows Server 2019 | PASS | PASS | SKIPPED | SKIPPED | +---------------------+----------------------+--------------------+-------------------+----------------+ | Fedora 31 | SKIPPED | PASS | SKIPPED | SKIPPED | +---------------------+----------------------+--------------------+-------------------+----------------+ | Ubuntu 18.04 ARM | SKIPPED | PASS | SKIPPED | SKIPPED | +---------------------+----------------------+--------------------+-------------------+----------------+ | FreeBSD 11.2 | SKIPPED | PASS | SKIPPED | SKIPPED | +---------------------+----------------------+--------------------+-------------------+----------------+ | Ubuntu 18.04 | SKIPPED | PASS | PASS | PASS | +---------------------+----------------------+--------------------+-------------------+----------------+ | CentOS Stream 8 | SKIPPED | PASS | SKIPPED | SKIPPED | +---------------------+----------------------+--------------------+-------------------+----------------+ | Fedora 32 | SKIPPED | PASS | SKIPPED | SKIPPED | +---------------------+----------------------+--------------------+-------------------+----------------+ | Ubuntu 20.04 | SKIPPED | PASS | SKIPPED | SKIPPED | +---------------------+----------------------+--------------------+-------------------+----------------+ | CentOS 8 | SKIPPED | PASS | SKIPPED | SKIPPED | +---------------------+----------------------+--------------------+-------------------+----------------+ | RHEL 7 | SKIPPED | PASS | SKIPPED | SKIPPED | +---------------------+----------------------+--------------------+-------------------+----------------+ | RHEL8 | SKIPPED | PASS | SKIPPED | SKIPPED | +---------------------+----------------------+--------------------+-------------------+----------------+ | openSUSE Leap 15 | SKIPPED | PASS | SKIPPED | SKIPPED | +---------------------+----------------------+--------------------+-------------------+----------------+ | Arch Linux | SKIPPED | PASS | SKIPPED | SKIPPED | +---------------------+----------------------+--------------------+-------------------+----------------+ Windows Server 2019 Kernel: 10.0 Compiler: clang 9.0 and gcc 8.1.0 (MinGW) Fedora 31 Kernel: 4.18.0-240.10.1.el8_3.x86_64 Compiler: gcc 9.3.1 Ubuntu 18.04 ARM Kernel: 5.4.0-53-generic Compiler: gcc 9.3 FreeBSD 11.2 Kernel: 11.2 Compiler: gcc 8.3 Ubuntu 18.04 Kernel: 4.18.0-240.10.1.el8_3.x86_64 Compiler: gcc 7.5.0-3ubuntu1~18.04 CentOS Stream 8 Kernel: 4.18.0-240.10.1.el8_3.x86_64 Compiler: gcc 8.4.1 20200928 Fedora 32 Kernel: 4.18.0-240.10.1.el8_3.x86_64 Compiler: gcc 10.2.1 Ubuntu 20.04 Kernel: 4.18.0-240.10.1.el8_3.x86_64 Compiler: gcc 9.3.0-17ubuntu1~20.04 CentOS 8 Kernel: 4.18.0-240.10.1.el8_3.x86_64 Compiler: gcc 8.3.1 20191121 (Red Hat 8.3.1-5) RHEL 7 Kernel: 4.18.0-240.10.1.el8_3.x86_64 Compiler: gcc 4.8.5 20150623 (Red Hat 4.8.5-44) RHEL8 Kernel: 4.18.0-240.10.1.el8_3.x86_64 Compiler: gcc 8.3.1 20191121 (Red Hat 8.3.1-5) openSUSE Leap 15 Kernel: 4.18.0-240.10.1.el8_3.x86_64 Compiler: gcc 7.5.0 Arch Linux Kernel: 4.18.0-240.10.1.el8_3.x86_64 Compiler: gcc 10.2.0 To view detailed results, visit: https://lab.dpdk.org/results/dashboard/patchsets/17071/ UNH-IOL DPDK Community Lab To manage your email subscriptions, visit: https://lab.dpdk.org/results/dashboard/preferences/subscriptions/
[-- Attachment #1: Type: text/plain, Size: 2267 bytes --] Test-Label: iol-abi-testing Test-Status: SUCCESS http://dpdk.org/patch/93207 _Testing PASS_ Submitter: Haifei Luo <haifeil@nvidia.com> Date: Wednesday, May 12 2021 10:49:33 DPDK git baseline: Repo:dpdk Branch: master CommitID:86ff0663639417f9d25907d09343a5c231e32a51 93207 --> testing pass Test environment and result as below: +------------------+----------+ | Environment | abi_test | +==================+==========+ | Ubuntu 18.04 ARM | PASS | +------------------+----------+ | Arch Linux | PASS | +------------------+----------+ | CentOS 8 | PASS | +------------------+----------+ | RHEL8 | PASS | +------------------+----------+ | Ubuntu 20.04 | PASS | +------------------+----------+ | Ubuntu 18.04 | PASS | +------------------+----------+ | RHEL 7 | PASS | +------------------+----------+ | CentOS Stream 8 | PASS | +------------------+----------+ | openSUSE Leap 15 | PASS | +------------------+----------+ | Fedora 32 | PASS | +------------------+----------+ | Fedora 31 | PASS | +------------------+----------+ Ubuntu 18.04 ARM Kernel: 5.4.0-53-generic Compiler: gcc 9.3 Arch Linux Kernel: 4.18.0-240.10.1.el8_3.x86_64 Compiler: gcc 10.2.0 CentOS 8 Kernel: 4.18.0-240.10.1.el8_3.x86_64 Compiler: gcc 8.3.1 20191121 (Red Hat 8.3.1-5) RHEL8 Kernel: 4.18.0-240.10.1.el8_3.x86_64 Compiler: gcc 8.3.1 20191121 (Red Hat 8.3.1-5) Ubuntu 20.04 Kernel: 4.18.0-240.10.1.el8_3.x86_64 Compiler: gcc 9.3.0-17ubuntu1~20.04 Ubuntu 18.04 Kernel: 4.18.0-240.10.1.el8_3.x86_64 Compiler: gcc 7.5.0-3ubuntu1~18.04 RHEL 7 Kernel: 4.18.0-240.10.1.el8_3.x86_64 Compiler: gcc 4.8.5 20150623 (Red Hat 4.8.5-44) CentOS Stream 8 Kernel: 4.18.0-240.10.1.el8_3.x86_64 Compiler: gcc 8.4.1 20200928 openSUSE Leap 15 Kernel: 4.18.0-240.10.1.el8_3.x86_64 Compiler: gcc 7.5.0 Fedora 32 Kernel: 4.18.0-240.10.1.el8_3.x86_64 Compiler: gcc 10.2.1 Fedora 31 Kernel: 4.18.0-240.10.1.el8_3.x86_64 Compiler: gcc 9.3.1 To view detailed results, visit: https://lab.dpdk.org/results/dashboard/patchsets/17071/ UNH-IOL DPDK Community Lab To manage your email subscriptions, visit: https://lab.dpdk.org/results/dashboard/preferences/subscriptions/
[-- Attachment #1: Type: text/plain, Size: 1717 bytes --] Test-Label: iol-mellanox-Performance Test-Status: SUCCESS http://dpdk.org/patch/93207 _Performance Testing PASS_ Submitter: Haifei Luo <haifeil@nvidia.com> Date: Wednesday, May 12 2021 10:49:33 DPDK git baseline: Repo:dpdk Branch: master CommitID:86ff0663639417f9d25907d09343a5c231e32a51 93207 --> performance testing pass Test environment and result as below: Ubuntu 18.04 Kernel: 4.15.0-generic Compiler: gcc 7.4 NIC: Mellanox ConnectX-5 100000 Mbps Target: x86_64-native-linuxapp-gcc Fail/Total: 0/6 Detail performance results: +------------+---------+-------------------------------------+ | frame_size | txd/rxd | throughput difference from expected | +============+=========+=====================================+ | 64 | 256 | -0.18107% | +------------+---------+-------------------------------------+ | 128 | 256 | -0.11228% | +------------+---------+-------------------------------------+ | 256 | 256 | -0.19972% | +------------+---------+-------------------------------------+ | 512 | 256 | 0.91034% | +------------+---------+-------------------------------------+ | 1024 | 256 | -0.11014% | +------------+---------+-------------------------------------+ | 1518 | 256 | 0.30499% | +------------+---------+-------------------------------------+ To view detailed results, visit: https://lab.dpdk.org/results/dashboard/patchsets/17071/ UNH-IOL DPDK Community Lab To manage your email subscriptions, visit: https://lab.dpdk.org/results/dashboard/preferences/subscriptions/
[-- Attachment #1: Type: text/plain, Size: 742 bytes --] Test-Label: iol-mellanox-Functional Test-Status: SUCCESS http://dpdk.org/patch/93207 _Functional Testing PASS_ Submitter: Haifei Luo <haifeil@nvidia.com> Date: Wednesday, May 12 2021 10:49:33 DPDK git baseline: Repo:dpdk Branch: master CommitID:86ff0663639417f9d25907d09343a5c231e32a51 93207 --> functional testing pass Test environment and result as below: Ubuntu 18.04 Kernel: 4.15.0-generic Compiler: gcc 7.4 NIC: Mellanox ConnectX-4 Lx 40000 Mbps Target: x86_64-native-linuxapp-gcc Fail/Total: 0/5 To view detailed results, visit: https://lab.dpdk.org/results/dashboard/patchsets/17071/ UNH-IOL DPDK Community Lab To manage your email subscriptions, visit: https://lab.dpdk.org/results/dashboard/preferences/subscriptions/
[-- Attachment #1: Type: text/plain, Size: 2837 bytes --] Test-Label: iol-mellanox-Performance Test-Status: SUCCESS http://dpdk.org/patch/93207 _Performance Testing PASS_ Submitter: Haifei Luo <haifeil@nvidia.com> Date: Wednesday, May 12 2021 10:49:33 DPDK git baseline: Repo:dpdk Branch: master CommitID:86ff0663639417f9d25907d09343a5c231e32a51 93207 --> performance testing pass Test environment and result as below: Ubuntu 18.04 Kernel: 4.15.0-generic Compiler: gcc 7.4 NIC: Mellanox ConnectX-5 100000 Mbps Target: x86_64-native-linuxapp-gcc Fail/Total: 0/6 Detail performance results: +------------+---------+-------------------------------------+ | frame_size | txd/rxd | throughput difference from expected | +============+=========+=====================================+ | 64 | 256 | -0.18107% | +------------+---------+-------------------------------------+ | 128 | 256 | -0.11228% | +------------+---------+-------------------------------------+ | 256 | 256 | -0.19972% | +------------+---------+-------------------------------------+ | 512 | 256 | 0.91034% | +------------+---------+-------------------------------------+ | 1024 | 256 | -0.11014% | +------------+---------+-------------------------------------+ | 1518 | 256 | 0.30499% | +------------+---------+-------------------------------------+ Ubuntu 18.04 Kernel: 4.15.0-generic Compiler: gcc 7.4 NIC: Mellanox ConnectX-4 Lx 25000 Mbps Target: x86_64-native-linuxapp-gcc Fail/Total: 0/6 Detail performance results: +------------+---------+-------------------------------------+ | frame_size | txd/rxd | throughput difference from expected | +============+=========+=====================================+ | 64 | 256 | -0.79161% | +------------+---------+-------------------------------------+ | 128 | 256 | 0.04146% | +------------+---------+-------------------------------------+ | 256 | 256 | -0.90657% | +------------+---------+-------------------------------------+ | 512 | 256 | -0.03424% | +------------+---------+-------------------------------------+ | 1024 | 256 | -0.03346% | +------------+---------+-------------------------------------+ | 1518 | 256 | -0.24606% | +------------+---------+-------------------------------------+ To view detailed results, visit: https://lab.dpdk.org/results/dashboard/patchsets/17071/ UNH-IOL DPDK Community Lab To manage your email subscriptions, visit: https://lab.dpdk.org/results/dashboard/preferences/subscriptions/
[-- Attachment #1: Type: text/plain, Size: 888 bytes --] Test-Label: iol-mellanox-Functional Test-Status: SUCCESS http://dpdk.org/patch/93207 _Functional Testing PASS_ Submitter: Haifei Luo <haifeil@nvidia.com> Date: Wednesday, May 12 2021 10:49:33 DPDK git baseline: Repo:dpdk Branch: master CommitID:86ff0663639417f9d25907d09343a5c231e32a51 93207 --> functional testing pass Test environment and result as below: Ubuntu 18.04 Kernel: 4.15.0-generic Compiler: gcc 7.4 NIC: Mellanox ConnectX-4 Lx 40000 Mbps Target: x86_64-native-linuxapp-gcc Fail/Total: 0/5 Ubuntu 18.04 Kernel: 4.15.0-generic Compiler: gcc 7.4 NIC: Mellanox ConnectX-4 Lx 25000 Mbps Target: x86_64-native-linuxapp-gcc Fail/Total: 0/5 To view detailed results, visit: https://lab.dpdk.org/results/dashboard/patchsets/17071/ UNH-IOL DPDK Community Lab To manage your email subscriptions, visit: https://lab.dpdk.org/results/dashboard/preferences/subscriptions/
[-- Attachment #1: Type: text/plain, Size: 3957 bytes --] Test-Label: iol-mellanox-Performance Test-Status: SUCCESS http://dpdk.org/patch/93207 _Performance Testing PASS_ Submitter: Haifei Luo <haifeil@nvidia.com> Date: Wednesday, May 12 2021 10:49:33 DPDK git baseline: Repo:dpdk Branch: master CommitID:86ff0663639417f9d25907d09343a5c231e32a51 93207 --> performance testing pass Test environment and result as below: Ubuntu 18.04 Kernel: 4.15.0-generic Compiler: gcc 7.4 NIC: Mellanox ConnectX-5 100000 Mbps Target: x86_64-native-linuxapp-gcc Fail/Total: 0/6 Detail performance results: +------------+---------+-------------------------------------+ | frame_size | txd/rxd | throughput difference from expected | +============+=========+=====================================+ | 64 | 256 | -0.18107% | +------------+---------+-------------------------------------+ | 128 | 256 | -0.11228% | +------------+---------+-------------------------------------+ | 256 | 256 | -0.19972% | +------------+---------+-------------------------------------+ | 512 | 256 | 0.91034% | +------------+---------+-------------------------------------+ | 1024 | 256 | -0.11014% | +------------+---------+-------------------------------------+ | 1518 | 256 | 0.30499% | +------------+---------+-------------------------------------+ Ubuntu 18.04 Kernel: 4.15.0-generic Compiler: gcc 7.4 NIC: Mellanox ConnectX-4 Lx 25000 Mbps Target: x86_64-native-linuxapp-gcc Fail/Total: 0/6 Detail performance results: +------------+---------+-------------------------------------+ | frame_size | txd/rxd | throughput difference from expected | +============+=========+=====================================+ | 64 | 256 | -0.79161% | +------------+---------+-------------------------------------+ | 128 | 256 | 0.04146% | +------------+---------+-------------------------------------+ | 256 | 256 | -0.90657% | +------------+---------+-------------------------------------+ | 512 | 256 | -0.03424% | +------------+---------+-------------------------------------+ | 1024 | 256 | -0.03346% | +------------+---------+-------------------------------------+ | 1518 | 256 | -0.24606% | +------------+---------+-------------------------------------+ Ubuntu 18.04 Kernel: 4.15.0-generic Compiler: gcc 7.4 NIC: Mellanox ConnectX-4 Lx 40000 Mbps Target: x86_64-native-linuxapp-gcc Fail/Total: 0/6 Detail performance results: +------------+---------+-------------------------------------+ | frame_size | txd/rxd | throughput difference from expected | +============+=========+=====================================+ | 64 | 256 | 0.2626% | +------------+---------+-------------------------------------+ | 128 | 256 | 1.81168% | +------------+---------+-------------------------------------+ | 256 | 256 | 0.23048% | +------------+---------+-------------------------------------+ | 512 | 256 | -0.07456% | +------------+---------+-------------------------------------+ | 1024 | 256 | -0.14617% | +------------+---------+-------------------------------------+ | 1518 | 256 | 0.01538% | +------------+---------+-------------------------------------+ To view detailed results, visit: https://lab.dpdk.org/results/dashboard/patchsets/17071/ UNH-IOL DPDK Community Lab To manage your email subscriptions, visit: https://lab.dpdk.org/results/dashboard/preferences/subscriptions/
[-- Attachment #1: Type: text/plain, Size: 4834 bytes --] Test-Label: iol-mellanox-Performance Test-Status: SUCCESS http://dpdk.org/patch/93207 _Performance Testing PASS_ Submitter: Haifei Luo <haifeil@nvidia.com> Date: Wednesday, May 12 2021 10:49:33 DPDK git baseline: Repo:dpdk Branch: master CommitID:86ff0663639417f9d25907d09343a5c231e32a51 93207 --> performance testing pass Test environment and result as below: Ubuntu 18.04 Kernel: 4.15.0-generic Compiler: gcc 7.4 NIC: Mellanox ConnectX-5 100000 Mbps Target: x86_64-native-linuxapp-gcc Fail/Total: 0/6 Detail performance results: +------------+---------+-------------------------------------+ | frame_size | txd/rxd | throughput difference from expected | +============+=========+=====================================+ | 64 | 256 | -0.18107% | +------------+---------+-------------------------------------+ | 128 | 256 | -0.11228% | +------------+---------+-------------------------------------+ | 256 | 256 | -0.19972% | +------------+---------+-------------------------------------+ | 512 | 256 | 0.91034% | +------------+---------+-------------------------------------+ | 1024 | 256 | -0.11014% | +------------+---------+-------------------------------------+ | 1518 | 256 | 0.30499% | +------------+---------+-------------------------------------+ Ubuntu 18.04 Kernel: 4.15.0-generic Compiler: gcc 7.4 NIC: Mellanox ConnectX-4 Lx 25000 Mbps Target: x86_64-native-linuxapp-gcc Fail/Total: 0/6 Detail performance results: +------------+---------+-------------------------------------+ | frame_size | txd/rxd | throughput difference from expected | +============+=========+=====================================+ | 64 | 256 | -0.79161% | +------------+---------+-------------------------------------+ | 128 | 256 | 0.04146% | +------------+---------+-------------------------------------+ | 256 | 256 | -0.90657% | +------------+---------+-------------------------------------+ | 512 | 256 | -0.03424% | +------------+---------+-------------------------------------+ | 1024 | 256 | -0.03346% | +------------+---------+-------------------------------------+ | 1518 | 256 | -0.24606% | +------------+---------+-------------------------------------+ Ubuntu 18.04 Kernel: 4.15.0-generic Compiler: gcc 7.4 NIC: Mellanox ConnectX-4 Lx 40000 Mbps Target: x86_64-native-linuxapp-gcc Fail/Total: 0/6 Detail performance results: +------------+---------+-------------------------------------+ | frame_size | txd/rxd | throughput difference from expected | +============+=========+=====================================+ | 64 | 256 | 0.2626% | +------------+---------+-------------------------------------+ | 128 | 256 | 1.81168% | +------------+---------+-------------------------------------+ | 256 | 256 | 0.23048% | +------------+---------+-------------------------------------+ | 512 | 256 | -0.07456% | +------------+---------+-------------------------------------+ | 1024 | 256 | -0.14617% | +------------+---------+-------------------------------------+ | 1518 | 256 | 0.01538% | +------------+---------+-------------------------------------+ Ubuntu 18.04 ARM Kernel: 4.15.0-132-generic Compiler: gcc 7.5 NIC: Arm Mellanox ConnectX-5 10000 Mbps Target: x86_64-native-linuxapp-gcc Fail/Total: 0/4 Detail performance results: +------------+---------+-------------------------------------+ | frame_size | txd/rxd | throughput difference from expected | +============+=========+=====================================+ | 64 | 128 | -0.21448% | +------------+---------+-------------------------------------+ | 64 | 256 | 0.41899% | +------------+---------+-------------------------------------+ | 64 | 512 | 1.75496% | +------------+---------+-------------------------------------+ | 64 | 2048 | 0.63386% | +------------+---------+-------------------------------------+ To view detailed results, visit: https://lab.dpdk.org/results/dashboard/patchsets/17071/ UNH-IOL DPDK Community Lab To manage your email subscriptions, visit: https://lab.dpdk.org/results/dashboard/preferences/subscriptions/
[-- Attachment #1: Type: text/plain, Size: 1919 bytes --] Test-Label: iol-intel-Performance Test-Status: SUCCESS http://dpdk.org/patch/93207 _Performance Testing PASS_ Submitter: Haifei Luo <haifeil@nvidia.com> Date: Wednesday, May 12 2021 10:49:33 DPDK git baseline: Repo:dpdk Branch: master CommitID:86ff0663639417f9d25907d09343a5c231e32a51 93207 --> performance testing pass Test environment and result as below: Ubuntu 18.04 Kernel: 4.15.0-generic Compiler: gcc 7.4 NIC: Intel Corporation Ethernet Converged Network Adapter 82599ES 10000 Mbps Target: x86_64-native-linuxapp-gcc Fail/Total: 0/2 Detail performance results: +------------+---------+-------------------------------------+ | frame_size | txd/rxd | throughput difference from expected | +============+=========+=====================================+ | 64 | 512 | -0.36235% | +------------+---------+-------------------------------------+ | 64 | 2048 | 0.53592% | +------------+---------+-------------------------------------+ Ubuntu 18.04 ARM Kernel: 4.15.0-132-generic Compiler: gcc 7.5 NIC: Arm Intel Corporation Ethernet Converged Network Adapter XL710-QDA2 40000 Mbps Target: x86_64-native-linuxapp-gcc Fail/Total: 0/2 Detail performance results: +------------+---------+-------------------------------------+ | frame_size | txd/rxd | throughput difference from expected | +============+=========+=====================================+ | 64 | 512 | -0.29893% | +------------+---------+-------------------------------------+ | 64 | 2048 | 0.47082% | +------------+---------+-------------------------------------+ To view detailed results, visit: https://lab.dpdk.org/results/dashboard/patchsets/17071/ UNH-IOL DPDK Community Lab To manage your email subscriptions, visit: https://lab.dpdk.org/results/dashboard/preferences/subscriptions/
[-- Attachment #1: Type: text/plain, Size: 976 bytes --] Test-Label: iol-intel-Functional Test-Status: SUCCESS http://dpdk.org/patch/93207 _Functional Testing PASS_ Submitter: Haifei Luo <haifeil@nvidia.com> Date: Wednesday, May 12 2021 10:49:33 DPDK git baseline: Repo:dpdk Branch: master CommitID:86ff0663639417f9d25907d09343a5c231e32a51 93207 --> functional testing pass Test environment and result as below: Ubuntu 18.04 Kernel: 4.15.0-generic Compiler: gcc 7.4 NIC: Intel Corporation Ethernet Converged Network Adapter 82599ES 10000 Mbps Target: x86_64-native-linuxapp-gcc Fail/Total: 0/5 Ubuntu 18.04 ARM Kernel: 4.15.0-132-generic Compiler: gcc 7.5 NIC: Arm Intel Corporation Ethernet Converged Network Adapter XL710-QDA2 40000 Mbps Target: x86_64-native-linuxapp-gcc Fail/Total: 0/5 To view detailed results, visit: https://lab.dpdk.org/results/dashboard/patchsets/17071/ UNH-IOL DPDK Community Lab To manage your email subscriptions, visit: https://lab.dpdk.org/results/dashboard/preferences/subscriptions/
[-- Attachment #1: Type: text/plain, Size: 1043 bytes --] Test-Label: iol-mellanox-Functional Test-Status: SUCCESS http://dpdk.org/patch/93207 _Functional Testing PASS_ Submitter: Haifei Luo <haifeil@nvidia.com> Date: Wednesday, May 12 2021 10:49:33 DPDK git baseline: Repo:dpdk Branch: master CommitID:86ff0663639417f9d25907d09343a5c231e32a51 93207 --> functional testing pass Test environment and result as below: Ubuntu 18.04 Kernel: 4.15.0-generic Compiler: gcc 7.4 NIC: Mellanox ConnectX-4 Lx 40000 Mbps Target: x86_64-native-linuxapp-gcc Fail/Total: 0/5 Ubuntu 18.04 Kernel: 4.15.0-generic Compiler: gcc 7.4 NIC: Mellanox ConnectX-4 Lx 25000 Mbps Target: x86_64-native-linuxapp-gcc Fail/Total: 0/5 Ubuntu 18.04 ARM Kernel: 4.15.0-132-generic Compiler: gcc 7.5 NIC: Arm Mellanox ConnectX-5 10000 Mbps Target: x86_64-native-linuxapp-gcc Fail/Total: 0/4 To view detailed results, visit: https://lab.dpdk.org/results/dashboard/patchsets/17071/ UNH-IOL DPDK Community Lab To manage your email subscriptions, visit: https://lab.dpdk.org/results/dashboard/preferences/subscriptions/