* [dpdk-test-report] |SUCCESS| pw93203 [PATCH] [v2] net/mlx5: fix RSS expansion for NVGRE
@ 2021-05-14 14:35 dpdklab
0 siblings, 0 replies; 10+ messages in thread
From: dpdklab @ 2021-05-14 14:35 UTC (permalink / raw)
To: Ali Alnubani, Test Report; +Cc: dpdk-test-reports
[-- Attachment #1: Type: text/plain, Size: 4848 bytes --]
Test-Label: iol-mellanox-Performance
Test-Status: SUCCESS
http://dpdk.org/patch/93203
_Performance Testing PASS_
Submitter: Jiawei Wang <jiaweiw@nvidia.com>
Date: Wednesday, May 12 2021 10:24:08
DPDK git baseline: Repo:dpdk-next-net-mlx
Branch: master
CommitID:1ca1cf6fbea905965b4f7073b085a85fe230fadd
93203 --> performance testing pass
Test environment and result as below:
Ubuntu 18.04
Kernel: 4.15.0-generic
Compiler: gcc 7.4
NIC: Mellanox ConnectX-4 Lx 25000 Mbps
Target: x86_64-native-linuxapp-gcc
Fail/Total: 0/6
Detail performance results:
+------------+---------+-------------------------------------+
| frame_size | txd/rxd | throughput difference from expected |
+============+=========+=====================================+
| 64 | 256 | -0.41842% |
+------------+---------+-------------------------------------+
| 128 | 256 | -0.1002% |
+------------+---------+-------------------------------------+
| 256 | 256 | -0.52512% |
+------------+---------+-------------------------------------+
| 512 | 256 | 0.38521% |
+------------+---------+-------------------------------------+
| 1024 | 256 | 0.03346% |
+------------+---------+-------------------------------------+
| 1518 | 256 | -0.17224% |
+------------+---------+-------------------------------------+
Ubuntu 18.04
Kernel: 4.15.0-generic
Compiler: gcc 7.4
NIC: Mellanox ConnectX-5 100000 Mbps
Target: x86_64-native-linuxapp-gcc
Fail/Total: 0/6
Detail performance results:
+------------+---------+-------------------------------------+
| frame_size | txd/rxd | throughput difference from expected |
+============+=========+=====================================+
| 64 | 256 | -0.52221% |
+------------+---------+-------------------------------------+
| 128 | 256 | -0.4749% |
+------------+---------+-------------------------------------+
| 256 | 256 | 0.51177% |
+------------+---------+-------------------------------------+
| 512 | 256 | -0.12878% |
+------------+---------+-------------------------------------+
| 1024 | 256 | 1.04211% |
+------------+---------+-------------------------------------+
| 1518 | 256 | -0.09384% |
+------------+---------+-------------------------------------+
Ubuntu 18.04
Kernel: 4.15.0-generic
Compiler: gcc 7.4
NIC: Mellanox ConnectX-4 Lx 40000 Mbps
Target: x86_64-native-linuxapp-gcc
Fail/Total: 0/6
Detail performance results:
+------------+---------+-------------------------------------+
| frame_size | txd/rxd | throughput difference from expected |
+============+=========+=====================================+
| 64 | 256 | 0.1941% |
+------------+---------+-------------------------------------+
| 128 | 256 | 0.0229% |
+------------+---------+-------------------------------------+
| 256 | 256 | 0.11341% |
+------------+---------+-------------------------------------+
| 512 | 256 | 0.06391% |
+------------+---------+-------------------------------------+
| 1024 | 256 | -0.19837% |
+------------+---------+-------------------------------------+
| 1518 | 256 | -0.23066% |
+------------+---------+-------------------------------------+
Ubuntu 18.04 ARM
Kernel: 4.15.0-132-generic
Compiler: gcc 7.5
NIC: Arm Mellanox ConnectX-5 10000 Mbps
Target: x86_64-native-linuxapp-gcc
Fail/Total: 0/4
Detail performance results:
+------------+---------+-------------------------------------+
| frame_size | txd/rxd | throughput difference from expected |
+============+=========+=====================================+
| 64 | 128 | -1.56568% |
+------------+---------+-------------------------------------+
| 64 | 256 | -0.15041% |
+------------+---------+-------------------------------------+
| 64 | 512 | 1.97433% |
+------------+---------+-------------------------------------+
| 64 | 2048 | -0.46197% |
+------------+---------+-------------------------------------+
To view detailed results, visit:
https://lab.dpdk.org/results/dashboard/patchsets/17067/
UNH-IOL DPDK Community Lab
To manage your email subscriptions, visit:
https://lab.dpdk.org/results/dashboard/preferences/subscriptions/
^ permalink raw reply [flat|nested] 10+ messages in thread
* [dpdk-test-report] |SUCCESS| pw93203 [PATCH] [v2] net/mlx5: fix RSS expansion for NVGRE
@ 2021-05-14 15:13 dpdklab
0 siblings, 0 replies; 10+ messages in thread
From: dpdklab @ 2021-05-14 15:13 UTC (permalink / raw)
To: Test Report; +Cc: dpdk-test-reports
[-- Attachment #1: Type: text/plain, Size: 1933 bytes --]
Test-Label: iol-intel-Performance
Test-Status: SUCCESS
http://dpdk.org/patch/93203
_Performance Testing PASS_
Submitter: Jiawei Wang <jiaweiw@nvidia.com>
Date: Wednesday, May 12 2021 10:24:08
DPDK git baseline: Repo:dpdk-next-net-mlx
Branch: master
CommitID:1ca1cf6fbea905965b4f7073b085a85fe230fadd
93203 --> performance testing pass
Test environment and result as below:
Ubuntu 18.04
Kernel: 4.15.0-generic
Compiler: gcc 7.4
NIC: Intel Corporation Ethernet Converged Network Adapter 82599ES 10000 Mbps
Target: x86_64-native-linuxapp-gcc
Fail/Total: 0/2
Detail performance results:
+------------+---------+-------------------------------------+
| frame_size | txd/rxd | throughput difference from expected |
+============+=========+=====================================+
| 64 | 512 | -0.45621% |
+------------+---------+-------------------------------------+
| 64 | 2048 | 0.73619% |
+------------+---------+-------------------------------------+
Ubuntu 18.04 ARM
Kernel: 4.15.0-132-generic
Compiler: gcc 7.5
NIC: Arm Intel Corporation Ethernet Converged Network Adapter XL710-QDA2 40000 Mbps
Target: x86_64-native-linuxapp-gcc
Fail/Total: 0/2
Detail performance results:
+------------+---------+-------------------------------------+
| frame_size | txd/rxd | throughput difference from expected |
+============+=========+=====================================+
| 64 | 512 | 0.02847% |
+------------+---------+-------------------------------------+
| 64 | 2048 | 0.12841% |
+------------+---------+-------------------------------------+
To view detailed results, visit:
https://lab.dpdk.org/results/dashboard/patchsets/17067/
UNH-IOL DPDK Community Lab
To manage your email subscriptions, visit:
https://lab.dpdk.org/results/dashboard/preferences/subscriptions/
^ permalink raw reply [flat|nested] 10+ messages in thread
* [dpdk-test-report] |SUCCESS| pw93203 [PATCH] [v2] net/mlx5: fix RSS expansion for NVGRE
@ 2021-05-14 14:50 dpdklab
0 siblings, 0 replies; 10+ messages in thread
From: dpdklab @ 2021-05-14 14:50 UTC (permalink / raw)
To: Test Report; +Cc: dpdk-test-reports
[-- Attachment #1: Type: text/plain, Size: 990 bytes --]
Test-Label: iol-intel-Functional
Test-Status: SUCCESS
http://dpdk.org/patch/93203
_Functional Testing PASS_
Submitter: Jiawei Wang <jiaweiw@nvidia.com>
Date: Wednesday, May 12 2021 10:24:08
DPDK git baseline: Repo:dpdk-next-net-mlx
Branch: master
CommitID:1ca1cf6fbea905965b4f7073b085a85fe230fadd
93203 --> functional testing pass
Test environment and result as below:
Ubuntu 18.04
Kernel: 4.15.0-generic
Compiler: gcc 7.4
NIC: Intel Corporation Ethernet Converged Network Adapter 82599ES 10000 Mbps
Target: x86_64-native-linuxapp-gcc
Fail/Total: 0/5
Ubuntu 18.04 ARM
Kernel: 4.15.0-132-generic
Compiler: gcc 7.5
NIC: Arm Intel Corporation Ethernet Converged Network Adapter XL710-QDA2 40000 Mbps
Target: x86_64-native-linuxapp-gcc
Fail/Total: 0/5
To view detailed results, visit:
https://lab.dpdk.org/results/dashboard/patchsets/17067/
UNH-IOL DPDK Community Lab
To manage your email subscriptions, visit:
https://lab.dpdk.org/results/dashboard/preferences/subscriptions/
^ permalink raw reply [flat|nested] 10+ messages in thread
* [dpdk-test-report] |SUCCESS| pw93203 [PATCH] [v2] net/mlx5: fix RSS expansion for NVGRE
@ 2021-05-14 0:32 dpdklab
0 siblings, 0 replies; 10+ messages in thread
From: dpdklab @ 2021-05-14 0:32 UTC (permalink / raw)
To: Ali Alnubani, Test Report; +Cc: dpdk-test-reports
[-- Attachment #1: Type: text/plain, Size: 3971 bytes --]
Test-Label: iol-mellanox-Performance
Test-Status: SUCCESS
http://dpdk.org/patch/93203
_Performance Testing PASS_
Submitter: Jiawei Wang <jiaweiw@nvidia.com>
Date: Wednesday, May 12 2021 10:24:08
DPDK git baseline: Repo:dpdk-next-net-mlx
Branch: master
CommitID:1ca1cf6fbea905965b4f7073b085a85fe230fadd
93203 --> performance testing pass
Test environment and result as below:
Ubuntu 18.04
Kernel: 4.15.0-generic
Compiler: gcc 7.4
NIC: Mellanox ConnectX-4 Lx 25000 Mbps
Target: x86_64-native-linuxapp-gcc
Fail/Total: 0/6
Detail performance results:
+------------+---------+-------------------------------------+
| frame_size | txd/rxd | throughput difference from expected |
+============+=========+=====================================+
| 64 | 256 | -0.41842% |
+------------+---------+-------------------------------------+
| 128 | 256 | -0.1002% |
+------------+---------+-------------------------------------+
| 256 | 256 | -0.52512% |
+------------+---------+-------------------------------------+
| 512 | 256 | 0.38521% |
+------------+---------+-------------------------------------+
| 1024 | 256 | 0.03346% |
+------------+---------+-------------------------------------+
| 1518 | 256 | -0.17224% |
+------------+---------+-------------------------------------+
Ubuntu 18.04
Kernel: 4.15.0-generic
Compiler: gcc 7.4
NIC: Mellanox ConnectX-5 100000 Mbps
Target: x86_64-native-linuxapp-gcc
Fail/Total: 0/6
Detail performance results:
+------------+---------+-------------------------------------+
| frame_size | txd/rxd | throughput difference from expected |
+============+=========+=====================================+
| 64 | 256 | -0.52221% |
+------------+---------+-------------------------------------+
| 128 | 256 | -0.4749% |
+------------+---------+-------------------------------------+
| 256 | 256 | 0.51177% |
+------------+---------+-------------------------------------+
| 512 | 256 | -0.12878% |
+------------+---------+-------------------------------------+
| 1024 | 256 | 1.04211% |
+------------+---------+-------------------------------------+
| 1518 | 256 | -0.09384% |
+------------+---------+-------------------------------------+
Ubuntu 18.04
Kernel: 4.15.0-generic
Compiler: gcc 7.4
NIC: Mellanox ConnectX-4 Lx 40000 Mbps
Target: x86_64-native-linuxapp-gcc
Fail/Total: 0/6
Detail performance results:
+------------+---------+-------------------------------------+
| frame_size | txd/rxd | throughput difference from expected |
+============+=========+=====================================+
| 64 | 256 | 0.1941% |
+------------+---------+-------------------------------------+
| 128 | 256 | 0.0229% |
+------------+---------+-------------------------------------+
| 256 | 256 | 0.11341% |
+------------+---------+-------------------------------------+
| 512 | 256 | 0.06391% |
+------------+---------+-------------------------------------+
| 1024 | 256 | -0.19837% |
+------------+---------+-------------------------------------+
| 1518 | 256 | -0.23066% |
+------------+---------+-------------------------------------+
To view detailed results, visit:
https://lab.dpdk.org/results/dashboard/patchsets/17067/
UNH-IOL DPDK Community Lab
To manage your email subscriptions, visit:
https://lab.dpdk.org/results/dashboard/preferences/subscriptions/
^ permalink raw reply [flat|nested] 10+ messages in thread
* [dpdk-test-report] |SUCCESS| pw93203 [PATCH] [v2] net/mlx5: fix RSS expansion for NVGRE
@ 2021-05-14 0:20 dpdklab
0 siblings, 0 replies; 10+ messages in thread
From: dpdklab @ 2021-05-14 0:20 UTC (permalink / raw)
To: Ali Alnubani, Test Report; +Cc: dpdk-test-reports
[-- Attachment #1: Type: text/plain, Size: 2851 bytes --]
Test-Label: iol-mellanox-Performance
Test-Status: SUCCESS
http://dpdk.org/patch/93203
_Performance Testing PASS_
Submitter: Jiawei Wang <jiaweiw@nvidia.com>
Date: Wednesday, May 12 2021 10:24:08
DPDK git baseline: Repo:dpdk-next-net-mlx
Branch: master
CommitID:1ca1cf6fbea905965b4f7073b085a85fe230fadd
93203 --> performance testing pass
Test environment and result as below:
Ubuntu 18.04
Kernel: 4.15.0-generic
Compiler: gcc 7.4
NIC: Mellanox ConnectX-4 Lx 25000 Mbps
Target: x86_64-native-linuxapp-gcc
Fail/Total: 0/6
Detail performance results:
+------------+---------+-------------------------------------+
| frame_size | txd/rxd | throughput difference from expected |
+============+=========+=====================================+
| 64 | 256 | -0.41842% |
+------------+---------+-------------------------------------+
| 128 | 256 | -0.1002% |
+------------+---------+-------------------------------------+
| 256 | 256 | -0.52512% |
+------------+---------+-------------------------------------+
| 512 | 256 | 0.38521% |
+------------+---------+-------------------------------------+
| 1024 | 256 | 0.03346% |
+------------+---------+-------------------------------------+
| 1518 | 256 | -0.17224% |
+------------+---------+-------------------------------------+
Ubuntu 18.04
Kernel: 4.15.0-generic
Compiler: gcc 7.4
NIC: Mellanox ConnectX-5 100000 Mbps
Target: x86_64-native-linuxapp-gcc
Fail/Total: 0/6
Detail performance results:
+------------+---------+-------------------------------------+
| frame_size | txd/rxd | throughput difference from expected |
+============+=========+=====================================+
| 64 | 256 | -0.52221% |
+------------+---------+-------------------------------------+
| 128 | 256 | -0.4749% |
+------------+---------+-------------------------------------+
| 256 | 256 | 0.51177% |
+------------+---------+-------------------------------------+
| 512 | 256 | -0.12878% |
+------------+---------+-------------------------------------+
| 1024 | 256 | 1.04211% |
+------------+---------+-------------------------------------+
| 1518 | 256 | -0.09384% |
+------------+---------+-------------------------------------+
To view detailed results, visit:
https://lab.dpdk.org/results/dashboard/patchsets/17067/
UNH-IOL DPDK Community Lab
To manage your email subscriptions, visit:
https://lab.dpdk.org/results/dashboard/preferences/subscriptions/
^ permalink raw reply [flat|nested] 10+ messages in thread
* [dpdk-test-report] |SUCCESS| pw93203 [PATCH] [v2] net/mlx5: fix RSS expansion for NVGRE
@ 2021-05-14 0:08 dpdklab
0 siblings, 0 replies; 10+ messages in thread
From: dpdklab @ 2021-05-14 0:08 UTC (permalink / raw)
To: Ali Alnubani, Test Report; +Cc: dpdk-test-reports
[-- Attachment #1: Type: text/plain, Size: 1733 bytes --]
Test-Label: iol-mellanox-Performance
Test-Status: SUCCESS
http://dpdk.org/patch/93203
_Performance Testing PASS_
Submitter: Jiawei Wang <jiaweiw@nvidia.com>
Date: Wednesday, May 12 2021 10:24:08
DPDK git baseline: Repo:dpdk-next-net-mlx
Branch: master
CommitID:1ca1cf6fbea905965b4f7073b085a85fe230fadd
93203 --> performance testing pass
Test environment and result as below:
Ubuntu 18.04
Kernel: 4.15.0-generic
Compiler: gcc 7.4
NIC: Mellanox ConnectX-4 Lx 25000 Mbps
Target: x86_64-native-linuxapp-gcc
Fail/Total: 0/6
Detail performance results:
+------------+---------+-------------------------------------+
| frame_size | txd/rxd | throughput difference from expected |
+============+=========+=====================================+
| 64 | 256 | -0.41842% |
+------------+---------+-------------------------------------+
| 128 | 256 | -0.1002% |
+------------+---------+-------------------------------------+
| 256 | 256 | -0.52512% |
+------------+---------+-------------------------------------+
| 512 | 256 | 0.38521% |
+------------+---------+-------------------------------------+
| 1024 | 256 | 0.03346% |
+------------+---------+-------------------------------------+
| 1518 | 256 | -0.17224% |
+------------+---------+-------------------------------------+
To view detailed results, visit:
https://lab.dpdk.org/results/dashboard/patchsets/17067/
UNH-IOL DPDK Community Lab
To manage your email subscriptions, visit:
https://lab.dpdk.org/results/dashboard/preferences/subscriptions/
^ permalink raw reply [flat|nested] 10+ messages in thread
* [dpdk-test-report] |SUCCESS| pw93203 [PATCH] [v2] net/mlx5: fix RSS expansion for NVGRE
@ 2021-05-12 12:28 dpdklab
0 siblings, 0 replies; 10+ messages in thread
From: dpdklab @ 2021-05-12 12:28 UTC (permalink / raw)
To: Test Report; +Cc: dpdk-test-reports
[-- Attachment #1: Type: text/plain, Size: 2281 bytes --]
Test-Label: iol-abi-testing
Test-Status: SUCCESS
http://dpdk.org/patch/93203
_Testing PASS_
Submitter: Jiawei Wang <jiaweiw@nvidia.com>
Date: Wednesday, May 12 2021 10:24:08
DPDK git baseline: Repo:dpdk-next-net-mlx
Branch: master
CommitID:1ca1cf6fbea905965b4f7073b085a85fe230fadd
93203 --> testing pass
Test environment and result as below:
+------------------+----------+
| Environment | abi_test |
+==================+==========+
| Ubuntu 18.04 ARM | PASS |
+------------------+----------+
| Ubuntu 18.04 | PASS |
+------------------+----------+
| openSUSE Leap 15 | PASS |
+------------------+----------+
| CentOS 8 | PASS |
+------------------+----------+
| RHEL 7 | PASS |
+------------------+----------+
| RHEL8 | PASS |
+------------------+----------+
| CentOS Stream 8 | PASS |
+------------------+----------+
| Arch Linux | PASS |
+------------------+----------+
| Ubuntu 20.04 | PASS |
+------------------+----------+
| Fedora 32 | PASS |
+------------------+----------+
| Fedora 31 | PASS |
+------------------+----------+
Ubuntu 18.04 ARM
Kernel: 5.4.0-53-generic
Compiler: gcc 9.3
Ubuntu 18.04
Kernel: 4.18.0-240.10.1.el8_3.x86_64
Compiler: gcc 7.5.0-3ubuntu1~18.04
openSUSE Leap 15
Kernel: 4.18.0-240.10.1.el8_3.x86_64
Compiler: gcc 7.5.0
CentOS 8
Kernel: 4.18.0-240.10.1.el8_3.x86_64
Compiler: gcc 8.3.1 20191121 (Red Hat 8.3.1-5)
RHEL 7
Kernel: 4.18.0-240.10.1.el8_3.x86_64
Compiler: gcc 4.8.5 20150623 (Red Hat 4.8.5-44)
RHEL8
Kernel: 4.18.0-240.10.1.el8_3.x86_64
Compiler: gcc 8.3.1 20191121 (Red Hat 8.3.1-5)
CentOS Stream 8
Kernel: 4.18.0-240.10.1.el8_3.x86_64
Compiler: gcc 8.4.1 20200928
Arch Linux
Kernel: 4.18.0-240.10.1.el8_3.x86_64
Compiler: gcc 10.2.0
Ubuntu 20.04
Kernel: 4.18.0-240.10.1.el8_3.x86_64
Compiler: gcc 9.3.0-17ubuntu1~20.04
Fedora 32
Kernel: 4.18.0-240.10.1.el8_3.x86_64
Compiler: gcc 10.2.1
Fedora 31
Kernel: 4.18.0-240.10.1.el8_3.x86_64
Compiler: gcc 9.3.1
To view detailed results, visit:
https://lab.dpdk.org/results/dashboard/patchsets/17067/
UNH-IOL DPDK Community Lab
To manage your email subscriptions, visit:
https://lab.dpdk.org/results/dashboard/preferences/subscriptions/
^ permalink raw reply [flat|nested] 10+ messages in thread
* [dpdk-test-report] |SUCCESS| pw93203 [PATCH] [v2] net/mlx5: fix RSS expansion for NVGRE
@ 2021-05-12 11:20 dpdklab
0 siblings, 0 replies; 10+ messages in thread
From: dpdklab @ 2021-05-12 11:20 UTC (permalink / raw)
To: Test Report; +Cc: dpdk-test-reports
[-- Attachment #1: Type: text/plain, Size: 791 bytes --]
Test-Label: iol-intel-Functional
Test-Status: SUCCESS
http://dpdk.org/patch/93203
_Functional Testing PASS_
Submitter: Jiawei Wang <jiaweiw@nvidia.com>
Date: Wednesday, May 12 2021 10:24:08
DPDK git baseline: Repo:dpdk-next-net-mlx
Branch: master
CommitID:1ca1cf6fbea905965b4f7073b085a85fe230fadd
93203 --> functional testing pass
Test environment and result as below:
Ubuntu 18.04
Kernel: 4.15.0-generic
Compiler: gcc 7.4
NIC: Intel Corporation Ethernet Converged Network Adapter 82599ES 10000 Mbps
Target: x86_64-native-linuxapp-gcc
Fail/Total: 0/5
To view detailed results, visit:
https://lab.dpdk.org/results/dashboard/patchsets/17067/
UNH-IOL DPDK Community Lab
To manage your email subscriptions, visit:
https://lab.dpdk.org/results/dashboard/preferences/subscriptions/
^ permalink raw reply [flat|nested] 10+ messages in thread
* [dpdk-test-report] |SUCCESS| pw93203 [PATCH] [v2] net/mlx5: fix RSS expansion for NVGRE
@ 2021-05-12 11:09 dpdklab
0 siblings, 0 replies; 10+ messages in thread
From: dpdklab @ 2021-05-12 11:09 UTC (permalink / raw)
To: Test Report; +Cc: dpdk-test-reports
[-- Attachment #1: Type: text/plain, Size: 1264 bytes --]
Test-Label: iol-intel-Performance
Test-Status: SUCCESS
http://dpdk.org/patch/93203
_Performance Testing PASS_
Submitter: Jiawei Wang <jiaweiw@nvidia.com>
Date: Wednesday, May 12 2021 10:24:08
DPDK git baseline: Repo:dpdk-next-net-mlx
Branch: master
CommitID:1ca1cf6fbea905965b4f7073b085a85fe230fadd
93203 --> performance testing pass
Test environment and result as below:
Ubuntu 18.04
Kernel: 4.15.0-generic
Compiler: gcc 7.4
NIC: Intel Corporation Ethernet Converged Network Adapter 82599ES 10000 Mbps
Target: x86_64-native-linuxapp-gcc
Fail/Total: 0/2
Detail performance results:
+------------+---------+-------------------------------------+
| frame_size | txd/rxd | throughput difference from expected |
+============+=========+=====================================+
| 64 | 512 | -0.45621% |
+------------+---------+-------------------------------------+
| 64 | 2048 | 0.73619% |
+------------+---------+-------------------------------------+
To view detailed results, visit:
https://lab.dpdk.org/results/dashboard/patchsets/17067/
UNH-IOL DPDK Community Lab
To manage your email subscriptions, visit:
https://lab.dpdk.org/results/dashboard/preferences/subscriptions/
^ permalink raw reply [flat|nested] 10+ messages in thread
* [dpdk-test-report] |SUCCESS| pw93203 [PATCH v2] net/mlx5: fix RSS expansion for NVGRE
[not found] <20210512102408.7501-1-jiaweiw@nvidia.com>
@ 2021-05-12 10:25 ` checkpatch
0 siblings, 0 replies; 10+ messages in thread
From: checkpatch @ 2021-05-12 10:25 UTC (permalink / raw)
To: test-report
Test-Label: checkpatch
Test-Status: SUCCESS
http://dpdk.org/patch/93203
_coding style OK_
^ permalink raw reply [flat|nested] 10+ messages in thread
end of thread, other threads:[~2021-05-14 15:13 UTC | newest]
Thread overview: 10+ messages (download: mbox.gz / follow: Atom feed)
-- links below jump to the message on this page --
2021-05-14 14:35 [dpdk-test-report] |SUCCESS| pw93203 [PATCH] [v2] net/mlx5: fix RSS expansion for NVGRE dpdklab
-- strict thread matches above, loose matches on Subject: below --
2021-05-14 15:13 dpdklab
2021-05-14 14:50 dpdklab
2021-05-14 0:32 dpdklab
2021-05-14 0:20 dpdklab
2021-05-14 0:08 dpdklab
2021-05-12 12:28 dpdklab
2021-05-12 11:20 dpdklab
2021-05-12 11:09 dpdklab
[not found] <20210512102408.7501-1-jiaweiw@nvidia.com>
2021-05-12 10:25 ` [dpdk-test-report] |SUCCESS| pw93203 [PATCH v2] " checkpatch
This is a public inbox, see mirroring instructions
for how to clone and mirror all data and code used for this inbox;
as well as URLs for NNTP newsgroup(s).