[-- Attachment #1: Type: text/plain, Size: 788 bytes --] Test-Label: iol-intel-Functional Test-Status: SUCCESS http://dpdk.org/patch/93225 _Functional Testing PASS_ Submitter: wangyunjian <wangyunjian@huawei.com> Date: Wednesday, May 12 2021 13:18:35 DPDK git baseline: Repo:dpdk Branch: master CommitID:86ff0663639417f9d25907d09343a5c231e32a51 93226-93225 --> functional testing pass Test environment and result as below: Ubuntu 18.04 Kernel: 4.15.0-generic Compiler: gcc 7.4 NIC: Intel Corporation Ethernet Converged Network Adapter 82599ES 10000 Mbps Target: x86_64-native-linuxapp-gcc Fail/Total: 0/5 To view detailed results, visit: https://lab.dpdk.org/results/dashboard/patchsets/17079/ UNH-IOL DPDK Community Lab To manage your email subscriptions, visit: https://lab.dpdk.org/results/dashboard/preferences/subscriptions/
[-- Attachment #1: Type: text/plain, Size: 1261 bytes --] Test-Label: iol-intel-Performance Test-Status: SUCCESS http://dpdk.org/patch/93225 _Performance Testing PASS_ Submitter: wangyunjian <wangyunjian@huawei.com> Date: Wednesday, May 12 2021 13:18:35 DPDK git baseline: Repo:dpdk Branch: master CommitID:86ff0663639417f9d25907d09343a5c231e32a51 93226-93225 --> performance testing pass Test environment and result as below: Ubuntu 18.04 Kernel: 4.15.0-generic Compiler: gcc 7.4 NIC: Intel Corporation Ethernet Converged Network Adapter 82599ES 10000 Mbps Target: x86_64-native-linuxapp-gcc Fail/Total: 0/2 Detail performance results: +------------+---------+-------------------------------------+ | frame_size | txd/rxd | throughput difference from expected | +============+=========+=====================================+ | 64 | 512 | -0.2161% | +------------+---------+-------------------------------------+ | 64 | 2048 | 0.55567% | +------------+---------+-------------------------------------+ To view detailed results, visit: https://lab.dpdk.org/results/dashboard/patchsets/17079/ UNH-IOL DPDK Community Lab To manage your email subscriptions, visit: https://lab.dpdk.org/results/dashboard/preferences/subscriptions/
[-- Attachment #1: Type: text/plain, Size: 4644 bytes --] Test-Label: iol-testing Test-Status: SUCCESS http://dpdk.org/patch/93225 _Testing PASS_ Submitter: wangyunjian <wangyunjian@huawei.com> Date: Wednesday, May 12 2021 13:18:35 DPDK git baseline: Repo:dpdk Branch: master CommitID:86ff0663639417f9d25907d09343a5c231e32a51 93226-93225 --> testing pass Test environment and result as below: +---------------------+----------------------+-------------------+--------------------+----------------+ | Environment | dpdk_mingw64_compile | dpdk_compile_spdk | dpdk_meson_compile | dpdk_unit_test | +=====================+======================+===================+====================+================+ | Windows Server 2019 | PASS | SKIPPED | PASS | SKIPPED | +---------------------+----------------------+-------------------+--------------------+----------------+ | Ubuntu 18.04 | SKIPPED | PASS | PASS | PASS | +---------------------+----------------------+-------------------+--------------------+----------------+ | Ubuntu 18.04 ARM | SKIPPED | SKIPPED | PASS | SKIPPED | +---------------------+----------------------+-------------------+--------------------+----------------+ | CentOS 8 | SKIPPED | SKIPPED | PASS | SKIPPED | +---------------------+----------------------+-------------------+--------------------+----------------+ | CentOS Stream 8 | SKIPPED | SKIPPED | PASS | SKIPPED | +---------------------+----------------------+-------------------+--------------------+----------------+ | Fedora 31 | SKIPPED | SKIPPED | PASS | SKIPPED | +---------------------+----------------------+-------------------+--------------------+----------------+ | Fedora 32 | SKIPPED | SKIPPED | PASS | SKIPPED | +---------------------+----------------------+-------------------+--------------------+----------------+ | RHEL 7 | SKIPPED | SKIPPED | PASS | SKIPPED | +---------------------+----------------------+-------------------+--------------------+----------------+ | Ubuntu 20.04 | SKIPPED | SKIPPED | PASS | SKIPPED | +---------------------+----------------------+-------------------+--------------------+----------------+ | RHEL8 | SKIPPED | SKIPPED | PASS | SKIPPED | +---------------------+----------------------+-------------------+--------------------+----------------+ | openSUSE Leap 15 | SKIPPED | SKIPPED | PASS | SKIPPED | +---------------------+----------------------+-------------------+--------------------+----------------+ | Arch Linux | SKIPPED | SKIPPED | PASS | SKIPPED | +---------------------+----------------------+-------------------+--------------------+----------------+ | FreeBSD 11.2 | SKIPPED | SKIPPED | PASS | SKIPPED | +---------------------+----------------------+-------------------+--------------------+----------------+ Windows Server 2019 Kernel: 10.0 Compiler: clang 9.0 and gcc 8.1.0 (MinGW) Ubuntu 18.04 Kernel: 4.18.0-240.10.1.el8_3.x86_64 Compiler: gcc 7.5.0-3ubuntu1~18.04 Ubuntu 18.04 ARM Kernel: 5.4.0-53-generic Compiler: gcc 9.3 CentOS 8 Kernel: 4.18.0-240.10.1.el8_3.x86_64 Compiler: gcc 8.3.1 20191121 (Red Hat 8.3.1-5) CentOS Stream 8 Kernel: 4.18.0-240.10.1.el8_3.x86_64 Compiler: gcc 8.4.1 20200928 Fedora 31 Kernel: 4.18.0-240.10.1.el8_3.x86_64 Compiler: gcc 9.3.1 Fedora 32 Kernel: 4.18.0-240.10.1.el8_3.x86_64 Compiler: gcc 10.2.1 RHEL 7 Kernel: 4.18.0-240.10.1.el8_3.x86_64 Compiler: gcc 4.8.5 20150623 (Red Hat 4.8.5-44) Ubuntu 20.04 Kernel: 4.18.0-240.10.1.el8_3.x86_64 Compiler: gcc 9.3.0-17ubuntu1~20.04 RHEL8 Kernel: 4.18.0-240.10.1.el8_3.x86_64 Compiler: gcc 8.3.1 20191121 (Red Hat 8.3.1-5) openSUSE Leap 15 Kernel: 4.18.0-240.10.1.el8_3.x86_64 Compiler: gcc 7.5.0 Arch Linux Kernel: 4.18.0-240.10.1.el8_3.x86_64 Compiler: gcc 10.2.0 FreeBSD 11.2 Kernel: 11.2 Compiler: gcc 8.3 To view detailed results, visit: https://lab.dpdk.org/results/dashboard/patchsets/17079/ UNH-IOL DPDK Community Lab To manage your email subscriptions, visit: https://lab.dpdk.org/results/dashboard/preferences/subscriptions/
[-- Attachment #1: Type: text/plain, Size: 1728 bytes --] Test-Label: iol-mellanox-Performance Test-Status: SUCCESS http://dpdk.org/patch/93225 _Performance Testing PASS_ Submitter: wangyunjian <wangyunjian@huawei.com> Date: Wednesday, May 12 2021 13:18:35 DPDK git baseline: Repo:dpdk Branch: master CommitID:86ff0663639417f9d25907d09343a5c231e32a51 93226-93225 --> performance testing pass Test environment and result as below: Ubuntu 18.04 Kernel: 4.15.0-generic Compiler: gcc 7.4 NIC: Mellanox ConnectX-5 100000 Mbps Target: x86_64-native-linuxapp-gcc Fail/Total: 0/6 Detail performance results: +------------+---------+-------------------------------------+ | frame_size | txd/rxd | throughput difference from expected | +============+=========+=====================================+ | 64 | 256 | -0.02102% | +------------+---------+-------------------------------------+ | 128 | 256 | -0.06258% | +------------+---------+-------------------------------------+ | 256 | 256 | 0.26712% | +------------+---------+-------------------------------------+ | 512 | 256 | 1.47875% | +------------+---------+-------------------------------------+ | 1024 | 256 | 0.22028% | +------------+---------+-------------------------------------+ | 1518 | 256 | -0.19941% | +------------+---------+-------------------------------------+ To view detailed results, visit: https://lab.dpdk.org/results/dashboard/patchsets/17079/ UNH-IOL DPDK Community Lab To manage your email subscriptions, visit: https://lab.dpdk.org/results/dashboard/preferences/subscriptions/
[-- Attachment #1: Type: text/plain, Size: 753 bytes --] Test-Label: iol-mellanox-Functional Test-Status: SUCCESS http://dpdk.org/patch/93225 _Functional Testing PASS_ Submitter: wangyunjian <wangyunjian@huawei.com> Date: Wednesday, May 12 2021 13:18:35 DPDK git baseline: Repo:dpdk Branch: master CommitID:86ff0663639417f9d25907d09343a5c231e32a51 93226-93225 --> functional testing pass Test environment and result as below: Ubuntu 18.04 Kernel: 4.15.0-generic Compiler: gcc 7.4 NIC: Mellanox ConnectX-4 Lx 40000 Mbps Target: x86_64-native-linuxapp-gcc Fail/Total: 0/5 To view detailed results, visit: https://lab.dpdk.org/results/dashboard/patchsets/17079/ UNH-IOL DPDK Community Lab To manage your email subscriptions, visit: https://lab.dpdk.org/results/dashboard/preferences/subscriptions/
[-- Attachment #1: Type: text/plain, Size: 2848 bytes --] Test-Label: iol-mellanox-Performance Test-Status: SUCCESS http://dpdk.org/patch/93225 _Performance Testing PASS_ Submitter: wangyunjian <wangyunjian@huawei.com> Date: Wednesday, May 12 2021 13:18:35 DPDK git baseline: Repo:dpdk Branch: master CommitID:86ff0663639417f9d25907d09343a5c231e32a51 93226-93225 --> performance testing pass Test environment and result as below: Ubuntu 18.04 Kernel: 4.15.0-generic Compiler: gcc 7.4 NIC: Mellanox ConnectX-5 100000 Mbps Target: x86_64-native-linuxapp-gcc Fail/Total: 0/6 Detail performance results: +------------+---------+-------------------------------------+ | frame_size | txd/rxd | throughput difference from expected | +============+=========+=====================================+ | 64 | 256 | -0.02102% | +------------+---------+-------------------------------------+ | 128 | 256 | -0.06258% | +------------+---------+-------------------------------------+ | 256 | 256 | 0.26712% | +------------+---------+-------------------------------------+ | 512 | 256 | 1.47875% | +------------+---------+-------------------------------------+ | 1024 | 256 | 0.22028% | +------------+---------+-------------------------------------+ | 1518 | 256 | -0.19941% | +------------+---------+-------------------------------------+ Ubuntu 18.04 Kernel: 4.15.0-generic Compiler: gcc 7.4 NIC: Mellanox ConnectX-4 Lx 25000 Mbps Target: x86_64-native-linuxapp-gcc Fail/Total: 0/6 Detail performance results: +------------+---------+-------------------------------------+ | frame_size | txd/rxd | throughput difference from expected | +============+=========+=====================================+ | 64 | 256 | -0.12722% | +------------+---------+-------------------------------------+ | 128 | 256 | 0.16585% | +------------+---------+-------------------------------------+ | 256 | 256 | -1.27316% | +------------+---------+-------------------------------------+ | 512 | 256 | -0.25681% | +------------+---------+-------------------------------------+ | 1024 | 256 | 0.13385% | +------------+---------+-------------------------------------+ | 1518 | 256 | 0.02461% | +------------+---------+-------------------------------------+ To view detailed results, visit: https://lab.dpdk.org/results/dashboard/patchsets/17079/ UNH-IOL DPDK Community Lab To manage your email subscriptions, visit: https://lab.dpdk.org/results/dashboard/preferences/subscriptions/
[-- Attachment #1: Type: text/plain, Size: 3968 bytes --] Test-Label: iol-mellanox-Performance Test-Status: SUCCESS http://dpdk.org/patch/93225 _Performance Testing PASS_ Submitter: wangyunjian <wangyunjian@huawei.com> Date: Wednesday, May 12 2021 13:18:35 DPDK git baseline: Repo:dpdk Branch: master CommitID:86ff0663639417f9d25907d09343a5c231e32a51 93226-93225 --> performance testing pass Test environment and result as below: Ubuntu 18.04 Kernel: 4.15.0-generic Compiler: gcc 7.4 NIC: Mellanox ConnectX-5 100000 Mbps Target: x86_64-native-linuxapp-gcc Fail/Total: 0/6 Detail performance results: +------------+---------+-------------------------------------+ | frame_size | txd/rxd | throughput difference from expected | +============+=========+=====================================+ | 64 | 256 | -0.02102% | +------------+---------+-------------------------------------+ | 128 | 256 | -0.06258% | +------------+---------+-------------------------------------+ | 256 | 256 | 0.26712% | +------------+---------+-------------------------------------+ | 512 | 256 | 1.47875% | +------------+---------+-------------------------------------+ | 1024 | 256 | 0.22028% | +------------+---------+-------------------------------------+ | 1518 | 256 | -0.19941% | +------------+---------+-------------------------------------+ Ubuntu 18.04 Kernel: 4.15.0-generic Compiler: gcc 7.4 NIC: Mellanox ConnectX-4 Lx 25000 Mbps Target: x86_64-native-linuxapp-gcc Fail/Total: 0/6 Detail performance results: +------------+---------+-------------------------------------+ | frame_size | txd/rxd | throughput difference from expected | +============+=========+=====================================+ | 64 | 256 | -0.12722% | +------------+---------+-------------------------------------+ | 128 | 256 | 0.16585% | +------------+---------+-------------------------------------+ | 256 | 256 | -1.27316% | +------------+---------+-------------------------------------+ | 512 | 256 | -0.25681% | +------------+---------+-------------------------------------+ | 1024 | 256 | 0.13385% | +------------+---------+-------------------------------------+ | 1518 | 256 | 0.02461% | +------------+---------+-------------------------------------+ Ubuntu 18.04 Kernel: 4.15.0-generic Compiler: gcc 7.4 NIC: Mellanox ConnectX-4 Lx 40000 Mbps Target: x86_64-native-linuxapp-gcc Fail/Total: 0/6 Detail performance results: +------------+---------+-------------------------------------+ | frame_size | txd/rxd | throughput difference from expected | +============+=========+=====================================+ | 64 | 256 | 0.2255% | +------------+---------+-------------------------------------+ | 128 | 256 | -0.46079% | +------------+---------+-------------------------------------+ | 256 | 256 | 0.05122% | +------------+---------+-------------------------------------+ | 512 | 256 | -0.11716% | +------------+---------+-------------------------------------+ | 1024 | 256 | -0.06264% | +------------+---------+-------------------------------------+ | 1518 | 256 | -0.07689% | +------------+---------+-------------------------------------+ To view detailed results, visit: https://lab.dpdk.org/results/dashboard/patchsets/17079/ UNH-IOL DPDK Community Lab To manage your email subscriptions, visit: https://lab.dpdk.org/results/dashboard/preferences/subscriptions/
[-- Attachment #1: Type: text/plain, Size: 899 bytes --] Test-Label: iol-mellanox-Functional Test-Status: SUCCESS http://dpdk.org/patch/93225 _Functional Testing PASS_ Submitter: wangyunjian <wangyunjian@huawei.com> Date: Wednesday, May 12 2021 13:18:35 DPDK git baseline: Repo:dpdk Branch: master CommitID:86ff0663639417f9d25907d09343a5c231e32a51 93226-93225 --> functional testing pass Test environment and result as below: Ubuntu 18.04 Kernel: 4.15.0-generic Compiler: gcc 7.4 NIC: Mellanox ConnectX-4 Lx 40000 Mbps Target: x86_64-native-linuxapp-gcc Fail/Total: 0/5 Ubuntu 18.04 Kernel: 4.15.0-generic Compiler: gcc 7.4 NIC: Mellanox ConnectX-4 Lx 25000 Mbps Target: x86_64-native-linuxapp-gcc Fail/Total: 0/5 To view detailed results, visit: https://lab.dpdk.org/results/dashboard/patchsets/17079/ UNH-IOL DPDK Community Lab To manage your email subscriptions, visit: https://lab.dpdk.org/results/dashboard/preferences/subscriptions/
[-- Attachment #1: Type: text/plain, Size: 987 bytes --] Test-Label: iol-intel-Functional Test-Status: SUCCESS http://dpdk.org/patch/93225 _Functional Testing PASS_ Submitter: wangyunjian <wangyunjian@huawei.com> Date: Wednesday, May 12 2021 13:18:35 DPDK git baseline: Repo:dpdk Branch: master CommitID:86ff0663639417f9d25907d09343a5c231e32a51 93226-93225 --> functional testing pass Test environment and result as below: Ubuntu 18.04 Kernel: 4.15.0-generic Compiler: gcc 7.4 NIC: Intel Corporation Ethernet Converged Network Adapter 82599ES 10000 Mbps Target: x86_64-native-linuxapp-gcc Fail/Total: 0/5 Ubuntu 18.04 ARM Kernel: 4.15.0-132-generic Compiler: gcc 7.5 NIC: Arm Intel Corporation Ethernet Converged Network Adapter XL710-QDA2 40000 Mbps Target: x86_64-native-linuxapp-gcc Fail/Total: 0/5 To view detailed results, visit: https://lab.dpdk.org/results/dashboard/patchsets/17079/ UNH-IOL DPDK Community Lab To manage your email subscriptions, visit: https://lab.dpdk.org/results/dashboard/preferences/subscriptions/
[-- Attachment #1: Type: text/plain, Size: 1930 bytes --] Test-Label: iol-intel-Performance Test-Status: SUCCESS http://dpdk.org/patch/93225 _Performance Testing PASS_ Submitter: wangyunjian <wangyunjian@huawei.com> Date: Wednesday, May 12 2021 13:18:35 DPDK git baseline: Repo:dpdk Branch: master CommitID:86ff0663639417f9d25907d09343a5c231e32a51 93226-93225 --> performance testing pass Test environment and result as below: Ubuntu 18.04 Kernel: 4.15.0-generic Compiler: gcc 7.4 NIC: Intel Corporation Ethernet Converged Network Adapter 82599ES 10000 Mbps Target: x86_64-native-linuxapp-gcc Fail/Total: 0/2 Detail performance results: +------------+---------+-------------------------------------+ | frame_size | txd/rxd | throughput difference from expected | +============+=========+=====================================+ | 64 | 512 | -0.2161% | +------------+---------+-------------------------------------+ | 64 | 2048 | 0.55567% | +------------+---------+-------------------------------------+ Ubuntu 18.04 ARM Kernel: 4.15.0-132-generic Compiler: gcc 7.5 NIC: Arm Intel Corporation Ethernet Converged Network Adapter XL710-QDA2 40000 Mbps Target: x86_64-native-linuxapp-gcc Fail/Total: 0/2 Detail performance results: +------------+---------+-------------------------------------+ | frame_size | txd/rxd | throughput difference from expected | +============+=========+=====================================+ | 64 | 512 | -0.29893% | +------------+---------+-------------------------------------+ | 64 | 2048 | 0.15694% | +------------+---------+-------------------------------------+ To view detailed results, visit: https://lab.dpdk.org/results/dashboard/patchsets/17079/ UNH-IOL DPDK Community Lab To manage your email subscriptions, visit: https://lab.dpdk.org/results/dashboard/preferences/subscriptions/
[-- Attachment #1: Type: text/plain, Size: 4845 bytes --] Test-Label: iol-mellanox-Performance Test-Status: SUCCESS http://dpdk.org/patch/93225 _Performance Testing PASS_ Submitter: wangyunjian <wangyunjian@huawei.com> Date: Wednesday, May 12 2021 13:18:35 DPDK git baseline: Repo:dpdk Branch: master CommitID:86ff0663639417f9d25907d09343a5c231e32a51 93226-93225 --> performance testing pass Test environment and result as below: Ubuntu 18.04 Kernel: 4.15.0-generic Compiler: gcc 7.4 NIC: Mellanox ConnectX-5 100000 Mbps Target: x86_64-native-linuxapp-gcc Fail/Total: 0/6 Detail performance results: +------------+---------+-------------------------------------+ | frame_size | txd/rxd | throughput difference from expected | +============+=========+=====================================+ | 64 | 256 | -0.02102% | +------------+---------+-------------------------------------+ | 128 | 256 | -0.06258% | +------------+---------+-------------------------------------+ | 256 | 256 | 0.26712% | +------------+---------+-------------------------------------+ | 512 | 256 | 1.47875% | +------------+---------+-------------------------------------+ | 1024 | 256 | 0.22028% | +------------+---------+-------------------------------------+ | 1518 | 256 | -0.19941% | +------------+---------+-------------------------------------+ Ubuntu 18.04 Kernel: 4.15.0-generic Compiler: gcc 7.4 NIC: Mellanox ConnectX-4 Lx 25000 Mbps Target: x86_64-native-linuxapp-gcc Fail/Total: 0/6 Detail performance results: +------------+---------+-------------------------------------+ | frame_size | txd/rxd | throughput difference from expected | +============+=========+=====================================+ | 64 | 256 | -0.12722% | +------------+---------+-------------------------------------+ | 128 | 256 | 0.16585% | +------------+---------+-------------------------------------+ | 256 | 256 | -1.27316% | +------------+---------+-------------------------------------+ | 512 | 256 | -0.25681% | +------------+---------+-------------------------------------+ | 1024 | 256 | 0.13385% | +------------+---------+-------------------------------------+ | 1518 | 256 | 0.02461% | +------------+---------+-------------------------------------+ Ubuntu 18.04 Kernel: 4.15.0-generic Compiler: gcc 7.4 NIC: Mellanox ConnectX-4 Lx 40000 Mbps Target: x86_64-native-linuxapp-gcc Fail/Total: 0/6 Detail performance results: +------------+---------+-------------------------------------+ | frame_size | txd/rxd | throughput difference from expected | +============+=========+=====================================+ | 64 | 256 | 0.2255% | +------------+---------+-------------------------------------+ | 128 | 256 | -0.46079% | +------------+---------+-------------------------------------+ | 256 | 256 | 0.05122% | +------------+---------+-------------------------------------+ | 512 | 256 | -0.11716% | +------------+---------+-------------------------------------+ | 1024 | 256 | -0.06264% | +------------+---------+-------------------------------------+ | 1518 | 256 | -0.07689% | +------------+---------+-------------------------------------+ Ubuntu 18.04 ARM Kernel: 4.15.0-132-generic Compiler: gcc 7.5 NIC: Arm Mellanox ConnectX-5 10000 Mbps Target: x86_64-native-linuxapp-gcc Fail/Total: 0/4 Detail performance results: +------------+---------+-------------------------------------+ | frame_size | txd/rxd | throughput difference from expected | +============+=========+=====================================+ | 64 | 128 | -0.16086% | +------------+---------+-------------------------------------+ | 64 | 256 | -1.41813% | +------------+---------+-------------------------------------+ | 64 | 512 | -2.3692% | +------------+---------+-------------------------------------+ | 64 | 2048 | -0.35453% | +------------+---------+-------------------------------------+ To view detailed results, visit: https://lab.dpdk.org/results/dashboard/patchsets/17079/ UNH-IOL DPDK Community Lab To manage your email subscriptions, visit: https://lab.dpdk.org/results/dashboard/preferences/subscriptions/
[-- Attachment #1: Type: text/plain, Size: 1054 bytes --] Test-Label: iol-mellanox-Functional Test-Status: SUCCESS http://dpdk.org/patch/93225 _Functional Testing PASS_ Submitter: wangyunjian <wangyunjian@huawei.com> Date: Wednesday, May 12 2021 13:18:35 DPDK git baseline: Repo:dpdk Branch: master CommitID:86ff0663639417f9d25907d09343a5c231e32a51 93226-93225 --> functional testing pass Test environment and result as below: Ubuntu 18.04 Kernel: 4.15.0-generic Compiler: gcc 7.4 NIC: Mellanox ConnectX-4 Lx 40000 Mbps Target: x86_64-native-linuxapp-gcc Fail/Total: 0/5 Ubuntu 18.04 Kernel: 4.15.0-generic Compiler: gcc 7.4 NIC: Mellanox ConnectX-4 Lx 25000 Mbps Target: x86_64-native-linuxapp-gcc Fail/Total: 0/5 Ubuntu 18.04 ARM Kernel: 4.15.0-132-generic Compiler: gcc 7.5 NIC: Arm Mellanox ConnectX-5 10000 Mbps Target: x86_64-native-linuxapp-gcc Fail/Total: 0/4 To view detailed results, visit: https://lab.dpdk.org/results/dashboard/patchsets/17079/ UNH-IOL DPDK Community Lab To manage your email subscriptions, visit: https://lab.dpdk.org/results/dashboard/preferences/subscriptions/