[-- Attachment #1: Type: text/plain, Size: 787 bytes --] Test-Label: iol-intel-Functional Test-Status: SUCCESS http://dpdk.org/patch/93239 _Functional Testing PASS_ Submitter: wangyunjian <wangyunjian@huawei.com> Date: Thursday, May 13 2021 03:39:54 DPDK git baseline: Repo:dpdk Branch: master CommitID:7989b7e7da9be588563c809264c9347a35319969 93238-93239 --> functional testing pass Test environment and result as below: Ubuntu 18.04 Kernel: 4.15.0-generic Compiler: gcc 7.4 NIC: Intel Corporation Ethernet Converged Network Adapter 82599ES 10000 Mbps Target: x86_64-native-linuxapp-gcc Fail/Total: 0/5 To view detailed results, visit: https://lab.dpdk.org/results/dashboard/patchsets/17086/ UNH-IOL DPDK Community Lab To manage your email subscriptions, visit: https://lab.dpdk.org/results/dashboard/preferences/subscriptions/
[-- Attachment #1: Type: text/plain, Size: 1260 bytes --] Test-Label: iol-intel-Performance Test-Status: SUCCESS http://dpdk.org/patch/93239 _Performance Testing PASS_ Submitter: wangyunjian <wangyunjian@huawei.com> Date: Thursday, May 13 2021 03:39:54 DPDK git baseline: Repo:dpdk Branch: master CommitID:7989b7e7da9be588563c809264c9347a35319969 93238-93239 --> performance testing pass Test environment and result as below: Ubuntu 18.04 Kernel: 4.15.0-generic Compiler: gcc 7.4 NIC: Intel Corporation Ethernet Converged Network Adapter 82599ES 10000 Mbps Target: x86_64-native-linuxapp-gcc Fail/Total: 0/2 Detail performance results: +------------+---------+-------------------------------------+ | frame_size | txd/rxd | throughput difference from expected | +============+=========+=====================================+ | 64 | 512 | -0.56535% | +------------+---------+-------------------------------------+ | 64 | 2048 | 0.46258% | +------------+---------+-------------------------------------+ To view detailed results, visit: https://lab.dpdk.org/results/dashboard/patchsets/17086/ UNH-IOL DPDK Community Lab To manage your email subscriptions, visit: https://lab.dpdk.org/results/dashboard/preferences/subscriptions/
[-- Attachment #1: Type: text/plain, Size: 4643 bytes --] Test-Label: iol-testing Test-Status: SUCCESS http://dpdk.org/patch/93239 _Testing PASS_ Submitter: wangyunjian <wangyunjian@huawei.com> Date: Thursday, May 13 2021 03:39:54 DPDK git baseline: Repo:dpdk Branch: master CommitID:7989b7e7da9be588563c809264c9347a35319969 93238-93239 --> testing pass Test environment and result as below: +---------------------+----------------------+-------------------+--------------------+----------------+ | Environment | dpdk_mingw64_compile | dpdk_compile_spdk | dpdk_meson_compile | dpdk_unit_test | +=====================+======================+===================+====================+================+ | Windows Server 2019 | PASS | SKIPPED | PASS | SKIPPED | +---------------------+----------------------+-------------------+--------------------+----------------+ | Ubuntu 18.04 | SKIPPED | PASS | PASS | PASS | +---------------------+----------------------+-------------------+--------------------+----------------+ | Fedora 31 | SKIPPED | SKIPPED | PASS | SKIPPED | +---------------------+----------------------+-------------------+--------------------+----------------+ | Ubuntu 18.04 ARM | SKIPPED | SKIPPED | PASS | SKIPPED | +---------------------+----------------------+-------------------+--------------------+----------------+ | FreeBSD 11.2 | SKIPPED | SKIPPED | PASS | SKIPPED | +---------------------+----------------------+-------------------+--------------------+----------------+ | CentOS 8 | SKIPPED | SKIPPED | PASS | SKIPPED | +---------------------+----------------------+-------------------+--------------------+----------------+ | CentOS Stream 8 | SKIPPED | SKIPPED | PASS | SKIPPED | +---------------------+----------------------+-------------------+--------------------+----------------+ | Fedora 32 | SKIPPED | SKIPPED | PASS | SKIPPED | +---------------------+----------------------+-------------------+--------------------+----------------+ | openSUSE Leap 15 | SKIPPED | SKIPPED | PASS | SKIPPED | +---------------------+----------------------+-------------------+--------------------+----------------+ | Ubuntu 20.04 | SKIPPED | SKIPPED | PASS | SKIPPED | +---------------------+----------------------+-------------------+--------------------+----------------+ | Arch Linux | SKIPPED | SKIPPED | PASS | SKIPPED | +---------------------+----------------------+-------------------+--------------------+----------------+ | RHEL 7 | SKIPPED | SKIPPED | PASS | SKIPPED | +---------------------+----------------------+-------------------+--------------------+----------------+ | RHEL8 | SKIPPED | SKIPPED | PASS | SKIPPED | +---------------------+----------------------+-------------------+--------------------+----------------+ Windows Server 2019 Kernel: 10.0 Compiler: clang 9.0 and gcc 8.1.0 (MinGW) Ubuntu 18.04 Kernel: 4.18.0-240.10.1.el8_3.x86_64 Compiler: gcc 7.5.0-3ubuntu1~18.04 Fedora 31 Kernel: 4.18.0-240.10.1.el8_3.x86_64 Compiler: gcc 9.3.1 Ubuntu 18.04 ARM Kernel: 5.4.0-53-generic Compiler: gcc 9.3 FreeBSD 11.2 Kernel: 11.2 Compiler: gcc 8.3 CentOS 8 Kernel: 4.18.0-240.10.1.el8_3.x86_64 Compiler: gcc 8.3.1 20191121 (Red Hat 8.3.1-5) CentOS Stream 8 Kernel: 4.18.0-240.10.1.el8_3.x86_64 Compiler: gcc 8.4.1 20200928 Fedora 32 Kernel: 4.18.0-240.10.1.el8_3.x86_64 Compiler: gcc 10.2.1 openSUSE Leap 15 Kernel: 4.18.0-240.10.1.el8_3.x86_64 Compiler: gcc 7.5.0 Ubuntu 20.04 Kernel: 4.18.0-240.10.1.el8_3.x86_64 Compiler: gcc 9.3.0-17ubuntu1~20.04 Arch Linux Kernel: 4.18.0-240.10.1.el8_3.x86_64 Compiler: gcc 10.2.0 RHEL 7 Kernel: 4.18.0-240.10.1.el8_3.x86_64 Compiler: gcc 4.8.5 20150623 (Red Hat 4.8.5-44) RHEL8 Kernel: 4.18.0-240.10.1.el8_3.x86_64 Compiler: gcc 8.3.1 20191121 (Red Hat 8.3.1-5) To view detailed results, visit: https://lab.dpdk.org/results/dashboard/patchsets/17086/ UNH-IOL DPDK Community Lab To manage your email subscriptions, visit: https://lab.dpdk.org/results/dashboard/preferences/subscriptions/
[-- Attachment #1: Type: text/plain, Size: 2277 bytes --] Test-Label: iol-abi-testing Test-Status: SUCCESS http://dpdk.org/patch/93239 _Testing PASS_ Submitter: wangyunjian <wangyunjian@huawei.com> Date: Thursday, May 13 2021 03:39:54 DPDK git baseline: Repo:dpdk Branch: master CommitID:7989b7e7da9be588563c809264c9347a35319969 93238-93239 --> testing pass Test environment and result as below: +------------------+----------+ | Environment | abi_test | +==================+==========+ | Ubuntu 18.04 ARM | PASS | +------------------+----------+ | Arch Linux | PASS | +------------------+----------+ | Ubuntu 18.04 | PASS | +------------------+----------+ | RHEL8 | PASS | +------------------+----------+ | Ubuntu 20.04 | PASS | +------------------+----------+ | openSUSE Leap 15 | PASS | +------------------+----------+ | RHEL 7 | PASS | +------------------+----------+ | CentOS 8 | PASS | +------------------+----------+ | Fedora 31 | PASS | +------------------+----------+ | Fedora 32 | PASS | +------------------+----------+ | CentOS Stream 8 | PASS | +------------------+----------+ Ubuntu 18.04 ARM Kernel: 5.4.0-53-generic Compiler: gcc 9.3 Arch Linux Kernel: 4.18.0-240.10.1.el8_3.x86_64 Compiler: gcc 10.2.0 Ubuntu 18.04 Kernel: 4.18.0-240.10.1.el8_3.x86_64 Compiler: gcc 7.5.0-3ubuntu1~18.04 RHEL8 Kernel: 4.18.0-240.10.1.el8_3.x86_64 Compiler: gcc 8.3.1 20191121 (Red Hat 8.3.1-5) Ubuntu 20.04 Kernel: 4.18.0-240.10.1.el8_3.x86_64 Compiler: gcc 9.3.0-17ubuntu1~20.04 openSUSE Leap 15 Kernel: 4.18.0-240.10.1.el8_3.x86_64 Compiler: gcc 7.5.0 RHEL 7 Kernel: 4.18.0-240.10.1.el8_3.x86_64 Compiler: gcc 4.8.5 20150623 (Red Hat 4.8.5-44) CentOS 8 Kernel: 4.18.0-240.10.1.el8_3.x86_64 Compiler: gcc 8.3.1 20191121 (Red Hat 8.3.1-5) Fedora 31 Kernel: 4.18.0-240.10.1.el8_3.x86_64 Compiler: gcc 9.3.1 Fedora 32 Kernel: 4.18.0-240.10.1.el8_3.x86_64 Compiler: gcc 10.2.1 CentOS Stream 8 Kernel: 4.18.0-240.10.1.el8_3.x86_64 Compiler: gcc 8.4.1 20200928 To view detailed results, visit: https://lab.dpdk.org/results/dashboard/patchsets/17086/ UNH-IOL DPDK Community Lab To manage your email subscriptions, visit: https://lab.dpdk.org/results/dashboard/preferences/subscriptions/
[-- Attachment #1: Type: text/plain, Size: 752 bytes --] Test-Label: iol-mellanox-Functional Test-Status: SUCCESS http://dpdk.org/patch/93239 _Functional Testing PASS_ Submitter: wangyunjian <wangyunjian@huawei.com> Date: Thursday, May 13 2021 03:39:54 DPDK git baseline: Repo:dpdk Branch: master CommitID:7989b7e7da9be588563c809264c9347a35319969 93238-93239 --> functional testing pass Test environment and result as below: Ubuntu 18.04 Kernel: 4.15.0-generic Compiler: gcc 7.4 NIC: Mellanox ConnectX-4 Lx 25000 Mbps Target: x86_64-native-linuxapp-gcc Fail/Total: 0/5 To view detailed results, visit: https://lab.dpdk.org/results/dashboard/patchsets/17086/ UNH-IOL DPDK Community Lab To manage your email subscriptions, visit: https://lab.dpdk.org/results/dashboard/preferences/subscriptions/
[-- Attachment #1: Type: text/plain, Size: 1729 bytes --] Test-Label: iol-mellanox-Performance Test-Status: SUCCESS http://dpdk.org/patch/93239 _Performance Testing PASS_ Submitter: wangyunjian <wangyunjian@huawei.com> Date: Thursday, May 13 2021 03:39:54 DPDK git baseline: Repo:dpdk Branch: master CommitID:7989b7e7da9be588563c809264c9347a35319969 93238-93239 --> performance testing pass Test environment and result as below: Ubuntu 18.04 Kernel: 4.15.0-generic Compiler: gcc 7.4 NIC: Mellanox ConnectX-4 Lx 25000 Mbps Target: x86_64-native-linuxapp-gcc Fail/Total: 0/6 Detail performance results: +------------+---------+-------------------------------------+ | frame_size | txd/rxd | throughput difference from expected | +============+=========+=====================================+ | 64 | 256 | 0.37319% | +------------+---------+-------------------------------------+ | 128 | 256 | 0.18659% | +------------+---------+-------------------------------------+ | 256 | 256 | -0.15357% | +------------+---------+-------------------------------------+ | 512 | 256 | -0.17976% | +------------+---------+-------------------------------------+ | 1024 | 256 | 0.11712% | +------------+---------+-------------------------------------+ | 1518 | 256 | -0.19685% | +------------+---------+-------------------------------------+ To view detailed results, visit: https://lab.dpdk.org/results/dashboard/patchsets/17086/ UNH-IOL DPDK Community Lab To manage your email subscriptions, visit: https://lab.dpdk.org/results/dashboard/preferences/subscriptions/
[-- Attachment #1: Type: text/plain, Size: 2849 bytes --] Test-Label: iol-mellanox-Performance Test-Status: SUCCESS http://dpdk.org/patch/93239 _Performance Testing PASS_ Submitter: wangyunjian <wangyunjian@huawei.com> Date: Thursday, May 13 2021 03:39:54 DPDK git baseline: Repo:dpdk Branch: master CommitID:7989b7e7da9be588563c809264c9347a35319969 93238-93239 --> performance testing pass Test environment and result as below: Ubuntu 18.04 Kernel: 4.15.0-generic Compiler: gcc 7.4 NIC: Mellanox ConnectX-4 Lx 25000 Mbps Target: x86_64-native-linuxapp-gcc Fail/Total: 0/6 Detail performance results: +------------+---------+-------------------------------------+ | frame_size | txd/rxd | throughput difference from expected | +============+=========+=====================================+ | 64 | 256 | 0.37319% | +------------+---------+-------------------------------------+ | 128 | 256 | 0.18659% | +------------+---------+-------------------------------------+ | 256 | 256 | -0.15357% | +------------+---------+-------------------------------------+ | 512 | 256 | -0.17976% | +------------+---------+-------------------------------------+ | 1024 | 256 | 0.11712% | +------------+---------+-------------------------------------+ | 1518 | 256 | -0.19685% | +------------+---------+-------------------------------------+ Ubuntu 18.04 Kernel: 4.15.0-generic Compiler: gcc 7.4 NIC: Mellanox ConnectX-4 Lx 40000 Mbps Target: x86_64-native-linuxapp-gcc Fail/Total: 0/6 Detail performance results: +------------+---------+-------------------------------------+ | frame_size | txd/rxd | throughput difference from expected | +============+=========+=====================================+ | 64 | 256 | 0.4881% | +------------+---------+-------------------------------------+ | 128 | 256 | 1.49113% | +------------+---------+-------------------------------------+ | 256 | 256 | 0.07683% | +------------+---------+-------------------------------------+ | 512 | 256 | 0.08521% | +------------+---------+-------------------------------------+ | 1024 | 256 | -0.02088% | +------------+---------+-------------------------------------+ | 1518 | 256 | -0.21529% | +------------+---------+-------------------------------------+ To view detailed results, visit: https://lab.dpdk.org/results/dashboard/patchsets/17086/ UNH-IOL DPDK Community Lab To manage your email subscriptions, visit: https://lab.dpdk.org/results/dashboard/preferences/subscriptions/
[-- Attachment #1: Type: text/plain, Size: 3967 bytes --] Test-Label: iol-mellanox-Performance Test-Status: SUCCESS http://dpdk.org/patch/93239 _Performance Testing PASS_ Submitter: wangyunjian <wangyunjian@huawei.com> Date: Thursday, May 13 2021 03:39:54 DPDK git baseline: Repo:dpdk Branch: master CommitID:7989b7e7da9be588563c809264c9347a35319969 93238-93239 --> performance testing pass Test environment and result as below: Ubuntu 18.04 Kernel: 4.15.0-generic Compiler: gcc 7.4 NIC: Mellanox ConnectX-4 Lx 25000 Mbps Target: x86_64-native-linuxapp-gcc Fail/Total: 0/6 Detail performance results: +------------+---------+-------------------------------------+ | frame_size | txd/rxd | throughput difference from expected | +============+=========+=====================================+ | 64 | 256 | 0.37319% | +------------+---------+-------------------------------------+ | 128 | 256 | 0.18659% | +------------+---------+-------------------------------------+ | 256 | 256 | -0.15357% | +------------+---------+-------------------------------------+ | 512 | 256 | -0.17976% | +------------+---------+-------------------------------------+ | 1024 | 256 | 0.11712% | +------------+---------+-------------------------------------+ | 1518 | 256 | -0.19685% | +------------+---------+-------------------------------------+ Ubuntu 18.04 Kernel: 4.15.0-generic Compiler: gcc 7.4 NIC: Mellanox ConnectX-4 Lx 40000 Mbps Target: x86_64-native-linuxapp-gcc Fail/Total: 0/6 Detail performance results: +------------+---------+-------------------------------------+ | frame_size | txd/rxd | throughput difference from expected | +============+=========+=====================================+ | 64 | 256 | 0.4881% | +------------+---------+-------------------------------------+ | 128 | 256 | 1.49113% | +------------+---------+-------------------------------------+ | 256 | 256 | 0.07683% | +------------+---------+-------------------------------------+ | 512 | 256 | 0.08521% | +------------+---------+-------------------------------------+ | 1024 | 256 | -0.02088% | +------------+---------+-------------------------------------+ | 1518 | 256 | -0.21529% | +------------+---------+-------------------------------------+ Ubuntu 18.04 Kernel: 4.15.0-generic Compiler: gcc 7.4 NIC: Mellanox ConnectX-5 100000 Mbps Target: x86_64-native-linuxapp-gcc Fail/Total: 0/6 Detail performance results: +------------+---------+-------------------------------------+ | frame_size | txd/rxd | throughput difference from expected | +============+=========+=====================================+ | 64 | 256 | 0.097% | +------------+---------+-------------------------------------+ | 128 | 256 | -0.21904% | +------------+---------+-------------------------------------+ | 256 | 256 | 0.27211% | +------------+---------+-------------------------------------+ | 512 | 256 | 1.18122% | +------------+---------+-------------------------------------+ | 1024 | 256 | 1.00822% | +------------+---------+-------------------------------------+ | 1518 | 256 | -0.02346% | +------------+---------+-------------------------------------+ To view detailed results, visit: https://lab.dpdk.org/results/dashboard/patchsets/17086/ UNH-IOL DPDK Community Lab To manage your email subscriptions, visit: https://lab.dpdk.org/results/dashboard/preferences/subscriptions/
[-- Attachment #1: Type: text/plain, Size: 1929 bytes --] Test-Label: iol-intel-Performance Test-Status: SUCCESS http://dpdk.org/patch/93239 _Performance Testing PASS_ Submitter: wangyunjian <wangyunjian@huawei.com> Date: Thursday, May 13 2021 03:39:54 DPDK git baseline: Repo:dpdk Branch: master CommitID:7989b7e7da9be588563c809264c9347a35319969 93238-93239 --> performance testing pass Test environment and result as below: Ubuntu 18.04 Kernel: 4.15.0-generic Compiler: gcc 7.4 NIC: Intel Corporation Ethernet Converged Network Adapter 82599ES 10000 Mbps Target: x86_64-native-linuxapp-gcc Fail/Total: 0/2 Detail performance results: +------------+---------+-------------------------------------+ | frame_size | txd/rxd | throughput difference from expected | +============+=========+=====================================+ | 64 | 512 | -0.56535% | +------------+---------+-------------------------------------+ | 64 | 2048 | 0.46258% | +------------+---------+-------------------------------------+ Ubuntu 18.04 ARM Kernel: 4.15.0-132-generic Compiler: gcc 7.5 NIC: Arm Intel Corporation Ethernet Converged Network Adapter XL710-QDA2 40000 Mbps Target: x86_64-native-linuxapp-gcc Fail/Total: 0/2 Detail performance results: +------------+---------+-------------------------------------+ | frame_size | txd/rxd | throughput difference from expected | +============+=========+=====================================+ | 64 | 512 | -0.15658% | +------------+---------+-------------------------------------+ | 64 | 2048 | 0.12841% | +------------+---------+-------------------------------------+ To view detailed results, visit: https://lab.dpdk.org/results/dashboard/patchsets/17086/ UNH-IOL DPDK Community Lab To manage your email subscriptions, visit: https://lab.dpdk.org/results/dashboard/preferences/subscriptions/
[-- Attachment #1: Type: text/plain, Size: 4844 bytes --] Test-Label: iol-mellanox-Performance Test-Status: SUCCESS http://dpdk.org/patch/93239 _Performance Testing PASS_ Submitter: wangyunjian <wangyunjian@huawei.com> Date: Thursday, May 13 2021 03:39:54 DPDK git baseline: Repo:dpdk Branch: master CommitID:7989b7e7da9be588563c809264c9347a35319969 93238-93239 --> performance testing pass Test environment and result as below: Ubuntu 18.04 Kernel: 4.15.0-generic Compiler: gcc 7.4 NIC: Mellanox ConnectX-4 Lx 25000 Mbps Target: x86_64-native-linuxapp-gcc Fail/Total: 0/6 Detail performance results: +------------+---------+-------------------------------------+ | frame_size | txd/rxd | throughput difference from expected | +============+=========+=====================================+ | 64 | 256 | 0.37319% | +------------+---------+-------------------------------------+ | 128 | 256 | 0.18659% | +------------+---------+-------------------------------------+ | 256 | 256 | -0.15357% | +------------+---------+-------------------------------------+ | 512 | 256 | -0.17976% | +------------+---------+-------------------------------------+ | 1024 | 256 | 0.11712% | +------------+---------+-------------------------------------+ | 1518 | 256 | -0.19685% | +------------+---------+-------------------------------------+ Ubuntu 18.04 Kernel: 4.15.0-generic Compiler: gcc 7.4 NIC: Mellanox ConnectX-4 Lx 40000 Mbps Target: x86_64-native-linuxapp-gcc Fail/Total: 0/6 Detail performance results: +------------+---------+-------------------------------------+ | frame_size | txd/rxd | throughput difference from expected | +============+=========+=====================================+ | 64 | 256 | 0.4881% | +------------+---------+-------------------------------------+ | 128 | 256 | 1.49113% | +------------+---------+-------------------------------------+ | 256 | 256 | 0.07683% | +------------+---------+-------------------------------------+ | 512 | 256 | 0.08521% | +------------+---------+-------------------------------------+ | 1024 | 256 | -0.02088% | +------------+---------+-------------------------------------+ | 1518 | 256 | -0.21529% | +------------+---------+-------------------------------------+ Ubuntu 18.04 Kernel: 4.15.0-generic Compiler: gcc 7.4 NIC: Mellanox ConnectX-5 100000 Mbps Target: x86_64-native-linuxapp-gcc Fail/Total: 0/6 Detail performance results: +------------+---------+-------------------------------------+ | frame_size | txd/rxd | throughput difference from expected | +============+=========+=====================================+ | 64 | 256 | 0.097% | +------------+---------+-------------------------------------+ | 128 | 256 | -0.21904% | +------------+---------+-------------------------------------+ | 256 | 256 | 0.27211% | +------------+---------+-------------------------------------+ | 512 | 256 | 1.18122% | +------------+---------+-------------------------------------+ | 1024 | 256 | 1.00822% | +------------+---------+-------------------------------------+ | 1518 | 256 | -0.02346% | +------------+---------+-------------------------------------+ Ubuntu 18.04 ARM Kernel: 4.15.0-132-generic Compiler: gcc 7.5 NIC: Arm Mellanox ConnectX-5 10000 Mbps Target: x86_64-native-linuxapp-gcc Fail/Total: 0/4 Detail performance results: +------------+---------+-------------------------------------+ | frame_size | txd/rxd | throughput difference from expected | +============+=========+=====================================+ | 64 | 128 | -0.07507% | +------------+---------+-------------------------------------+ | 64 | 256 | 0.65535% | +------------+---------+-------------------------------------+ | 64 | 512 | 1.74399% | +------------+---------+-------------------------------------+ | 64 | 2048 | -2.08423% | +------------+---------+-------------------------------------+ To view detailed results, visit: https://lab.dpdk.org/results/dashboard/patchsets/17086/ UNH-IOL DPDK Community Lab To manage your email subscriptions, visit: https://lab.dpdk.org/results/dashboard/preferences/subscriptions/
[-- Attachment #1: Type: text/plain, Size: 986 bytes --] Test-Label: iol-intel-Functional Test-Status: SUCCESS http://dpdk.org/patch/93239 _Functional Testing PASS_ Submitter: wangyunjian <wangyunjian@huawei.com> Date: Thursday, May 13 2021 03:39:54 DPDK git baseline: Repo:dpdk Branch: master CommitID:7989b7e7da9be588563c809264c9347a35319969 93238-93239 --> functional testing pass Test environment and result as below: Ubuntu 18.04 Kernel: 4.15.0-generic Compiler: gcc 7.4 NIC: Intel Corporation Ethernet Converged Network Adapter 82599ES 10000 Mbps Target: x86_64-native-linuxapp-gcc Fail/Total: 0/5 Ubuntu 18.04 ARM Kernel: 4.15.0-132-generic Compiler: gcc 7.5 NIC: Arm Intel Corporation Ethernet Converged Network Adapter XL710-QDA2 40000 Mbps Target: x86_64-native-linuxapp-gcc Fail/Total: 0/5 To view detailed results, visit: https://lab.dpdk.org/results/dashboard/patchsets/17086/ UNH-IOL DPDK Community Lab To manage your email subscriptions, visit: https://lab.dpdk.org/results/dashboard/preferences/subscriptions/