[-- Attachment #1: Type: text/plain, Size: 793 bytes --] Test-Label: iol-intel-Functional Test-Status: SUCCESS http://dpdk.org/patch/93250 _Functional Testing PASS_ Submitter: David Marchand <david.marchand@redhat.com> Date: Thursday, May 13 2021 08:34:15 DPDK git baseline: Repo:dpdk Branch: master CommitID:7989b7e7da9be588563c809264c9347a35319969 93248-93250 --> functional testing pass Test environment and result as below: Ubuntu 18.04 Kernel: 4.15.0-generic Compiler: gcc 7.4 NIC: Intel Corporation Ethernet Converged Network Adapter 82599ES 10000 Mbps Target: x86_64-native-linuxapp-gcc Fail/Total: 0/5 To view detailed results, visit: https://lab.dpdk.org/results/dashboard/patchsets/17091/ UNH-IOL DPDK Community Lab To manage your email subscriptions, visit: https://lab.dpdk.org/results/dashboard/preferences/subscriptions/
[-- Attachment #1: Type: text/plain, Size: 1266 bytes --] Test-Label: iol-intel-Performance Test-Status: SUCCESS http://dpdk.org/patch/93250 _Performance Testing PASS_ Submitter: David Marchand <david.marchand@redhat.com> Date: Thursday, May 13 2021 08:34:15 DPDK git baseline: Repo:dpdk Branch: master CommitID:7989b7e7da9be588563c809264c9347a35319969 93248-93250 --> performance testing pass Test environment and result as below: Ubuntu 18.04 Kernel: 4.15.0-generic Compiler: gcc 7.4 NIC: Intel Corporation Ethernet Converged Network Adapter 82599ES 10000 Mbps Target: x86_64-native-linuxapp-gcc Fail/Total: 0/2 Detail performance results: +------------+---------+-------------------------------------+ | frame_size | txd/rxd | throughput difference from expected | +============+=========+=====================================+ | 64 | 512 | -0.06112% | +------------+---------+-------------------------------------+ | 64 | 2048 | 0.81234% | +------------+---------+-------------------------------------+ To view detailed results, visit: https://lab.dpdk.org/results/dashboard/patchsets/17091/ UNH-IOL DPDK Community Lab To manage your email subscriptions, visit: https://lab.dpdk.org/results/dashboard/preferences/subscriptions/
[-- Attachment #1: Type: text/plain, Size: 793 bytes --] Test-Label: iol-intel-Functional Test-Status: SUCCESS http://dpdk.org/patch/93250 _Functional Testing PASS_ Submitter: David Marchand <david.marchand@redhat.com> Date: Thursday, May 13 2021 08:34:15 DPDK git baseline: Repo:dpdk Branch: master CommitID:7989b7e7da9be588563c809264c9347a35319969 93248-93250 --> functional testing pass Test environment and result as below: Ubuntu 18.04 Kernel: 4.15.0-generic Compiler: gcc 7.4 NIC: Intel Corporation Ethernet Converged Network Adapter 82599ES 10000 Mbps Target: x86_64-native-linuxapp-gcc Fail/Total: 0/5 To view detailed results, visit: https://lab.dpdk.org/results/dashboard/patchsets/17091/ UNH-IOL DPDK Community Lab To manage your email subscriptions, visit: https://lab.dpdk.org/results/dashboard/preferences/subscriptions/
[-- Attachment #1: Type: text/plain, Size: 4649 bytes --] Test-Label: iol-testing Test-Status: SUCCESS http://dpdk.org/patch/93250 _Testing PASS_ Submitter: David Marchand <david.marchand@redhat.com> Date: Thursday, May 13 2021 08:34:15 DPDK git baseline: Repo:dpdk Branch: master CommitID:7989b7e7da9be588563c809264c9347a35319969 93248-93250 --> testing pass Test environment and result as below: +---------------------+----------------------+--------------------+-------------------+----------------+ | Environment | dpdk_mingw64_compile | dpdk_meson_compile | dpdk_compile_spdk | dpdk_unit_test | +=====================+======================+====================+===================+================+ | Windows Server 2019 | PASS | PASS | SKIPPED | SKIPPED | +---------------------+----------------------+--------------------+-------------------+----------------+ | CentOS 8 | SKIPPED | PASS | SKIPPED | SKIPPED | +---------------------+----------------------+--------------------+-------------------+----------------+ | Fedora 31 | SKIPPED | PASS | SKIPPED | SKIPPED | +---------------------+----------------------+--------------------+-------------------+----------------+ | Ubuntu 18.04 | SKIPPED | PASS | PASS | PASS | +---------------------+----------------------+--------------------+-------------------+----------------+ | Fedora 32 | SKIPPED | PASS | SKIPPED | SKIPPED | +---------------------+----------------------+--------------------+-------------------+----------------+ | Ubuntu 18.04 ARM | SKIPPED | PASS | SKIPPED | SKIPPED | +---------------------+----------------------+--------------------+-------------------+----------------+ | CentOS Stream 8 | SKIPPED | PASS | SKIPPED | SKIPPED | +---------------------+----------------------+--------------------+-------------------+----------------+ | Ubuntu 20.04 | SKIPPED | PASS | SKIPPED | SKIPPED | +---------------------+----------------------+--------------------+-------------------+----------------+ | RHEL 7 | SKIPPED | PASS | SKIPPED | SKIPPED | +---------------------+----------------------+--------------------+-------------------+----------------+ | openSUSE Leap 15 | SKIPPED | PASS | SKIPPED | SKIPPED | +---------------------+----------------------+--------------------+-------------------+----------------+ | Arch Linux | SKIPPED | PASS | SKIPPED | SKIPPED | +---------------------+----------------------+--------------------+-------------------+----------------+ | RHEL8 | SKIPPED | PASS | SKIPPED | SKIPPED | +---------------------+----------------------+--------------------+-------------------+----------------+ | FreeBSD 11.2 | SKIPPED | PASS | SKIPPED | SKIPPED | +---------------------+----------------------+--------------------+-------------------+----------------+ Windows Server 2019 Kernel: 10.0 Compiler: clang 9.0 and gcc 8.1.0 (MinGW) CentOS 8 Kernel: 4.18.0-240.10.1.el8_3.x86_64 Compiler: gcc 8.3.1 20191121 (Red Hat 8.3.1-5) Fedora 31 Kernel: 4.18.0-240.10.1.el8_3.x86_64 Compiler: gcc 9.3.1 Ubuntu 18.04 Kernel: 4.18.0-240.10.1.el8_3.x86_64 Compiler: gcc 7.5.0-3ubuntu1~18.04 Fedora 32 Kernel: 4.18.0-240.10.1.el8_3.x86_64 Compiler: gcc 10.2.1 Ubuntu 18.04 ARM Kernel: 5.4.0-53-generic Compiler: gcc 9.3 CentOS Stream 8 Kernel: 4.18.0-240.10.1.el8_3.x86_64 Compiler: gcc 8.4.1 20200928 Ubuntu 20.04 Kernel: 4.18.0-240.10.1.el8_3.x86_64 Compiler: gcc 9.3.0-17ubuntu1~20.04 RHEL 7 Kernel: 4.18.0-240.10.1.el8_3.x86_64 Compiler: gcc 4.8.5 20150623 (Red Hat 4.8.5-44) openSUSE Leap 15 Kernel: 4.18.0-240.10.1.el8_3.x86_64 Compiler: gcc 7.5.0 Arch Linux Kernel: 4.18.0-240.10.1.el8_3.x86_64 Compiler: gcc 10.2.0 RHEL8 Kernel: 4.18.0-240.10.1.el8_3.x86_64 Compiler: gcc 8.3.1 20191121 (Red Hat 8.3.1-5) FreeBSD 11.2 Kernel: 11.2 Compiler: gcc 8.3 To view detailed results, visit: https://lab.dpdk.org/results/dashboard/patchsets/17091/ UNH-IOL DPDK Community Lab To manage your email subscriptions, visit: https://lab.dpdk.org/results/dashboard/preferences/subscriptions/
[-- Attachment #1: Type: text/plain, Size: 1266 bytes --] Test-Label: iol-intel-Performance Test-Status: SUCCESS http://dpdk.org/patch/93250 _Performance Testing PASS_ Submitter: David Marchand <david.marchand@redhat.com> Date: Thursday, May 13 2021 08:34:15 DPDK git baseline: Repo:dpdk Branch: master CommitID:7989b7e7da9be588563c809264c9347a35319969 93248-93250 --> performance testing pass Test environment and result as below: Ubuntu 18.04 Kernel: 4.15.0-generic Compiler: gcc 7.4 NIC: Intel Corporation Ethernet Converged Network Adapter 82599ES 10000 Mbps Target: x86_64-native-linuxapp-gcc Fail/Total: 0/2 Detail performance results: +------------+---------+-------------------------------------+ | frame_size | txd/rxd | throughput difference from expected | +============+=========+=====================================+ | 64 | 512 | -0.25976% | +------------+---------+-------------------------------------+ | 64 | 2048 | 0.65439% | +------------+---------+-------------------------------------+ To view detailed results, visit: https://lab.dpdk.org/results/dashboard/patchsets/17091/ UNH-IOL DPDK Community Lab To manage your email subscriptions, visit: https://lab.dpdk.org/results/dashboard/preferences/subscriptions/
[-- Attachment #1: Type: text/plain, Size: 2283 bytes --] Test-Label: iol-abi-testing Test-Status: SUCCESS http://dpdk.org/patch/93250 _Testing PASS_ Submitter: David Marchand <david.marchand@redhat.com> Date: Thursday, May 13 2021 08:34:15 DPDK git baseline: Repo:dpdk Branch: master CommitID:7989b7e7da9be588563c809264c9347a35319969 93248-93250 --> testing pass Test environment and result as below: +------------------+----------+ | Environment | abi_test | +==================+==========+ | Ubuntu 18.04 ARM | PASS | +------------------+----------+ | Fedora 32 | PASS | +------------------+----------+ | Ubuntu 18.04 | PASS | +------------------+----------+ | RHEL8 | PASS | +------------------+----------+ | Ubuntu 20.04 | PASS | +------------------+----------+ | openSUSE Leap 15 | PASS | +------------------+----------+ | CentOS 8 | PASS | +------------------+----------+ | RHEL 7 | PASS | +------------------+----------+ | Fedora 31 | PASS | +------------------+----------+ | CentOS Stream 8 | PASS | +------------------+----------+ | Arch Linux | PASS | +------------------+----------+ Ubuntu 18.04 ARM Kernel: 5.4.0-53-generic Compiler: gcc 9.3 Fedora 32 Kernel: 4.18.0-240.10.1.el8_3.x86_64 Compiler: gcc 10.2.1 Ubuntu 18.04 Kernel: 4.18.0-240.10.1.el8_3.x86_64 Compiler: gcc 7.5.0-3ubuntu1~18.04 RHEL8 Kernel: 4.18.0-240.10.1.el8_3.x86_64 Compiler: gcc 8.3.1 20191121 (Red Hat 8.3.1-5) Ubuntu 20.04 Kernel: 4.18.0-240.10.1.el8_3.x86_64 Compiler: gcc 9.3.0-17ubuntu1~20.04 openSUSE Leap 15 Kernel: 4.18.0-240.10.1.el8_3.x86_64 Compiler: gcc 7.5.0 CentOS 8 Kernel: 4.18.0-240.10.1.el8_3.x86_64 Compiler: gcc 8.3.1 20191121 (Red Hat 8.3.1-5) RHEL 7 Kernel: 4.18.0-240.10.1.el8_3.x86_64 Compiler: gcc 4.8.5 20150623 (Red Hat 4.8.5-44) Fedora 31 Kernel: 4.18.0-240.10.1.el8_3.x86_64 Compiler: gcc 9.3.1 CentOS Stream 8 Kernel: 4.18.0-240.10.1.el8_3.x86_64 Compiler: gcc 8.4.1 20200928 Arch Linux Kernel: 4.18.0-240.10.1.el8_3.x86_64 Compiler: gcc 10.2.0 To view detailed results, visit: https://lab.dpdk.org/results/dashboard/patchsets/17091/ UNH-IOL DPDK Community Lab To manage your email subscriptions, visit: https://lab.dpdk.org/results/dashboard/preferences/subscriptions/
[-- Attachment #1: Type: text/plain, Size: 758 bytes --] Test-Label: iol-mellanox-Functional Test-Status: SUCCESS http://dpdk.org/patch/93250 _Functional Testing PASS_ Submitter: David Marchand <david.marchand@redhat.com> Date: Thursday, May 13 2021 08:34:15 DPDK git baseline: Repo:dpdk Branch: master CommitID:7989b7e7da9be588563c809264c9347a35319969 93248-93250 --> functional testing pass Test environment and result as below: Ubuntu 18.04 Kernel: 4.15.0-generic Compiler: gcc 7.4 NIC: Mellanox ConnectX-4 Lx 40000 Mbps Target: x86_64-native-linuxapp-gcc Fail/Total: 0/5 To view detailed results, visit: https://lab.dpdk.org/results/dashboard/patchsets/17091/ UNH-IOL DPDK Community Lab To manage your email subscriptions, visit: https://lab.dpdk.org/results/dashboard/preferences/subscriptions/
[-- Attachment #1: Type: text/plain, Size: 1733 bytes --] Test-Label: iol-mellanox-Performance Test-Status: SUCCESS http://dpdk.org/patch/93250 _Performance Testing PASS_ Submitter: David Marchand <david.marchand@redhat.com> Date: Thursday, May 13 2021 08:34:15 DPDK git baseline: Repo:dpdk Branch: master CommitID:7989b7e7da9be588563c809264c9347a35319969 93248-93250 --> performance testing pass Test environment and result as below: Ubuntu 18.04 Kernel: 4.15.0-generic Compiler: gcc 7.4 NIC: Mellanox ConnectX-5 100000 Mbps Target: x86_64-native-linuxapp-gcc Fail/Total: 0/6 Detail performance results: +------------+---------+-------------------------------------+ | frame_size | txd/rxd | throughput difference from expected | +============+=========+=====================================+ | 64 | 256 | -0.25221% | +------------+---------+-------------------------------------+ | 128 | 256 | -0.05338% | +------------+---------+-------------------------------------+ | 256 | 256 | 0.39943% | +------------+---------+-------------------------------------+ | 512 | 256 | 0.96807% | +------------+---------+-------------------------------------+ | 1024 | 256 | -0.90655% | +------------+---------+-------------------------------------+ | 1518 | 256 | -0.14076% | +------------+---------+-------------------------------------+ To view detailed results, visit: https://lab.dpdk.org/results/dashboard/patchsets/17091/ UNH-IOL DPDK Community Lab To manage your email subscriptions, visit: https://lab.dpdk.org/results/dashboard/preferences/subscriptions/
[-- Attachment #1: Type: text/plain, Size: 2853 bytes --] Test-Label: iol-mellanox-Performance Test-Status: SUCCESS http://dpdk.org/patch/93250 _Performance Testing PASS_ Submitter: David Marchand <david.marchand@redhat.com> Date: Thursday, May 13 2021 08:34:15 DPDK git baseline: Repo:dpdk Branch: master CommitID:7989b7e7da9be588563c809264c9347a35319969 93248-93250 --> performance testing pass Test environment and result as below: Ubuntu 18.04 Kernel: 4.15.0-generic Compiler: gcc 7.4 NIC: Mellanox ConnectX-5 100000 Mbps Target: x86_64-native-linuxapp-gcc Fail/Total: 0/6 Detail performance results: +------------+---------+-------------------------------------+ | frame_size | txd/rxd | throughput difference from expected | +============+=========+=====================================+ | 64 | 256 | -0.25221% | +------------+---------+-------------------------------------+ | 128 | 256 | -0.05338% | +------------+---------+-------------------------------------+ | 256 | 256 | 0.39943% | +------------+---------+-------------------------------------+ | 512 | 256 | 0.96807% | +------------+---------+-------------------------------------+ | 1024 | 256 | -0.90655% | +------------+---------+-------------------------------------+ | 1518 | 256 | -0.14076% | +------------+---------+-------------------------------------+ Ubuntu 18.04 Kernel: 4.15.0-generic Compiler: gcc 7.4 NIC: Mellanox ConnectX-4 Lx 25000 Mbps Target: x86_64-native-linuxapp-gcc Fail/Total: 0/6 Detail performance results: +------------+---------+-------------------------------------+ | frame_size | txd/rxd | throughput difference from expected | +============+=========+=====================================+ | 64 | 256 | -0.18377% | +------------+---------+-------------------------------------+ | 128 | 256 | 0.14512% | +------------+---------+-------------------------------------+ | 256 | 256 | -0.70346% | +------------+---------+-------------------------------------+ | 512 | 256 | 0.07704% | +------------+---------+-------------------------------------+ | 1024 | 256 | 0.0% | +------------+---------+-------------------------------------+ | 1518 | 256 | -0.19685% | +------------+---------+-------------------------------------+ To view detailed results, visit: https://lab.dpdk.org/results/dashboard/patchsets/17091/ UNH-IOL DPDK Community Lab To manage your email subscriptions, visit: https://lab.dpdk.org/results/dashboard/preferences/subscriptions/
[-- Attachment #1: Type: text/plain, Size: 3973 bytes --] Test-Label: iol-mellanox-Performance Test-Status: SUCCESS http://dpdk.org/patch/93250 _Performance Testing PASS_ Submitter: David Marchand <david.marchand@redhat.com> Date: Thursday, May 13 2021 08:34:15 DPDK git baseline: Repo:dpdk Branch: master CommitID:7989b7e7da9be588563c809264c9347a35319969 93248-93250 --> performance testing pass Test environment and result as below: Ubuntu 18.04 Kernel: 4.15.0-generic Compiler: gcc 7.4 NIC: Mellanox ConnectX-5 100000 Mbps Target: x86_64-native-linuxapp-gcc Fail/Total: 0/6 Detail performance results: +------------+---------+-------------------------------------+ | frame_size | txd/rxd | throughput difference from expected | +============+=========+=====================================+ | 64 | 256 | -0.25221% | +------------+---------+-------------------------------------+ | 128 | 256 | -0.05338% | +------------+---------+-------------------------------------+ | 256 | 256 | 0.39943% | +------------+---------+-------------------------------------+ | 512 | 256 | 0.96807% | +------------+---------+-------------------------------------+ | 1024 | 256 | -0.90655% | +------------+---------+-------------------------------------+ | 1518 | 256 | -0.14076% | +------------+---------+-------------------------------------+ Ubuntu 18.04 Kernel: 4.15.0-generic Compiler: gcc 7.4 NIC: Mellanox ConnectX-4 Lx 25000 Mbps Target: x86_64-native-linuxapp-gcc Fail/Total: 0/6 Detail performance results: +------------+---------+-------------------------------------+ | frame_size | txd/rxd | throughput difference from expected | +============+=========+=====================================+ | 64 | 256 | -0.18377% | +------------+---------+-------------------------------------+ | 128 | 256 | 0.14512% | +------------+---------+-------------------------------------+ | 256 | 256 | -0.70346% | +------------+---------+-------------------------------------+ | 512 | 256 | 0.07704% | +------------+---------+-------------------------------------+ | 1024 | 256 | 0.0% | +------------+---------+-------------------------------------+ | 1518 | 256 | -0.19685% | +------------+---------+-------------------------------------+ Ubuntu 18.04 Kernel: 4.15.0-generic Compiler: gcc 7.4 NIC: Mellanox ConnectX-4 Lx 40000 Mbps Target: x86_64-native-linuxapp-gcc Fail/Total: 0/6 Detail performance results: +------------+---------+-------------------------------------+ | frame_size | txd/rxd | throughput difference from expected | +============+=========+=====================================+ | 64 | 256 | 0.74784% | +------------+---------+-------------------------------------+ | 128 | 256 | 1.3194% | +------------+---------+-------------------------------------+ | 256 | 256 | -0.01829% | +------------+---------+-------------------------------------+ | 512 | 256 | 0.03195% | +------------+---------+-------------------------------------+ | 1024 | 256 | 0.0% | +------------+---------+-------------------------------------+ | 1518 | 256 | 0.18453% | +------------+---------+-------------------------------------+ To view detailed results, visit: https://lab.dpdk.org/results/dashboard/patchsets/17091/ UNH-IOL DPDK Community Lab To manage your email subscriptions, visit: https://lab.dpdk.org/results/dashboard/preferences/subscriptions/
[-- Attachment #1: Type: text/plain, Size: 904 bytes --] Test-Label: iol-mellanox-Functional Test-Status: SUCCESS http://dpdk.org/patch/93250 _Functional Testing PASS_ Submitter: David Marchand <david.marchand@redhat.com> Date: Thursday, May 13 2021 08:34:15 DPDK git baseline: Repo:dpdk Branch: master CommitID:7989b7e7da9be588563c809264c9347a35319969 93248-93250 --> functional testing pass Test environment and result as below: Ubuntu 18.04 Kernel: 4.15.0-generic Compiler: gcc 7.4 NIC: Mellanox ConnectX-4 Lx 40000 Mbps Target: x86_64-native-linuxapp-gcc Fail/Total: 0/5 Ubuntu 18.04 Kernel: 4.15.0-generic Compiler: gcc 7.4 NIC: Mellanox ConnectX-4 Lx 25000 Mbps Target: x86_64-native-linuxapp-gcc Fail/Total: 0/5 To view detailed results, visit: https://lab.dpdk.org/results/dashboard/patchsets/17091/ UNH-IOL DPDK Community Lab To manage your email subscriptions, visit: https://lab.dpdk.org/results/dashboard/preferences/subscriptions/
[-- Attachment #1: Type: text/plain, Size: 904 bytes --] Test-Label: iol-mellanox-Functional Test-Status: SUCCESS http://dpdk.org/patch/93250 _Functional Testing PASS_ Submitter: David Marchand <david.marchand@redhat.com> Date: Thursday, May 13 2021 08:34:15 DPDK git baseline: Repo:dpdk Branch: master CommitID:7989b7e7da9be588563c809264c9347a35319969 93248-93250 --> functional testing pass Test environment and result as below: Ubuntu 18.04 Kernel: 4.15.0-generic Compiler: gcc 7.4 NIC: Mellanox ConnectX-4 Lx 40000 Mbps Target: x86_64-native-linuxapp-gcc Fail/Total: 0/5 Ubuntu 18.04 Kernel: 4.15.0-generic Compiler: gcc 7.4 NIC: Mellanox ConnectX-4 Lx 25000 Mbps Target: x86_64-native-linuxapp-gcc Fail/Total: 0/5 To view detailed results, visit: https://lab.dpdk.org/results/dashboard/patchsets/17091/ UNH-IOL DPDK Community Lab To manage your email subscriptions, visit: https://lab.dpdk.org/results/dashboard/preferences/subscriptions/
[-- Attachment #1: Type: text/plain, Size: 3973 bytes --] Test-Label: iol-mellanox-Performance Test-Status: SUCCESS http://dpdk.org/patch/93250 _Performance Testing PASS_ Submitter: David Marchand <david.marchand@redhat.com> Date: Thursday, May 13 2021 08:34:15 DPDK git baseline: Repo:dpdk Branch: master CommitID:7989b7e7da9be588563c809264c9347a35319969 93248-93250 --> performance testing pass Test environment and result as below: Ubuntu 18.04 Kernel: 4.15.0-generic Compiler: gcc 7.4 NIC: Mellanox ConnectX-5 100000 Mbps Target: x86_64-native-linuxapp-gcc Fail/Total: 0/6 Detail performance results: +------------+---------+-------------------------------------+ | frame_size | txd/rxd | throughput difference from expected | +============+=========+=====================================+ | 64 | 256 | -0.37185% | +------------+---------+-------------------------------------+ | 128 | 256 | -0.09756% | +------------+---------+-------------------------------------+ | 256 | 256 | 0.11733% | +------------+---------+-------------------------------------+ | 512 | 256 | 0.88814% | +------------+---------+-------------------------------------+ | 1024 | 256 | 0.45751% | +------------+---------+-------------------------------------+ | 1518 | 256 | 0.10557% | +------------+---------+-------------------------------------+ Ubuntu 18.04 Kernel: 4.15.0-generic Compiler: gcc 7.4 NIC: Mellanox ConnectX-4 Lx 25000 Mbps Target: x86_64-native-linuxapp-gcc Fail/Total: 0/6 Detail performance results: +------------+---------+-------------------------------------+ | frame_size | txd/rxd | throughput difference from expected | +============+=========+=====================================+ | 64 | 256 | -0.18377% | +------------+---------+-------------------------------------+ | 128 | 256 | 0.14512% | +------------+---------+-------------------------------------+ | 256 | 256 | -0.70346% | +------------+---------+-------------------------------------+ | 512 | 256 | 0.07704% | +------------+---------+-------------------------------------+ | 1024 | 256 | 0.0% | +------------+---------+-------------------------------------+ | 1518 | 256 | -0.19685% | +------------+---------+-------------------------------------+ Ubuntu 18.04 Kernel: 4.15.0-generic Compiler: gcc 7.4 NIC: Mellanox ConnectX-4 Lx 40000 Mbps Target: x86_64-native-linuxapp-gcc Fail/Total: 0/6 Detail performance results: +------------+---------+-------------------------------------+ | frame_size | txd/rxd | throughput difference from expected | +============+=========+=====================================+ | 64 | 256 | 0.74784% | +------------+---------+-------------------------------------+ | 128 | 256 | 1.3194% | +------------+---------+-------------------------------------+ | 256 | 256 | -0.01829% | +------------+---------+-------------------------------------+ | 512 | 256 | 0.03195% | +------------+---------+-------------------------------------+ | 1024 | 256 | 0.0% | +------------+---------+-------------------------------------+ | 1518 | 256 | 0.18453% | +------------+---------+-------------------------------------+ To view detailed results, visit: https://lab.dpdk.org/results/dashboard/patchsets/17091/ UNH-IOL DPDK Community Lab To manage your email subscriptions, visit: https://lab.dpdk.org/results/dashboard/preferences/subscriptions/
[-- Attachment #1: Type: text/plain, Size: 904 bytes --] Test-Label: iol-mellanox-Functional Test-Status: SUCCESS http://dpdk.org/patch/93250 _Functional Testing PASS_ Submitter: David Marchand <david.marchand@redhat.com> Date: Thursday, May 13 2021 08:34:15 DPDK git baseline: Repo:dpdk Branch: master CommitID:7989b7e7da9be588563c809264c9347a35319969 93248-93250 --> functional testing pass Test environment and result as below: Ubuntu 18.04 Kernel: 4.15.0-generic Compiler: gcc 7.4 NIC: Mellanox ConnectX-4 Lx 40000 Mbps Target: x86_64-native-linuxapp-gcc Fail/Total: 0/5 Ubuntu 18.04 Kernel: 4.15.0-generic Compiler: gcc 7.4 NIC: Mellanox ConnectX-4 Lx 25000 Mbps Target: x86_64-native-linuxapp-gcc Fail/Total: 0/5 To view detailed results, visit: https://lab.dpdk.org/results/dashboard/patchsets/17091/ UNH-IOL DPDK Community Lab To manage your email subscriptions, visit: https://lab.dpdk.org/results/dashboard/preferences/subscriptions/
[-- Attachment #1: Type: text/plain, Size: 3973 bytes --] Test-Label: iol-mellanox-Performance Test-Status: SUCCESS http://dpdk.org/patch/93250 _Performance Testing PASS_ Submitter: David Marchand <david.marchand@redhat.com> Date: Thursday, May 13 2021 08:34:15 DPDK git baseline: Repo:dpdk Branch: master CommitID:7989b7e7da9be588563c809264c9347a35319969 93248-93250 --> performance testing pass Test environment and result as below: Ubuntu 18.04 Kernel: 4.15.0-generic Compiler: gcc 7.4 NIC: Mellanox ConnectX-5 100000 Mbps Target: x86_64-native-linuxapp-gcc Fail/Total: 0/6 Detail performance results: +------------+---------+-------------------------------------+ | frame_size | txd/rxd | throughput difference from expected | +============+=========+=====================================+ | 64 | 256 | -0.37185% | +------------+---------+-------------------------------------+ | 128 | 256 | -0.09756% | +------------+---------+-------------------------------------+ | 256 | 256 | 0.11733% | +------------+---------+-------------------------------------+ | 512 | 256 | 0.88814% | +------------+---------+-------------------------------------+ | 1024 | 256 | 0.45751% | +------------+---------+-------------------------------------+ | 1518 | 256 | 0.10557% | +------------+---------+-------------------------------------+ Ubuntu 18.04 Kernel: 4.15.0-generic Compiler: gcc 7.4 NIC: Mellanox ConnectX-4 Lx 25000 Mbps Target: x86_64-native-linuxapp-gcc Fail/Total: 0/6 Detail performance results: +------------+---------+-------------------------------------+ | frame_size | txd/rxd | throughput difference from expected | +============+=========+=====================================+ | 64 | 256 | -0.18377% | +------------+---------+-------------------------------------+ | 128 | 256 | 0.14512% | +------------+---------+-------------------------------------+ | 256 | 256 | -0.70346% | +------------+---------+-------------------------------------+ | 512 | 256 | 0.07704% | +------------+---------+-------------------------------------+ | 1024 | 256 | 0.0% | +------------+---------+-------------------------------------+ | 1518 | 256 | -0.19685% | +------------+---------+-------------------------------------+ Ubuntu 18.04 Kernel: 4.15.0-generic Compiler: gcc 7.4 NIC: Mellanox ConnectX-4 Lx 40000 Mbps Target: x86_64-native-linuxapp-gcc Fail/Total: 0/6 Detail performance results: +------------+---------+-------------------------------------+ | frame_size | txd/rxd | throughput difference from expected | +============+=========+=====================================+ | 64 | 256 | 0.25689% | +------------+---------+-------------------------------------+ | 128 | 256 | 0.20607% | +------------+---------+-------------------------------------+ | 256 | 256 | 0.26707% | +------------+---------+-------------------------------------+ | 512 | 256 | -0.01598% | +------------+---------+-------------------------------------+ | 1024 | 256 | -0.03132% | +------------+---------+-------------------------------------+ | 1518 | 256 | -0.24604% | +------------+---------+-------------------------------------+ To view detailed results, visit: https://lab.dpdk.org/results/dashboard/patchsets/17091/ UNH-IOL DPDK Community Lab To manage your email subscriptions, visit: https://lab.dpdk.org/results/dashboard/preferences/subscriptions/
[-- Attachment #1: Type: text/plain, Size: 3973 bytes --] Test-Label: iol-mellanox-Performance Test-Status: SUCCESS http://dpdk.org/patch/93250 _Performance Testing PASS_ Submitter: David Marchand <david.marchand@redhat.com> Date: Thursday, May 13 2021 08:34:15 DPDK git baseline: Repo:dpdk Branch: master CommitID:7989b7e7da9be588563c809264c9347a35319969 93248-93250 --> performance testing pass Test environment and result as below: Ubuntu 18.04 Kernel: 4.15.0-generic Compiler: gcc 7.4 NIC: Mellanox ConnectX-5 100000 Mbps Target: x86_64-native-linuxapp-gcc Fail/Total: 0/6 Detail performance results: +------------+---------+-------------------------------------+ | frame_size | txd/rxd | throughput difference from expected | +============+=========+=====================================+ | 64 | 256 | -0.37185% | +------------+---------+-------------------------------------+ | 128 | 256 | -0.09756% | +------------+---------+-------------------------------------+ | 256 | 256 | 0.11733% | +------------+---------+-------------------------------------+ | 512 | 256 | 0.88814% | +------------+---------+-------------------------------------+ | 1024 | 256 | 0.45751% | +------------+---------+-------------------------------------+ | 1518 | 256 | 0.10557% | +------------+---------+-------------------------------------+ Ubuntu 18.04 Kernel: 4.15.0-generic Compiler: gcc 7.4 NIC: Mellanox ConnectX-4 Lx 25000 Mbps Target: x86_64-native-linuxapp-gcc Fail/Total: 0/6 Detail performance results: +------------+---------+-------------------------------------+ | frame_size | txd/rxd | throughput difference from expected | +============+=========+=====================================+ | 64 | 256 | 0.35057% | +------------+---------+-------------------------------------+ | 128 | 256 | -0.05183% | +------------+---------+-------------------------------------+ | 256 | 256 | 0.07431% | +------------+---------+-------------------------------------+ | 512 | 256 | 0.0428% | +------------+---------+-------------------------------------+ | 1024 | 256 | 0.11712% | +------------+---------+-------------------------------------+ | 1518 | 256 | -0.02461% | +------------+---------+-------------------------------------+ Ubuntu 18.04 Kernel: 4.15.0-generic Compiler: gcc 7.4 NIC: Mellanox ConnectX-4 Lx 40000 Mbps Target: x86_64-native-linuxapp-gcc Fail/Total: 0/6 Detail performance results: +------------+---------+-------------------------------------+ | frame_size | txd/rxd | throughput difference from expected | +============+=========+=====================================+ | 64 | 256 | 0.25689% | +------------+---------+-------------------------------------+ | 128 | 256 | 0.20607% | +------------+---------+-------------------------------------+ | 256 | 256 | 0.26707% | +------------+---------+-------------------------------------+ | 512 | 256 | -0.01598% | +------------+---------+-------------------------------------+ | 1024 | 256 | -0.03132% | +------------+---------+-------------------------------------+ | 1518 | 256 | -0.24604% | +------------+---------+-------------------------------------+ To view detailed results, visit: https://lab.dpdk.org/results/dashboard/patchsets/17091/ UNH-IOL DPDK Community Lab To manage your email subscriptions, visit: https://lab.dpdk.org/results/dashboard/preferences/subscriptions/
[-- Attachment #1: Type: text/plain, Size: 992 bytes --] Test-Label: iol-intel-Functional Test-Status: SUCCESS http://dpdk.org/patch/93250 _Functional Testing PASS_ Submitter: David Marchand <david.marchand@redhat.com> Date: Thursday, May 13 2021 08:34:15 DPDK git baseline: Repo:dpdk Branch: master CommitID:7989b7e7da9be588563c809264c9347a35319969 93248-93250 --> functional testing pass Test environment and result as below: Ubuntu 18.04 Kernel: 4.15.0-generic Compiler: gcc 7.4 NIC: Intel Corporation Ethernet Converged Network Adapter 82599ES 10000 Mbps Target: x86_64-native-linuxapp-gcc Fail/Total: 0/5 Ubuntu 18.04 ARM Kernel: 4.15.0-132-generic Compiler: gcc 7.5 NIC: Arm Intel Corporation Ethernet Converged Network Adapter XL710-QDA2 40000 Mbps Target: x86_64-native-linuxapp-gcc Fail/Total: 0/5 To view detailed results, visit: https://lab.dpdk.org/results/dashboard/patchsets/17091/ UNH-IOL DPDK Community Lab To manage your email subscriptions, visit: https://lab.dpdk.org/results/dashboard/preferences/subscriptions/
[-- Attachment #1: Type: text/plain, Size: 1935 bytes --] Test-Label: iol-intel-Performance Test-Status: SUCCESS http://dpdk.org/patch/93250 _Performance Testing PASS_ Submitter: David Marchand <david.marchand@redhat.com> Date: Thursday, May 13 2021 08:34:15 DPDK git baseline: Repo:dpdk Branch: master CommitID:7989b7e7da9be588563c809264c9347a35319969 93248-93250 --> performance testing pass Test environment and result as below: Ubuntu 18.04 Kernel: 4.15.0-generic Compiler: gcc 7.4 NIC: Intel Corporation Ethernet Converged Network Adapter 82599ES 10000 Mbps Target: x86_64-native-linuxapp-gcc Fail/Total: 0/2 Detail performance results: +------------+---------+-------------------------------------+ | frame_size | txd/rxd | throughput difference from expected | +============+=========+=====================================+ | 64 | 512 | -0.25976% | +------------+---------+-------------------------------------+ | 64 | 2048 | 0.65439% | +------------+---------+-------------------------------------+ Ubuntu 18.04 ARM Kernel: 4.15.0-132-generic Compiler: gcc 7.5 NIC: Arm Intel Corporation Ethernet Converged Network Adapter XL710-QDA2 40000 Mbps Target: x86_64-native-linuxapp-gcc Fail/Total: 0/2 Detail performance results: +------------+---------+-------------------------------------+ | frame_size | txd/rxd | throughput difference from expected | +============+=========+=====================================+ | 64 | 512 | 0.27046% | +------------+---------+-------------------------------------+ | 64 | 2048 | -2.52532% | +------------+---------+-------------------------------------+ To view detailed results, visit: https://lab.dpdk.org/results/dashboard/patchsets/17091/ UNH-IOL DPDK Community Lab To manage your email subscriptions, visit: https://lab.dpdk.org/results/dashboard/preferences/subscriptions/
[-- Attachment #1: Type: text/plain, Size: 4850 bytes --] Test-Label: iol-mellanox-Performance Test-Status: SUCCESS http://dpdk.org/patch/93250 _Performance Testing PASS_ Submitter: David Marchand <david.marchand@redhat.com> Date: Thursday, May 13 2021 08:34:15 DPDK git baseline: Repo:dpdk Branch: master CommitID:7989b7e7da9be588563c809264c9347a35319969 93248-93250 --> performance testing pass Test environment and result as below: Ubuntu 18.04 Kernel: 4.15.0-generic Compiler: gcc 7.4 NIC: Mellanox ConnectX-5 100000 Mbps Target: x86_64-native-linuxapp-gcc Fail/Total: 0/6 Detail performance results: +------------+---------+-------------------------------------+ | frame_size | txd/rxd | throughput difference from expected | +============+=========+=====================================+ | 64 | 256 | -0.37185% | +------------+---------+-------------------------------------+ | 128 | 256 | -0.09756% | +------------+---------+-------------------------------------+ | 256 | 256 | 0.11733% | +------------+---------+-------------------------------------+ | 512 | 256 | 0.88814% | +------------+---------+-------------------------------------+ | 1024 | 256 | 0.45751% | +------------+---------+-------------------------------------+ | 1518 | 256 | 0.10557% | +------------+---------+-------------------------------------+ Ubuntu 18.04 Kernel: 4.15.0-generic Compiler: gcc 7.4 NIC: Mellanox ConnectX-4 Lx 25000 Mbps Target: x86_64-native-linuxapp-gcc Fail/Total: 0/6 Detail performance results: +------------+---------+-------------------------------------+ | frame_size | txd/rxd | throughput difference from expected | +============+=========+=====================================+ | 64 | 256 | 0.35057% | +------------+---------+-------------------------------------+ | 128 | 256 | -0.05183% | +------------+---------+-------------------------------------+ | 256 | 256 | 0.07431% | +------------+---------+-------------------------------------+ | 512 | 256 | 0.0428% | +------------+---------+-------------------------------------+ | 1024 | 256 | 0.11712% | +------------+---------+-------------------------------------+ | 1518 | 256 | -0.02461% | +------------+---------+-------------------------------------+ Ubuntu 18.04 Kernel: 4.15.0-generic Compiler: gcc 7.4 NIC: Mellanox ConnectX-4 Lx 40000 Mbps Target: x86_64-native-linuxapp-gcc Fail/Total: 0/6 Detail performance results: +------------+---------+-------------------------------------+ | frame_size | txd/rxd | throughput difference from expected | +============+=========+=====================================+ | 64 | 256 | 0.25689% | +------------+---------+-------------------------------------+ | 128 | 256 | 0.20607% | +------------+---------+-------------------------------------+ | 256 | 256 | 0.26707% | +------------+---------+-------------------------------------+ | 512 | 256 | -0.01598% | +------------+---------+-------------------------------------+ | 1024 | 256 | -0.03132% | +------------+---------+-------------------------------------+ | 1518 | 256 | -0.24604% | +------------+---------+-------------------------------------+ Ubuntu 18.04 ARM Kernel: 4.15.0-132-generic Compiler: gcc 7.5 NIC: Arm Mellanox ConnectX-5 10000 Mbps Target: x86_64-native-linuxapp-gcc Fail/Total: 0/4 Detail performance results: +------------+---------+-------------------------------------+ | frame_size | txd/rxd | throughput difference from expected | +============+=========+=====================================+ | 64 | 128 | 0.18231% | +------------+---------+-------------------------------------+ | 64 | 256 | 0.64461% | +------------+---------+-------------------------------------+ | 64 | 512 | 2.01821% | +------------+---------+-------------------------------------+ | 64 | 2048 | -0.10743% | +------------+---------+-------------------------------------+ To view detailed results, visit: https://lab.dpdk.org/results/dashboard/patchsets/17091/ UNH-IOL DPDK Community Lab To manage your email subscriptions, visit: https://lab.dpdk.org/results/dashboard/preferences/subscriptions/
[-- Attachment #1: Type: text/plain, Size: 1059 bytes --] Test-Label: iol-mellanox-Functional Test-Status: SUCCESS http://dpdk.org/patch/93250 _Functional Testing PASS_ Submitter: David Marchand <david.marchand@redhat.com> Date: Thursday, May 13 2021 08:34:15 DPDK git baseline: Repo:dpdk Branch: master CommitID:7989b7e7da9be588563c809264c9347a35319969 93248-93250 --> functional testing pass Test environment and result as below: Ubuntu 18.04 Kernel: 4.15.0-generic Compiler: gcc 7.4 NIC: Mellanox ConnectX-4 Lx 40000 Mbps Target: x86_64-native-linuxapp-gcc Fail/Total: 0/5 Ubuntu 18.04 Kernel: 4.15.0-generic Compiler: gcc 7.4 NIC: Mellanox ConnectX-4 Lx 25000 Mbps Target: x86_64-native-linuxapp-gcc Fail/Total: 0/5 Ubuntu 18.04 ARM Kernel: 4.15.0-132-generic Compiler: gcc 7.5 NIC: Arm Mellanox ConnectX-5 10000 Mbps Target: x86_64-native-linuxapp-gcc Fail/Total: 0/4 To view detailed results, visit: https://lab.dpdk.org/results/dashboard/patchsets/17091/ UNH-IOL DPDK Community Lab To manage your email subscriptions, visit: https://lab.dpdk.org/results/dashboard/preferences/subscriptions/
[-- Attachment #1: Type: text/plain, Size: 992 bytes --] Test-Label: iol-intel-Functional Test-Status: SUCCESS http://dpdk.org/patch/93250 _Functional Testing PASS_ Submitter: David Marchand <david.marchand@redhat.com> Date: Thursday, May 13 2021 08:34:15 DPDK git baseline: Repo:dpdk Branch: master CommitID:7989b7e7da9be588563c809264c9347a35319969 93248-93250 --> functional testing pass Test environment and result as below: Ubuntu 18.04 Kernel: 4.15.0-generic Compiler: gcc 7.4 NIC: Intel Corporation Ethernet Converged Network Adapter 82599ES 10000 Mbps Target: x86_64-native-linuxapp-gcc Fail/Total: 0/5 Ubuntu 18.04 ARM Kernel: 4.15.0-132-generic Compiler: gcc 7.5 NIC: Arm Intel Corporation Ethernet Converged Network Adapter XL710-QDA2 40000 Mbps Target: x86_64-native-linuxapp-gcc Fail/Total: 0/5 To view detailed results, visit: https://lab.dpdk.org/results/dashboard/patchsets/17091/ UNH-IOL DPDK Community Lab To manage your email subscriptions, visit: https://lab.dpdk.org/results/dashboard/preferences/subscriptions/
[-- Attachment #1: Type: text/plain, Size: 1935 bytes --] Test-Label: iol-intel-Performance Test-Status: SUCCESS http://dpdk.org/patch/93250 _Performance Testing PASS_ Submitter: David Marchand <david.marchand@redhat.com> Date: Thursday, May 13 2021 08:34:15 DPDK git baseline: Repo:dpdk Branch: master CommitID:7989b7e7da9be588563c809264c9347a35319969 93248-93250 --> performance testing pass Test environment and result as below: Ubuntu 18.04 Kernel: 4.15.0-generic Compiler: gcc 7.4 NIC: Intel Corporation Ethernet Converged Network Adapter 82599ES 10000 Mbps Target: x86_64-native-linuxapp-gcc Fail/Total: 0/2 Detail performance results: +------------+---------+-------------------------------------+ | frame_size | txd/rxd | throughput difference from expected | +============+=========+=====================================+ | 64 | 512 | -0.25976% | +------------+---------+-------------------------------------+ | 64 | 2048 | 0.65439% | +------------+---------+-------------------------------------+ Ubuntu 18.04 ARM Kernel: 4.15.0-132-generic Compiler: gcc 7.5 NIC: Arm Intel Corporation Ethernet Converged Network Adapter XL710-QDA2 40000 Mbps Target: x86_64-native-linuxapp-gcc Fail/Total: 0/2 Detail performance results: +------------+---------+-------------------------------------+ | frame_size | txd/rxd | throughput difference from expected | +============+=========+=====================================+ | 64 | 512 | -0.11388% | +------------+---------+-------------------------------------+ | 64 | 2048 | 0.0428% | +------------+---------+-------------------------------------+ To view detailed results, visit: https://lab.dpdk.org/results/dashboard/patchsets/17091/ UNH-IOL DPDK Community Lab To manage your email subscriptions, visit: https://lab.dpdk.org/results/dashboard/preferences/subscriptions/
[-- Attachment #1: Type: text/plain, Size: 1059 bytes --] Test-Label: iol-mellanox-Functional Test-Status: SUCCESS http://dpdk.org/patch/93250 _Functional Testing PASS_ Submitter: David Marchand <david.marchand@redhat.com> Date: Thursday, May 13 2021 08:34:15 DPDK git baseline: Repo:dpdk Branch: master CommitID:7989b7e7da9be588563c809264c9347a35319969 93248-93250 --> functional testing pass Test environment and result as below: Ubuntu 18.04 Kernel: 4.15.0-generic Compiler: gcc 7.4 NIC: Mellanox ConnectX-4 Lx 40000 Mbps Target: x86_64-native-linuxapp-gcc Fail/Total: 0/5 Ubuntu 18.04 Kernel: 4.15.0-generic Compiler: gcc 7.4 NIC: Mellanox ConnectX-4 Lx 25000 Mbps Target: x86_64-native-linuxapp-gcc Fail/Total: 0/5 Ubuntu 18.04 ARM Kernel: 4.15.0-132-generic Compiler: gcc 7.5 NIC: Arm Mellanox ConnectX-5 10000 Mbps Target: x86_64-native-linuxapp-gcc Fail/Total: 0/4 To view detailed results, visit: https://lab.dpdk.org/results/dashboard/patchsets/17091/ UNH-IOL DPDK Community Lab To manage your email subscriptions, visit: https://lab.dpdk.org/results/dashboard/preferences/subscriptions/
[-- Attachment #1: Type: text/plain, Size: 4850 bytes --] Test-Label: iol-mellanox-Performance Test-Status: SUCCESS http://dpdk.org/patch/93250 _Performance Testing PASS_ Submitter: David Marchand <david.marchand@redhat.com> Date: Thursday, May 13 2021 08:34:15 DPDK git baseline: Repo:dpdk Branch: master CommitID:7989b7e7da9be588563c809264c9347a35319969 93248-93250 --> performance testing pass Test environment and result as below: Ubuntu 18.04 Kernel: 4.15.0-generic Compiler: gcc 7.4 NIC: Mellanox ConnectX-5 100000 Mbps Target: x86_64-native-linuxapp-gcc Fail/Total: 0/6 Detail performance results: +------------+---------+-------------------------------------+ | frame_size | txd/rxd | throughput difference from expected | +============+=========+=====================================+ | 64 | 256 | -0.37185% | +------------+---------+-------------------------------------+ | 128 | 256 | -0.09756% | +------------+---------+-------------------------------------+ | 256 | 256 | 0.11733% | +------------+---------+-------------------------------------+ | 512 | 256 | 0.88814% | +------------+---------+-------------------------------------+ | 1024 | 256 | 0.45751% | +------------+---------+-------------------------------------+ | 1518 | 256 | 0.10557% | +------------+---------+-------------------------------------+ Ubuntu 18.04 Kernel: 4.15.0-generic Compiler: gcc 7.4 NIC: Mellanox ConnectX-4 Lx 25000 Mbps Target: x86_64-native-linuxapp-gcc Fail/Total: 0/6 Detail performance results: +------------+---------+-------------------------------------+ | frame_size | txd/rxd | throughput difference from expected | +============+=========+=====================================+ | 64 | 256 | 0.35057% | +------------+---------+-------------------------------------+ | 128 | 256 | -0.05183% | +------------+---------+-------------------------------------+ | 256 | 256 | 0.07431% | +------------+---------+-------------------------------------+ | 512 | 256 | 0.0428% | +------------+---------+-------------------------------------+ | 1024 | 256 | 0.11712% | +------------+---------+-------------------------------------+ | 1518 | 256 | -0.02461% | +------------+---------+-------------------------------------+ Ubuntu 18.04 Kernel: 4.15.0-generic Compiler: gcc 7.4 NIC: Mellanox ConnectX-4 Lx 40000 Mbps Target: x86_64-native-linuxapp-gcc Fail/Total: 0/6 Detail performance results: +------------+---------+-------------------------------------+ | frame_size | txd/rxd | throughput difference from expected | +============+=========+=====================================+ | 64 | 256 | 0.25689% | +------------+---------+-------------------------------------+ | 128 | 256 | 0.20607% | +------------+---------+-------------------------------------+ | 256 | 256 | 0.26707% | +------------+---------+-------------------------------------+ | 512 | 256 | -0.01598% | +------------+---------+-------------------------------------+ | 1024 | 256 | -0.03132% | +------------+---------+-------------------------------------+ | 1518 | 256 | -0.24604% | +------------+---------+-------------------------------------+ Ubuntu 18.04 ARM Kernel: 4.15.0-132-generic Compiler: gcc 7.5 NIC: Arm Mellanox ConnectX-5 10000 Mbps Target: x86_64-native-linuxapp-gcc Fail/Total: 0/4 Detail performance results: +------------+---------+-------------------------------------+ | frame_size | txd/rxd | throughput difference from expected | +============+=========+=====================================+ | 64 | 128 | 0.02145% | +------------+---------+-------------------------------------+ | 64 | 256 | 0.03223% | +------------+---------+-------------------------------------+ | 64 | 512 | 2.68729% | +------------+---------+-------------------------------------+ | 64 | 2048 | -0.18264% | +------------+---------+-------------------------------------+ To view detailed results, visit: https://lab.dpdk.org/results/dashboard/patchsets/17091/ UNH-IOL DPDK Community Lab To manage your email subscriptions, visit: https://lab.dpdk.org/results/dashboard/preferences/subscriptions/