[-- Attachment #1: Type: text/plain, Size: 785 bytes --] Test-Label: iol-intel-Functional Test-Status: SUCCESS http://dpdk.org/patch/93233 _Functional Testing PASS_ Submitter: David Hunt <david.hunt@intel.com> Date: Wednesday, May 12 2021 16:32:54 DPDK git baseline: Repo:dpdk Branch: master CommitID:86ff0663639417f9d25907d09343a5c231e32a51 93231-93233 --> functional testing pass Test environment and result as below: Ubuntu 18.04 Kernel: 4.15.0-generic Compiler: gcc 7.4 NIC: Intel Corporation Ethernet Converged Network Adapter 82599ES 10000 Mbps Target: x86_64-native-linuxapp-gcc Fail/Total: 0/5 To view detailed results, visit: https://lab.dpdk.org/results/dashboard/patchsets/17083/ UNH-IOL DPDK Community Lab To manage your email subscriptions, visit: https://lab.dpdk.org/results/dashboard/preferences/subscriptions/
[-- Attachment #1: Type: text/plain, Size: 1258 bytes --] Test-Label: iol-intel-Performance Test-Status: SUCCESS http://dpdk.org/patch/93233 _Performance Testing PASS_ Submitter: David Hunt <david.hunt@intel.com> Date: Wednesday, May 12 2021 16:32:54 DPDK git baseline: Repo:dpdk Branch: master CommitID:86ff0663639417f9d25907d09343a5c231e32a51 93231-93233 --> performance testing pass Test environment and result as below: Ubuntu 18.04 Kernel: 4.15.0-generic Compiler: gcc 7.4 NIC: Intel Corporation Ethernet Converged Network Adapter 82599ES 10000 Mbps Target: x86_64-native-linuxapp-gcc Fail/Total: 0/2 Detail performance results: +------------+---------+-------------------------------------+ | frame_size | txd/rxd | throughput difference from expected | +============+=========+=====================================+ | 64 | 512 | -0.72688% | +------------+---------+-------------------------------------+ | 64 | 2048 | 0.59797% | +------------+---------+-------------------------------------+ To view detailed results, visit: https://lab.dpdk.org/results/dashboard/patchsets/17083/ UNH-IOL DPDK Community Lab To manage your email subscriptions, visit: https://lab.dpdk.org/results/dashboard/preferences/subscriptions/
[-- Attachment #1: Type: text/plain, Size: 4335 bytes --] Test-Label: iol-testing Test-Status: SUCCESS http://dpdk.org/patch/93233 _Testing PASS_ Submitter: David Hunt <david.hunt@intel.com> Date: Wednesday, May 12 2021 16:32:54 DPDK git baseline: Repo:dpdk Branch: master CommitID:86ff0663639417f9d25907d09343a5c231e32a51 93231-93233 --> testing pass Test environment and result as below: +---------------------+----------------------+-------------------+--------------------+----------------+ | Environment | dpdk_mingw64_compile | dpdk_compile_spdk | dpdk_meson_compile | dpdk_unit_test | +=====================+======================+===================+====================+================+ | Windows Server 2019 | PASS | SKIPPED | PASS | SKIPPED | +---------------------+----------------------+-------------------+--------------------+----------------+ | Ubuntu 18.04 | SKIPPED | PASS | PASS | PASS | +---------------------+----------------------+-------------------+--------------------+----------------+ | Fedora 31 | SKIPPED | SKIPPED | PASS | SKIPPED | +---------------------+----------------------+-------------------+--------------------+----------------+ | Ubuntu 18.04 ARM | SKIPPED | SKIPPED | PASS | SKIPPED | +---------------------+----------------------+-------------------+--------------------+----------------+ | FreeBSD 11.2 | SKIPPED | SKIPPED | PASS | SKIPPED | +---------------------+----------------------+-------------------+--------------------+----------------+ | Fedora 32 | SKIPPED | SKIPPED | PASS | SKIPPED | +---------------------+----------------------+-------------------+--------------------+----------------+ | Ubuntu 20.04 | SKIPPED | SKIPPED | PASS | SKIPPED | +---------------------+----------------------+-------------------+--------------------+----------------+ | Arch Linux | SKIPPED | SKIPPED | PASS | SKIPPED | +---------------------+----------------------+-------------------+--------------------+----------------+ | RHEL 7 | SKIPPED | SKIPPED | PASS | SKIPPED | +---------------------+----------------------+-------------------+--------------------+----------------+ | openSUSE Leap 15 | SKIPPED | SKIPPED | PASS | SKIPPED | +---------------------+----------------------+-------------------+--------------------+----------------+ | RHEL8 | SKIPPED | SKIPPED | PASS | SKIPPED | +---------------------+----------------------+-------------------+--------------------+----------------+ | CentOS Stream 8 | SKIPPED | SKIPPED | PASS | SKIPPED | +---------------------+----------------------+-------------------+--------------------+----------------+ Windows Server 2019 Kernel: 10.0 Compiler: clang 9.0 and gcc 8.1.0 (MinGW) Ubuntu 18.04 Kernel: 4.18.0-240.10.1.el8_3.x86_64 Compiler: gcc 7.5.0-3ubuntu1~18.04 Fedora 31 Kernel: 4.18.0-240.10.1.el8_3.x86_64 Compiler: gcc 9.3.1 Ubuntu 18.04 ARM Kernel: 5.4.0-53-generic Compiler: gcc 9.3 FreeBSD 11.2 Kernel: 11.2 Compiler: gcc 8.3 Fedora 32 Kernel: 4.18.0-240.10.1.el8_3.x86_64 Compiler: gcc 10.2.1 Ubuntu 20.04 Kernel: 4.18.0-240.10.1.el8_3.x86_64 Compiler: gcc 9.3.0-17ubuntu1~20.04 Arch Linux Kernel: 4.18.0-240.10.1.el8_3.x86_64 Compiler: gcc 10.2.0 RHEL 7 Kernel: 4.18.0-240.10.1.el8_3.x86_64 Compiler: gcc 4.8.5 20150623 (Red Hat 4.8.5-44) openSUSE Leap 15 Kernel: 4.18.0-240.10.1.el8_3.x86_64 Compiler: gcc 7.5.0 RHEL8 Kernel: 4.18.0-240.10.1.el8_3.x86_64 Compiler: gcc 8.3.1 20191121 (Red Hat 8.3.1-5) CentOS Stream 8 Kernel: 4.18.0-240.10.1.el8_3.x86_64 Compiler: gcc 8.4.1 20200928 To view detailed results, visit: https://lab.dpdk.org/results/dashboard/patchsets/17083/ UNH-IOL DPDK Community Lab To manage your email subscriptions, visit: https://lab.dpdk.org/results/dashboard/preferences/subscriptions/
[-- Attachment #1: Type: text/plain, Size: 2275 bytes --] Test-Label: iol-abi-testing Test-Status: SUCCESS http://dpdk.org/patch/93233 _Testing PASS_ Submitter: David Hunt <david.hunt@intel.com> Date: Wednesday, May 12 2021 16:32:54 DPDK git baseline: Repo:dpdk Branch: master CommitID:86ff0663639417f9d25907d09343a5c231e32a51 93231-93233 --> testing pass Test environment and result as below: +------------------+----------+ | Environment | abi_test | +==================+==========+ | Ubuntu 18.04 ARM | PASS | +------------------+----------+ | Ubuntu 20.04 | PASS | +------------------+----------+ | RHEL8 | PASS | +------------------+----------+ | CentOS 8 | PASS | +------------------+----------+ | RHEL 7 | PASS | +------------------+----------+ | Ubuntu 18.04 | PASS | +------------------+----------+ | Fedora 31 | PASS | +------------------+----------+ | openSUSE Leap 15 | PASS | +------------------+----------+ | Arch Linux | PASS | +------------------+----------+ | CentOS Stream 8 | PASS | +------------------+----------+ | Fedora 32 | PASS | +------------------+----------+ Ubuntu 18.04 ARM Kernel: 5.4.0-53-generic Compiler: gcc 9.3 Ubuntu 20.04 Kernel: 4.18.0-240.10.1.el8_3.x86_64 Compiler: gcc 9.3.0-17ubuntu1~20.04 RHEL8 Kernel: 4.18.0-240.10.1.el8_3.x86_64 Compiler: gcc 8.3.1 20191121 (Red Hat 8.3.1-5) CentOS 8 Kernel: 4.18.0-240.10.1.el8_3.x86_64 Compiler: gcc 8.3.1 20191121 (Red Hat 8.3.1-5) RHEL 7 Kernel: 4.18.0-240.10.1.el8_3.x86_64 Compiler: gcc 4.8.5 20150623 (Red Hat 4.8.5-44) Ubuntu 18.04 Kernel: 4.18.0-240.10.1.el8_3.x86_64 Compiler: gcc 7.5.0-3ubuntu1~18.04 Fedora 31 Kernel: 4.18.0-240.10.1.el8_3.x86_64 Compiler: gcc 9.3.1 openSUSE Leap 15 Kernel: 4.18.0-240.10.1.el8_3.x86_64 Compiler: gcc 7.5.0 Arch Linux Kernel: 4.18.0-240.10.1.el8_3.x86_64 Compiler: gcc 10.2.0 CentOS Stream 8 Kernel: 4.18.0-240.10.1.el8_3.x86_64 Compiler: gcc 8.4.1 20200928 Fedora 32 Kernel: 4.18.0-240.10.1.el8_3.x86_64 Compiler: gcc 10.2.1 To view detailed results, visit: https://lab.dpdk.org/results/dashboard/patchsets/17083/ UNH-IOL DPDK Community Lab To manage your email subscriptions, visit: https://lab.dpdk.org/results/dashboard/preferences/subscriptions/
[-- Attachment #1: Type: text/plain, Size: 1725 bytes --] Test-Label: iol-mellanox-Performance Test-Status: SUCCESS http://dpdk.org/patch/93233 _Performance Testing PASS_ Submitter: David Hunt <david.hunt@intel.com> Date: Wednesday, May 12 2021 16:32:54 DPDK git baseline: Repo:dpdk Branch: master CommitID:86ff0663639417f9d25907d09343a5c231e32a51 93231-93233 --> performance testing pass Test environment and result as below: Ubuntu 18.04 Kernel: 4.15.0-generic Compiler: gcc 7.4 NIC: Mellanox ConnectX-5 100000 Mbps Target: x86_64-native-linuxapp-gcc Fail/Total: 0/6 Detail performance results: +------------+---------+-------------------------------------+ | frame_size | txd/rxd | throughput difference from expected | +============+=========+=====================================+ | 64 | 256 | 0.097% | +------------+---------+-------------------------------------+ | 128 | 256 | 0.13805% | +------------+---------+-------------------------------------+ | 256 | 256 | 0.37946% | +------------+---------+-------------------------------------+ | 512 | 256 | 0.75936% | +------------+---------+-------------------------------------+ | 1024 | 256 | 1.1353% | +------------+---------+-------------------------------------+ | 1518 | 256 | 0.09384% | +------------+---------+-------------------------------------+ To view detailed results, visit: https://lab.dpdk.org/results/dashboard/patchsets/17083/ UNH-IOL DPDK Community Lab To manage your email subscriptions, visit: https://lab.dpdk.org/results/dashboard/preferences/subscriptions/
[-- Attachment #1: Type: text/plain, Size: 750 bytes --] Test-Label: iol-mellanox-Functional Test-Status: SUCCESS http://dpdk.org/patch/93233 _Functional Testing PASS_ Submitter: David Hunt <david.hunt@intel.com> Date: Wednesday, May 12 2021 16:32:54 DPDK git baseline: Repo:dpdk Branch: master CommitID:86ff0663639417f9d25907d09343a5c231e32a51 93231-93233 --> functional testing pass Test environment and result as below: Ubuntu 18.04 Kernel: 4.15.0-generic Compiler: gcc 7.4 NIC: Mellanox ConnectX-4 Lx 25000 Mbps Target: x86_64-native-linuxapp-gcc Fail/Total: 0/5 To view detailed results, visit: https://lab.dpdk.org/results/dashboard/patchsets/17083/ UNH-IOL DPDK Community Lab To manage your email subscriptions, visit: https://lab.dpdk.org/results/dashboard/preferences/subscriptions/
[-- Attachment #1: Type: text/plain, Size: 2845 bytes --] Test-Label: iol-mellanox-Performance Test-Status: SUCCESS http://dpdk.org/patch/93233 _Performance Testing PASS_ Submitter: David Hunt <david.hunt@intel.com> Date: Wednesday, May 12 2021 16:32:54 DPDK git baseline: Repo:dpdk Branch: master CommitID:86ff0663639417f9d25907d09343a5c231e32a51 93231-93233 --> performance testing pass Test environment and result as below: Ubuntu 18.04 Kernel: 4.15.0-generic Compiler: gcc 7.4 NIC: Mellanox ConnectX-5 100000 Mbps Target: x86_64-native-linuxapp-gcc Fail/Total: 0/6 Detail performance results: +------------+---------+-------------------------------------+ | frame_size | txd/rxd | throughput difference from expected | +============+=========+=====================================+ | 64 | 256 | 0.097% | +------------+---------+-------------------------------------+ | 128 | 256 | 0.13805% | +------------+---------+-------------------------------------+ | 256 | 256 | 0.37946% | +------------+---------+-------------------------------------+ | 512 | 256 | 0.75936% | +------------+---------+-------------------------------------+ | 1024 | 256 | 1.1353% | +------------+---------+-------------------------------------+ | 1518 | 256 | 0.09384% | +------------+---------+-------------------------------------+ Ubuntu 18.04 Kernel: 4.15.0-generic Compiler: gcc 7.4 NIC: Mellanox ConnectX-4 Lx 25000 Mbps Target: x86_64-native-linuxapp-gcc Fail/Total: 0/6 Detail performance results: +------------+---------+-------------------------------------+ | frame_size | txd/rxd | throughput difference from expected | +============+=========+=====================================+ | 64 | 256 | -0.07068% | +------------+---------+-------------------------------------+ | 128 | 256 | 0.06565% | +------------+---------+-------------------------------------+ | 256 | 256 | 0.57961% | +------------+---------+-------------------------------------+ | 512 | 256 | -0.11984% | +------------+---------+-------------------------------------+ | 1024 | 256 | -0.05019% | +------------+---------+-------------------------------------+ | 1518 | 256 | -0.19685% | +------------+---------+-------------------------------------+ To view detailed results, visit: https://lab.dpdk.org/results/dashboard/patchsets/17083/ UNH-IOL DPDK Community Lab To manage your email subscriptions, visit: https://lab.dpdk.org/results/dashboard/preferences/subscriptions/
[-- Attachment #1: Type: text/plain, Size: 896 bytes --] Test-Label: iol-mellanox-Functional Test-Status: SUCCESS http://dpdk.org/patch/93233 _Functional Testing PASS_ Submitter: David Hunt <david.hunt@intel.com> Date: Wednesday, May 12 2021 16:32:54 DPDK git baseline: Repo:dpdk Branch: master CommitID:86ff0663639417f9d25907d09343a5c231e32a51 93231-93233 --> functional testing pass Test environment and result as below: Ubuntu 18.04 Kernel: 4.15.0-generic Compiler: gcc 7.4 NIC: Mellanox ConnectX-4 Lx 25000 Mbps Target: x86_64-native-linuxapp-gcc Fail/Total: 0/5 Ubuntu 18.04 Kernel: 4.15.0-generic Compiler: gcc 7.4 NIC: Mellanox ConnectX-4 Lx 40000 Mbps Target: x86_64-native-linuxapp-gcc Fail/Total: 0/5 To view detailed results, visit: https://lab.dpdk.org/results/dashboard/patchsets/17083/ UNH-IOL DPDK Community Lab To manage your email subscriptions, visit: https://lab.dpdk.org/results/dashboard/preferences/subscriptions/
[-- Attachment #1: Type: text/plain, Size: 3965 bytes --] Test-Label: iol-mellanox-Performance Test-Status: SUCCESS http://dpdk.org/patch/93233 _Performance Testing PASS_ Submitter: David Hunt <david.hunt@intel.com> Date: Wednesday, May 12 2021 16:32:54 DPDK git baseline: Repo:dpdk Branch: master CommitID:86ff0663639417f9d25907d09343a5c231e32a51 93231-93233 --> performance testing pass Test environment and result as below: Ubuntu 18.04 Kernel: 4.15.0-generic Compiler: gcc 7.4 NIC: Mellanox ConnectX-5 100000 Mbps Target: x86_64-native-linuxapp-gcc Fail/Total: 0/6 Detail performance results: +------------+---------+-------------------------------------+ | frame_size | txd/rxd | throughput difference from expected | +============+=========+=====================================+ | 64 | 256 | 0.097% | +------------+---------+-------------------------------------+ | 128 | 256 | 0.13805% | +------------+---------+-------------------------------------+ | 256 | 256 | 0.37946% | +------------+---------+-------------------------------------+ | 512 | 256 | 0.75936% | +------------+---------+-------------------------------------+ | 1024 | 256 | 1.1353% | +------------+---------+-------------------------------------+ | 1518 | 256 | 0.09384% | +------------+---------+-------------------------------------+ Ubuntu 18.04 Kernel: 4.15.0-generic Compiler: gcc 7.4 NIC: Mellanox ConnectX-4 Lx 25000 Mbps Target: x86_64-native-linuxapp-gcc Fail/Total: 0/6 Detail performance results: +------------+---------+-------------------------------------+ | frame_size | txd/rxd | throughput difference from expected | +============+=========+=====================================+ | 64 | 256 | -0.07068% | +------------+---------+-------------------------------------+ | 128 | 256 | 0.06565% | +------------+---------+-------------------------------------+ | 256 | 256 | 0.57961% | +------------+---------+-------------------------------------+ | 512 | 256 | -0.11984% | +------------+---------+-------------------------------------+ | 1024 | 256 | -0.05019% | +------------+---------+-------------------------------------+ | 1518 | 256 | -0.19685% | +------------+---------+-------------------------------------+ Ubuntu 18.04 Kernel: 4.15.0-generic Compiler: gcc 7.4 NIC: Mellanox ConnectX-4 Lx 40000 Mbps Target: x86_64-native-linuxapp-gcc Fail/Total: 0/6 Detail performance results: +------------+---------+-------------------------------------+ | frame_size | txd/rxd | throughput difference from expected | +============+=========+=====================================+ | 64 | 256 | 0.05994% | +------------+---------+-------------------------------------+ | 128 | 256 | -0.10876% | +------------+---------+-------------------------------------+ | 256 | 256 | 0.34389% | +------------+---------+-------------------------------------+ | 512 | 256 | -0.10119% | +------------+---------+-------------------------------------+ | 1024 | 256 | -0.16705% | +------------+---------+-------------------------------------+ | 1518 | 256 | 0.0% | +------------+---------+-------------------------------------+ To view detailed results, visit: https://lab.dpdk.org/results/dashboard/patchsets/17083/ UNH-IOL DPDK Community Lab To manage your email subscriptions, visit: https://lab.dpdk.org/results/dashboard/preferences/subscriptions/
[-- Attachment #1: Type: text/plain, Size: 4842 bytes --] Test-Label: iol-mellanox-Performance Test-Status: SUCCESS http://dpdk.org/patch/93233 _Performance Testing PASS_ Submitter: David Hunt <david.hunt@intel.com> Date: Wednesday, May 12 2021 16:32:54 DPDK git baseline: Repo:dpdk Branch: master CommitID:86ff0663639417f9d25907d09343a5c231e32a51 93231-93233 --> performance testing pass Test environment and result as below: Ubuntu 18.04 Kernel: 4.15.0-generic Compiler: gcc 7.4 NIC: Mellanox ConnectX-5 100000 Mbps Target: x86_64-native-linuxapp-gcc Fail/Total: 0/6 Detail performance results: +------------+---------+-------------------------------------+ | frame_size | txd/rxd | throughput difference from expected | +============+=========+=====================================+ | 64 | 256 | 0.097% | +------------+---------+-------------------------------------+ | 128 | 256 | 0.13805% | +------------+---------+-------------------------------------+ | 256 | 256 | 0.37946% | +------------+---------+-------------------------------------+ | 512 | 256 | 0.75936% | +------------+---------+-------------------------------------+ | 1024 | 256 | 1.1353% | +------------+---------+-------------------------------------+ | 1518 | 256 | 0.09384% | +------------+---------+-------------------------------------+ Ubuntu 18.04 Kernel: 4.15.0-generic Compiler: gcc 7.4 NIC: Mellanox ConnectX-4 Lx 25000 Mbps Target: x86_64-native-linuxapp-gcc Fail/Total: 0/6 Detail performance results: +------------+---------+-------------------------------------+ | frame_size | txd/rxd | throughput difference from expected | +============+=========+=====================================+ | 64 | 256 | -0.07068% | +------------+---------+-------------------------------------+ | 128 | 256 | 0.06565% | +------------+---------+-------------------------------------+ | 256 | 256 | 0.57961% | +------------+---------+-------------------------------------+ | 512 | 256 | -0.11984% | +------------+---------+-------------------------------------+ | 1024 | 256 | -0.05019% | +------------+---------+-------------------------------------+ | 1518 | 256 | -0.19685% | +------------+---------+-------------------------------------+ Ubuntu 18.04 Kernel: 4.15.0-generic Compiler: gcc 7.4 NIC: Mellanox ConnectX-4 Lx 40000 Mbps Target: x86_64-native-linuxapp-gcc Fail/Total: 0/6 Detail performance results: +------------+---------+-------------------------------------+ | frame_size | txd/rxd | throughput difference from expected | +============+=========+=====================================+ | 64 | 256 | 0.05994% | +------------+---------+-------------------------------------+ | 128 | 256 | -0.10876% | +------------+---------+-------------------------------------+ | 256 | 256 | 0.34389% | +------------+---------+-------------------------------------+ | 512 | 256 | -0.10119% | +------------+---------+-------------------------------------+ | 1024 | 256 | -0.16705% | +------------+---------+-------------------------------------+ | 1518 | 256 | 0.0% | +------------+---------+-------------------------------------+ Ubuntu 18.04 ARM Kernel: 4.15.0-132-generic Compiler: gcc 7.5 NIC: Arm Mellanox ConnectX-5 10000 Mbps Target: x86_64-native-linuxapp-gcc Fail/Total: 0/4 Detail performance results: +------------+---------+-------------------------------------+ | frame_size | txd/rxd | throughput difference from expected | +============+=========+=====================================+ | 64 | 128 | -2.26273% | +------------+---------+-------------------------------------+ | 64 | 256 | -0.16115% | +------------+---------+-------------------------------------+ | 64 | 512 | 1.91949% | +------------+---------+-------------------------------------+ | 64 | 2048 | -0.22561% | +------------+---------+-------------------------------------+ To view detailed results, visit: https://lab.dpdk.org/results/dashboard/patchsets/17083/ UNH-IOL DPDK Community Lab To manage your email subscriptions, visit: https://lab.dpdk.org/results/dashboard/preferences/subscriptions/
[-- Attachment #1: Type: text/plain, Size: 1927 bytes --] Test-Label: iol-intel-Performance Test-Status: SUCCESS http://dpdk.org/patch/93233 _Performance Testing PASS_ Submitter: David Hunt <david.hunt@intel.com> Date: Wednesday, May 12 2021 16:32:54 DPDK git baseline: Repo:dpdk Branch: master CommitID:86ff0663639417f9d25907d09343a5c231e32a51 93231-93233 --> performance testing pass Test environment and result as below: Ubuntu 18.04 Kernel: 4.15.0-generic Compiler: gcc 7.4 NIC: Intel Corporation Ethernet Converged Network Adapter 82599ES 10000 Mbps Target: x86_64-native-linuxapp-gcc Fail/Total: 0/2 Detail performance results: +------------+---------+-------------------------------------+ | frame_size | txd/rxd | throughput difference from expected | +============+=========+=====================================+ | 64 | 512 | -0.72688% | +------------+---------+-------------------------------------+ | 64 | 2048 | 0.59797% | +------------+---------+-------------------------------------+ Ubuntu 18.04 ARM Kernel: 4.15.0-132-generic Compiler: gcc 7.5 NIC: Arm Intel Corporation Ethernet Converged Network Adapter XL710-QDA2 40000 Mbps Target: x86_64-native-linuxapp-gcc Fail/Total: 0/2 Detail performance results: +------------+---------+-------------------------------------+ | frame_size | txd/rxd | throughput difference from expected | +============+=========+=====================================+ | 64 | 512 | -0.19929% | +------------+---------+-------------------------------------+ | 64 | 2048 | -0.07134% | +------------+---------+-------------------------------------+ To view detailed results, visit: https://lab.dpdk.org/results/dashboard/patchsets/17083/ UNH-IOL DPDK Community Lab To manage your email subscriptions, visit: https://lab.dpdk.org/results/dashboard/preferences/subscriptions/
[-- Attachment #1: Type: text/plain, Size: 984 bytes --] Test-Label: iol-intel-Functional Test-Status: SUCCESS http://dpdk.org/patch/93233 _Functional Testing PASS_ Submitter: David Hunt <david.hunt@intel.com> Date: Wednesday, May 12 2021 16:32:54 DPDK git baseline: Repo:dpdk Branch: master CommitID:86ff0663639417f9d25907d09343a5c231e32a51 93231-93233 --> functional testing pass Test environment and result as below: Ubuntu 18.04 Kernel: 4.15.0-generic Compiler: gcc 7.4 NIC: Intel Corporation Ethernet Converged Network Adapter 82599ES 10000 Mbps Target: x86_64-native-linuxapp-gcc Fail/Total: 0/5 Ubuntu 18.04 ARM Kernel: 4.15.0-132-generic Compiler: gcc 7.5 NIC: Arm Intel Corporation Ethernet Converged Network Adapter XL710-QDA2 40000 Mbps Target: x86_64-native-linuxapp-gcc Fail/Total: 0/5 To view detailed results, visit: https://lab.dpdk.org/results/dashboard/patchsets/17083/ UNH-IOL DPDK Community Lab To manage your email subscriptions, visit: https://lab.dpdk.org/results/dashboard/preferences/subscriptions/
[-- Attachment #1: Type: text/plain, Size: 1051 bytes --] Test-Label: iol-mellanox-Functional Test-Status: SUCCESS http://dpdk.org/patch/93233 _Functional Testing PASS_ Submitter: David Hunt <david.hunt@intel.com> Date: Wednesday, May 12 2021 16:32:54 DPDK git baseline: Repo:dpdk Branch: master CommitID:86ff0663639417f9d25907d09343a5c231e32a51 93231-93233 --> functional testing pass Test environment and result as below: Ubuntu 18.04 Kernel: 4.15.0-generic Compiler: gcc 7.4 NIC: Mellanox ConnectX-4 Lx 25000 Mbps Target: x86_64-native-linuxapp-gcc Fail/Total: 0/5 Ubuntu 18.04 Kernel: 4.15.0-generic Compiler: gcc 7.4 NIC: Mellanox ConnectX-4 Lx 40000 Mbps Target: x86_64-native-linuxapp-gcc Fail/Total: 0/5 Ubuntu 18.04 ARM Kernel: 4.15.0-132-generic Compiler: gcc 7.5 NIC: Arm Mellanox ConnectX-5 10000 Mbps Target: x86_64-native-linuxapp-gcc Fail/Total: 0/4 To view detailed results, visit: https://lab.dpdk.org/results/dashboard/patchsets/17083/ UNH-IOL DPDK Community Lab To manage your email subscriptions, visit: https://lab.dpdk.org/results/dashboard/preferences/subscriptions/