Test-Label: checkpatch Test-Status: SUCCESS http://dpdk.org/patch/93236 _coding style OK_
[-- Attachment #1: Type: text/plain, Size: 1254 bytes --] Test-Label: iol-intel-Performance Test-Status: SUCCESS http://dpdk.org/patch/93236 _Performance Testing PASS_ Submitter: Min Hu (Connor) <humin29@huawei.com> Date: Thursday, May 13 2021 01:10:37 DPDK git baseline: Repo:dpdk Branch: master CommitID:7989b7e7da9be588563c809264c9347a35319969 93236 --> performance testing pass Test environment and result as below: Ubuntu 18.04 Kernel: 4.15.0-generic Compiler: gcc 7.4 NIC: Intel Corporation Ethernet Converged Network Adapter 82599ES 10000 Mbps Target: x86_64-native-linuxapp-gcc Fail/Total: 0/2 Detail performance results: +------------+---------+-------------------------------------+ | frame_size | txd/rxd | throughput difference from expected | +============+=========+=====================================+ | 64 | 512 | -0.12442% | +------------+---------+-------------------------------------+ | 64 | 2048 | 0.84619% | +------------+---------+-------------------------------------+ To view detailed results, visit: https://lab.dpdk.org/results/dashboard/patchsets/17085/ UNH-IOL DPDK Community Lab To manage your email subscriptions, visit: https://lab.dpdk.org/results/dashboard/preferences/subscriptions/
[-- Attachment #1: Type: text/plain, Size: 781 bytes --] Test-Label: iol-intel-Functional Test-Status: SUCCESS http://dpdk.org/patch/93236 _Functional Testing PASS_ Submitter: Min Hu (Connor) <humin29@huawei.com> Date: Thursday, May 13 2021 01:10:37 DPDK git baseline: Repo:dpdk Branch: master CommitID:7989b7e7da9be588563c809264c9347a35319969 93236 --> functional testing pass Test environment and result as below: Ubuntu 18.04 Kernel: 4.15.0-generic Compiler: gcc 7.4 NIC: Intel Corporation Ethernet Converged Network Adapter 82599ES 10000 Mbps Target: x86_64-native-linuxapp-gcc Fail/Total: 0/5 To view detailed results, visit: https://lab.dpdk.org/results/dashboard/patchsets/17085/ UNH-IOL DPDK Community Lab To manage your email subscriptions, visit: https://lab.dpdk.org/results/dashboard/preferences/subscriptions/
[-- Attachment #1: Type: text/plain, Size: 4637 bytes --] Test-Label: iol-testing Test-Status: SUCCESS http://dpdk.org/patch/93236 _Testing PASS_ Submitter: Min Hu (Connor) <humin29@huawei.com> Date: Thursday, May 13 2021 01:10:37 DPDK git baseline: Repo:dpdk Branch: master CommitID:7989b7e7da9be588563c809264c9347a35319969 93236 --> testing pass Test environment and result as below: +---------------------+----------------------+-------------------+--------------------+----------------+ | Environment | dpdk_mingw64_compile | dpdk_compile_spdk | dpdk_meson_compile | dpdk_unit_test | +=====================+======================+===================+====================+================+ | Windows Server 2019 | PASS | SKIPPED | PASS | SKIPPED | +---------------------+----------------------+-------------------+--------------------+----------------+ | Ubuntu 18.04 | SKIPPED | PASS | PASS | PASS | +---------------------+----------------------+-------------------+--------------------+----------------+ | Fedora 31 | SKIPPED | SKIPPED | PASS | SKIPPED | +---------------------+----------------------+-------------------+--------------------+----------------+ | Ubuntu 18.04 ARM | SKIPPED | SKIPPED | PASS | SKIPPED | +---------------------+----------------------+-------------------+--------------------+----------------+ | FreeBSD 11.2 | SKIPPED | SKIPPED | PASS | SKIPPED | +---------------------+----------------------+-------------------+--------------------+----------------+ | CentOS Stream 8 | SKIPPED | SKIPPED | PASS | SKIPPED | +---------------------+----------------------+-------------------+--------------------+----------------+ | Ubuntu 20.04 | SKIPPED | SKIPPED | PASS | SKIPPED | +---------------------+----------------------+-------------------+--------------------+----------------+ | RHEL 7 | SKIPPED | SKIPPED | PASS | SKIPPED | +---------------------+----------------------+-------------------+--------------------+----------------+ | Arch Linux | SKIPPED | SKIPPED | PASS | SKIPPED | +---------------------+----------------------+-------------------+--------------------+----------------+ | openSUSE Leap 15 | SKIPPED | SKIPPED | PASS | SKIPPED | +---------------------+----------------------+-------------------+--------------------+----------------+ | Fedora 32 | SKIPPED | SKIPPED | PASS | SKIPPED | +---------------------+----------------------+-------------------+--------------------+----------------+ | CentOS 8 | SKIPPED | SKIPPED | PASS | SKIPPED | +---------------------+----------------------+-------------------+--------------------+----------------+ | RHEL8 | SKIPPED | SKIPPED | PASS | SKIPPED | +---------------------+----------------------+-------------------+--------------------+----------------+ Windows Server 2019 Kernel: 10.0 Compiler: clang 9.0 and gcc 8.1.0 (MinGW) Ubuntu 18.04 Kernel: 4.18.0-240.10.1.el8_3.x86_64 Compiler: gcc 7.5.0-3ubuntu1~18.04 Fedora 31 Kernel: 4.18.0-240.10.1.el8_3.x86_64 Compiler: gcc 9.3.1 Ubuntu 18.04 ARM Kernel: 5.4.0-53-generic Compiler: gcc 9.3 FreeBSD 11.2 Kernel: 11.2 Compiler: gcc 8.3 CentOS Stream 8 Kernel: 4.18.0-240.10.1.el8_3.x86_64 Compiler: gcc 8.4.1 20200928 Ubuntu 20.04 Kernel: 4.18.0-240.10.1.el8_3.x86_64 Compiler: gcc 9.3.0-17ubuntu1~20.04 RHEL 7 Kernel: 4.18.0-240.10.1.el8_3.x86_64 Compiler: gcc 4.8.5 20150623 (Red Hat 4.8.5-44) Arch Linux Kernel: 4.18.0-240.10.1.el8_3.x86_64 Compiler: gcc 10.2.0 openSUSE Leap 15 Kernel: 4.18.0-240.10.1.el8_3.x86_64 Compiler: gcc 7.5.0 Fedora 32 Kernel: 4.18.0-240.10.1.el8_3.x86_64 Compiler: gcc 10.2.1 CentOS 8 Kernel: 4.18.0-240.10.1.el8_3.x86_64 Compiler: gcc 8.3.1 20191121 (Red Hat 8.3.1-5) RHEL8 Kernel: 4.18.0-240.10.1.el8_3.x86_64 Compiler: gcc 8.3.1 20191121 (Red Hat 8.3.1-5) To view detailed results, visit: https://lab.dpdk.org/results/dashboard/patchsets/17085/ UNH-IOL DPDK Community Lab To manage your email subscriptions, visit: https://lab.dpdk.org/results/dashboard/preferences/subscriptions/
[-- Attachment #1: Type: text/plain, Size: 2271 bytes --] Test-Label: iol-abi-testing Test-Status: SUCCESS http://dpdk.org/patch/93236 _Testing PASS_ Submitter: Min Hu (Connor) <humin29@huawei.com> Date: Thursday, May 13 2021 01:10:37 DPDK git baseline: Repo:dpdk Branch: master CommitID:7989b7e7da9be588563c809264c9347a35319969 93236 --> testing pass Test environment and result as below: +------------------+----------+ | Environment | abi_test | +==================+==========+ | Ubuntu 18.04 ARM | PASS | +------------------+----------+ | RHEL 7 | PASS | +------------------+----------+ | Ubuntu 18.04 | PASS | +------------------+----------+ | RHEL8 | PASS | +------------------+----------+ | Ubuntu 20.04 | PASS | +------------------+----------+ | Arch Linux | PASS | +------------------+----------+ | Fedora 32 | PASS | +------------------+----------+ | CentOS Stream 8 | PASS | +------------------+----------+ | CentOS 8 | PASS | +------------------+----------+ | openSUSE Leap 15 | PASS | +------------------+----------+ | Fedora 31 | PASS | +------------------+----------+ Ubuntu 18.04 ARM Kernel: 5.4.0-53-generic Compiler: gcc 9.3 RHEL 7 Kernel: 4.18.0-240.10.1.el8_3.x86_64 Compiler: gcc 4.8.5 20150623 (Red Hat 4.8.5-44) Ubuntu 18.04 Kernel: 4.18.0-240.10.1.el8_3.x86_64 Compiler: gcc 7.5.0-3ubuntu1~18.04 RHEL8 Kernel: 4.18.0-240.10.1.el8_3.x86_64 Compiler: gcc 8.3.1 20191121 (Red Hat 8.3.1-5) Ubuntu 20.04 Kernel: 4.18.0-240.10.1.el8_3.x86_64 Compiler: gcc 9.3.0-17ubuntu1~20.04 Arch Linux Kernel: 4.18.0-240.10.1.el8_3.x86_64 Compiler: gcc 10.2.0 Fedora 32 Kernel: 4.18.0-240.10.1.el8_3.x86_64 Compiler: gcc 10.2.1 CentOS Stream 8 Kernel: 4.18.0-240.10.1.el8_3.x86_64 Compiler: gcc 8.4.1 20200928 CentOS 8 Kernel: 4.18.0-240.10.1.el8_3.x86_64 Compiler: gcc 8.3.1 20191121 (Red Hat 8.3.1-5) openSUSE Leap 15 Kernel: 4.18.0-240.10.1.el8_3.x86_64 Compiler: gcc 7.5.0 Fedora 31 Kernel: 4.18.0-240.10.1.el8_3.x86_64 Compiler: gcc 9.3.1 To view detailed results, visit: https://lab.dpdk.org/results/dashboard/patchsets/17085/ UNH-IOL DPDK Community Lab To manage your email subscriptions, visit: https://lab.dpdk.org/results/dashboard/preferences/subscriptions/
[-- Attachment #1: Type: text/plain, Size: 746 bytes --] Test-Label: iol-mellanox-Functional Test-Status: SUCCESS http://dpdk.org/patch/93236 _Functional Testing PASS_ Submitter: Min Hu (Connor) <humin29@huawei.com> Date: Thursday, May 13 2021 01:10:37 DPDK git baseline: Repo:dpdk Branch: master CommitID:7989b7e7da9be588563c809264c9347a35319969 93236 --> functional testing pass Test environment and result as below: Ubuntu 18.04 Kernel: 4.15.0-generic Compiler: gcc 7.4 NIC: Mellanox ConnectX-4 Lx 40000 Mbps Target: x86_64-native-linuxapp-gcc Fail/Total: 0/5 To view detailed results, visit: https://lab.dpdk.org/results/dashboard/patchsets/17085/ UNH-IOL DPDK Community Lab To manage your email subscriptions, visit: https://lab.dpdk.org/results/dashboard/preferences/subscriptions/
[-- Attachment #1: Type: text/plain, Size: 1721 bytes --] Test-Label: iol-mellanox-Performance Test-Status: SUCCESS http://dpdk.org/patch/93236 _Performance Testing PASS_ Submitter: Min Hu (Connor) <humin29@huawei.com> Date: Thursday, May 13 2021 01:10:37 DPDK git baseline: Repo:dpdk Branch: master CommitID:7989b7e7da9be588563c809264c9347a35319969 93236 --> performance testing pass Test environment and result as below: Ubuntu 18.04 Kernel: 4.15.0-generic Compiler: gcc 7.4 NIC: Mellanox ConnectX-5 100000 Mbps Target: x86_64-native-linuxapp-gcc Fail/Total: 0/6 Detail performance results: +------------+---------+-------------------------------------+ | frame_size | txd/rxd | throughput difference from expected | +============+=========+=====================================+ | 64 | 256 | -0.0388% | +------------+---------+-------------------------------------+ | 128 | 256 | -0.03865% | +------------+---------+-------------------------------------+ | 256 | 256 | -0.14979% | +------------+---------+-------------------------------------+ | 512 | 256 | 1.45655% | +------------+---------+-------------------------------------+ | 1024 | 256 | 0.72863% | +------------+---------+-------------------------------------+ | 1518 | 256 | 0.21114% | +------------+---------+-------------------------------------+ To view detailed results, visit: https://lab.dpdk.org/results/dashboard/patchsets/17085/ UNH-IOL DPDK Community Lab To manage your email subscriptions, visit: https://lab.dpdk.org/results/dashboard/preferences/subscriptions/
[-- Attachment #1: Type: text/plain, Size: 2841 bytes --] Test-Label: iol-mellanox-Performance Test-Status: SUCCESS http://dpdk.org/patch/93236 _Performance Testing PASS_ Submitter: Min Hu (Connor) <humin29@huawei.com> Date: Thursday, May 13 2021 01:10:37 DPDK git baseline: Repo:dpdk Branch: master CommitID:7989b7e7da9be588563c809264c9347a35319969 93236 --> performance testing pass Test environment and result as below: Ubuntu 18.04 Kernel: 4.15.0-generic Compiler: gcc 7.4 NIC: Mellanox ConnectX-5 100000 Mbps Target: x86_64-native-linuxapp-gcc Fail/Total: 0/6 Detail performance results: +------------+---------+-------------------------------------+ | frame_size | txd/rxd | throughput difference from expected | +============+=========+=====================================+ | 64 | 256 | -0.0388% | +------------+---------+-------------------------------------+ | 128 | 256 | -0.03865% | +------------+---------+-------------------------------------+ | 256 | 256 | -0.14979% | +------------+---------+-------------------------------------+ | 512 | 256 | 1.45655% | +------------+---------+-------------------------------------+ | 1024 | 256 | 0.72863% | +------------+---------+-------------------------------------+ | 1518 | 256 | 0.21114% | +------------+---------+-------------------------------------+ Ubuntu 18.04 Kernel: 4.15.0-generic Compiler: gcc 7.4 NIC: Mellanox ConnectX-4 Lx 40000 Mbps Target: x86_64-native-linuxapp-gcc Fail/Total: 0/6 Detail performance results: +------------+---------+-------------------------------------+ | frame_size | txd/rxd | throughput difference from expected | +============+=========+=====================================+ | 64 | 256 | 0.7507% | +------------+---------+-------------------------------------+ | 128 | 256 | 1.53406% | +------------+---------+-------------------------------------+ | 256 | 256 | 0.08414% | +------------+---------+-------------------------------------+ | 512 | 256 | -0.08521% | +------------+---------+-------------------------------------+ | 1024 | 256 | -0.21925% | +------------+---------+-------------------------------------+ | 1518 | 256 | -0.23066% | +------------+---------+-------------------------------------+ To view detailed results, visit: https://lab.dpdk.org/results/dashboard/patchsets/17085/ UNH-IOL DPDK Community Lab To manage your email subscriptions, visit: https://lab.dpdk.org/results/dashboard/preferences/subscriptions/
[-- Attachment #1: Type: text/plain, Size: 3961 bytes --] Test-Label: iol-mellanox-Performance Test-Status: SUCCESS http://dpdk.org/patch/93236 _Performance Testing PASS_ Submitter: Min Hu (Connor) <humin29@huawei.com> Date: Thursday, May 13 2021 01:10:37 DPDK git baseline: Repo:dpdk Branch: master CommitID:7989b7e7da9be588563c809264c9347a35319969 93236 --> performance testing pass Test environment and result as below: Ubuntu 18.04 Kernel: 4.15.0-generic Compiler: gcc 7.4 NIC: Mellanox ConnectX-5 100000 Mbps Target: x86_64-native-linuxapp-gcc Fail/Total: 0/6 Detail performance results: +------------+---------+-------------------------------------+ | frame_size | txd/rxd | throughput difference from expected | +============+=========+=====================================+ | 64 | 256 | -0.0388% | +------------+---------+-------------------------------------+ | 128 | 256 | -0.03865% | +------------+---------+-------------------------------------+ | 256 | 256 | -0.14979% | +------------+---------+-------------------------------------+ | 512 | 256 | 1.45655% | +------------+---------+-------------------------------------+ | 1024 | 256 | 0.72863% | +------------+---------+-------------------------------------+ | 1518 | 256 | 0.21114% | +------------+---------+-------------------------------------+ Ubuntu 18.04 Kernel: 4.15.0-generic Compiler: gcc 7.4 NIC: Mellanox ConnectX-4 Lx 40000 Mbps Target: x86_64-native-linuxapp-gcc Fail/Total: 0/6 Detail performance results: +------------+---------+-------------------------------------+ | frame_size | txd/rxd | throughput difference from expected | +============+=========+=====================================+ | 64 | 256 | 0.7507% | +------------+---------+-------------------------------------+ | 128 | 256 | 1.53406% | +------------+---------+-------------------------------------+ | 256 | 256 | 0.08414% | +------------+---------+-------------------------------------+ | 512 | 256 | -0.08521% | +------------+---------+-------------------------------------+ | 1024 | 256 | -0.21925% | +------------+---------+-------------------------------------+ | 1518 | 256 | -0.23066% | +------------+---------+-------------------------------------+ Ubuntu 18.04 Kernel: 4.15.0-generic Compiler: gcc 7.4 NIC: Mellanox ConnectX-4 Lx 25000 Mbps Target: x86_64-native-linuxapp-gcc Fail/Total: 0/6 Detail performance results: +------------+---------+-------------------------------------+ | frame_size | txd/rxd | throughput difference from expected | +============+=========+=====================================+ | 64 | 256 | -0.09895% | +------------+---------+-------------------------------------+ | 128 | 256 | 0.06565% | +------------+---------+-------------------------------------+ | 256 | 256 | -1.54067% | +------------+---------+-------------------------------------+ | 512 | 256 | -0.01712% | +------------+---------+-------------------------------------+ | 1024 | 256 | 0.0% | +------------+---------+-------------------------------------+ | 1518 | 256 | -0.24606% | +------------+---------+-------------------------------------+ To view detailed results, visit: https://lab.dpdk.org/results/dashboard/patchsets/17085/ UNH-IOL DPDK Community Lab To manage your email subscriptions, visit: https://lab.dpdk.org/results/dashboard/preferences/subscriptions/
[-- Attachment #1: Type: text/plain, Size: 892 bytes --] Test-Label: iol-mellanox-Functional Test-Status: SUCCESS http://dpdk.org/patch/93236 _Functional Testing PASS_ Submitter: Min Hu (Connor) <humin29@huawei.com> Date: Thursday, May 13 2021 01:10:37 DPDK git baseline: Repo:dpdk Branch: master CommitID:7989b7e7da9be588563c809264c9347a35319969 93236 --> functional testing pass Test environment and result as below: Ubuntu 18.04 Kernel: 4.15.0-generic Compiler: gcc 7.4 NIC: Mellanox ConnectX-4 Lx 40000 Mbps Target: x86_64-native-linuxapp-gcc Fail/Total: 0/5 Ubuntu 18.04 Kernel: 4.15.0-generic Compiler: gcc 7.4 NIC: Mellanox ConnectX-4 Lx 25000 Mbps Target: x86_64-native-linuxapp-gcc Fail/Total: 0/5 To view detailed results, visit: https://lab.dpdk.org/results/dashboard/patchsets/17085/ UNH-IOL DPDK Community Lab To manage your email subscriptions, visit: https://lab.dpdk.org/results/dashboard/preferences/subscriptions/
[-- Attachment #1: Type: text/plain, Size: 980 bytes --] Test-Label: iol-intel-Functional Test-Status: SUCCESS http://dpdk.org/patch/93236 _Functional Testing PASS_ Submitter: Min Hu (Connor) <humin29@huawei.com> Date: Thursday, May 13 2021 01:10:37 DPDK git baseline: Repo:dpdk Branch: master CommitID:7989b7e7da9be588563c809264c9347a35319969 93236 --> functional testing pass Test environment and result as below: Ubuntu 18.04 Kernel: 4.15.0-generic Compiler: gcc 7.4 NIC: Intel Corporation Ethernet Converged Network Adapter 82599ES 10000 Mbps Target: x86_64-native-linuxapp-gcc Fail/Total: 0/5 Ubuntu 18.04 ARM Kernel: 4.15.0-132-generic Compiler: gcc 7.5 NIC: Arm Intel Corporation Ethernet Converged Network Adapter XL710-QDA2 40000 Mbps Target: x86_64-native-linuxapp-gcc Fail/Total: 0/5 To view detailed results, visit: https://lab.dpdk.org/results/dashboard/patchsets/17085/ UNH-IOL DPDK Community Lab To manage your email subscriptions, visit: https://lab.dpdk.org/results/dashboard/preferences/subscriptions/
[-- Attachment #1: Type: text/plain, Size: 1047 bytes --] Test-Label: iol-mellanox-Functional Test-Status: SUCCESS http://dpdk.org/patch/93236 _Functional Testing PASS_ Submitter: Min Hu (Connor) <humin29@huawei.com> Date: Thursday, May 13 2021 01:10:37 DPDK git baseline: Repo:dpdk Branch: master CommitID:7989b7e7da9be588563c809264c9347a35319969 93236 --> functional testing pass Test environment and result as below: Ubuntu 18.04 Kernel: 4.15.0-generic Compiler: gcc 7.4 NIC: Mellanox ConnectX-4 Lx 40000 Mbps Target: x86_64-native-linuxapp-gcc Fail/Total: 0/5 Ubuntu 18.04 Kernel: 4.15.0-generic Compiler: gcc 7.4 NIC: Mellanox ConnectX-4 Lx 25000 Mbps Target: x86_64-native-linuxapp-gcc Fail/Total: 0/5 Ubuntu 18.04 ARM Kernel: 4.15.0-132-generic Compiler: gcc 7.5 NIC: Arm Mellanox ConnectX-5 10000 Mbps Target: x86_64-native-linuxapp-gcc Fail/Total: 0/4 To view detailed results, visit: https://lab.dpdk.org/results/dashboard/patchsets/17085/ UNH-IOL DPDK Community Lab To manage your email subscriptions, visit: https://lab.dpdk.org/results/dashboard/preferences/subscriptions/
[-- Attachment #1: Type: text/plain, Size: 4838 bytes --] Test-Label: iol-mellanox-Performance Test-Status: SUCCESS http://dpdk.org/patch/93236 _Performance Testing PASS_ Submitter: Min Hu (Connor) <humin29@huawei.com> Date: Thursday, May 13 2021 01:10:37 DPDK git baseline: Repo:dpdk Branch: master CommitID:7989b7e7da9be588563c809264c9347a35319969 93236 --> performance testing pass Test environment and result as below: Ubuntu 18.04 Kernel: 4.15.0-generic Compiler: gcc 7.4 NIC: Mellanox ConnectX-5 100000 Mbps Target: x86_64-native-linuxapp-gcc Fail/Total: 0/6 Detail performance results: +------------+---------+-------------------------------------+ | frame_size | txd/rxd | throughput difference from expected | +============+=========+=====================================+ | 64 | 256 | -0.0388% | +------------+---------+-------------------------------------+ | 128 | 256 | -0.03865% | +------------+---------+-------------------------------------+ | 256 | 256 | -0.14979% | +------------+---------+-------------------------------------+ | 512 | 256 | 1.45655% | +------------+---------+-------------------------------------+ | 1024 | 256 | 0.72863% | +------------+---------+-------------------------------------+ | 1518 | 256 | 0.21114% | +------------+---------+-------------------------------------+ Ubuntu 18.04 Kernel: 4.15.0-generic Compiler: gcc 7.4 NIC: Mellanox ConnectX-4 Lx 40000 Mbps Target: x86_64-native-linuxapp-gcc Fail/Total: 0/6 Detail performance results: +------------+---------+-------------------------------------+ | frame_size | txd/rxd | throughput difference from expected | +============+=========+=====================================+ | 64 | 256 | 0.7507% | +------------+---------+-------------------------------------+ | 128 | 256 | 1.53406% | +------------+---------+-------------------------------------+ | 256 | 256 | 0.08414% | +------------+---------+-------------------------------------+ | 512 | 256 | -0.08521% | +------------+---------+-------------------------------------+ | 1024 | 256 | -0.21925% | +------------+---------+-------------------------------------+ | 1518 | 256 | -0.23066% | +------------+---------+-------------------------------------+ Ubuntu 18.04 Kernel: 4.15.0-generic Compiler: gcc 7.4 NIC: Mellanox ConnectX-4 Lx 25000 Mbps Target: x86_64-native-linuxapp-gcc Fail/Total: 0/6 Detail performance results: +------------+---------+-------------------------------------+ | frame_size | txd/rxd | throughput difference from expected | +============+=========+=====================================+ | 64 | 256 | -0.09895% | +------------+---------+-------------------------------------+ | 128 | 256 | 0.06565% | +------------+---------+-------------------------------------+ | 256 | 256 | -1.54067% | +------------+---------+-------------------------------------+ | 512 | 256 | -0.01712% | +------------+---------+-------------------------------------+ | 1024 | 256 | 0.0% | +------------+---------+-------------------------------------+ | 1518 | 256 | -0.24606% | +------------+---------+-------------------------------------+ Ubuntu 18.04 ARM Kernel: 4.15.0-132-generic Compiler: gcc 7.5 NIC: Arm Mellanox ConnectX-5 10000 Mbps Target: x86_64-native-linuxapp-gcc Fail/Total: 0/4 Detail performance results: +------------+---------+-------------------------------------+ | frame_size | txd/rxd | throughput difference from expected | +============+=========+=====================================+ | 64 | 128 | 0.11796% | +------------+---------+-------------------------------------+ | 64 | 256 | -0.06446% | +------------+---------+-------------------------------------+ | 64 | 512 | 1.82077% | +------------+---------+-------------------------------------+ | 64 | 2048 | -4.73786% | +------------+---------+-------------------------------------+ To view detailed results, visit: https://lab.dpdk.org/results/dashboard/patchsets/17085/ UNH-IOL DPDK Community Lab To manage your email subscriptions, visit: https://lab.dpdk.org/results/dashboard/preferences/subscriptions/
[-- Attachment #1: Type: text/plain, Size: 1923 bytes --] Test-Label: iol-intel-Performance Test-Status: SUCCESS http://dpdk.org/patch/93236 _Performance Testing PASS_ Submitter: Min Hu (Connor) <humin29@huawei.com> Date: Thursday, May 13 2021 01:10:37 DPDK git baseline: Repo:dpdk Branch: master CommitID:7989b7e7da9be588563c809264c9347a35319969 93236 --> performance testing pass Test environment and result as below: Ubuntu 18.04 Kernel: 4.15.0-generic Compiler: gcc 7.4 NIC: Intel Corporation Ethernet Converged Network Adapter 82599ES 10000 Mbps Target: x86_64-native-linuxapp-gcc Fail/Total: 0/2 Detail performance results: +------------+---------+-------------------------------------+ | frame_size | txd/rxd | throughput difference from expected | +============+=========+=====================================+ | 64 | 512 | -0.12442% | +------------+---------+-------------------------------------+ | 64 | 2048 | 0.84619% | +------------+---------+-------------------------------------+ Ubuntu 18.04 ARM Kernel: 4.15.0-132-generic Compiler: gcc 7.5 NIC: Arm Intel Corporation Ethernet Converged Network Adapter XL710-QDA2 40000 Mbps Target: x86_64-native-linuxapp-gcc Fail/Total: 0/2 Detail performance results: +------------+---------+-------------------------------------+ | frame_size | txd/rxd | throughput difference from expected | +============+=========+=====================================+ | 64 | 512 | -0.34164% | +------------+---------+-------------------------------------+ | 64 | 2048 | -0.02853% | +------------+---------+-------------------------------------+ To view detailed results, visit: https://lab.dpdk.org/results/dashboard/patchsets/17085/ UNH-IOL DPDK Community Lab To manage your email subscriptions, visit: https://lab.dpdk.org/results/dashboard/preferences/subscriptions/