Test-Label: checkpatch Test-Status: SUCCESS http://dpdk.org/patch/93251 _coding style OK_
[-- Attachment #1: Type: text/plain, Size: 1244 bytes --] Test-Label: iol-intel-Performance Test-Status: SUCCESS http://dpdk.org/patch/93251 _Performance Testing PASS_ Submitter: Li Zhang <lizh@nvidia.com> Date: Thursday, May 13 2021 08:35:44 DPDK git baseline: Repo:dpdk Branch: master CommitID:7989b7e7da9be588563c809264c9347a35319969 93251 --> performance testing pass Test environment and result as below: Ubuntu 18.04 Kernel: 4.15.0-generic Compiler: gcc 7.4 NIC: Intel Corporation Ethernet Converged Network Adapter 82599ES 10000 Mbps Target: x86_64-native-linuxapp-gcc Fail/Total: 0/2 Detail performance results: +------------+---------+-------------------------------------+ | frame_size | txd/rxd | throughput difference from expected | +============+=========+=====================================+ | 64 | 512 | -0.203% | +------------+---------+-------------------------------------+ | 64 | 2048 | 0.58105% | +------------+---------+-------------------------------------+ To view detailed results, visit: https://lab.dpdk.org/results/dashboard/patchsets/17092/ UNH-IOL DPDK Community Lab To manage your email subscriptions, visit: https://lab.dpdk.org/results/dashboard/preferences/subscriptions/
[-- Attachment #1: Type: text/plain, Size: 771 bytes --] Test-Label: iol-intel-Functional Test-Status: SUCCESS http://dpdk.org/patch/93251 _Functional Testing PASS_ Submitter: Li Zhang <lizh@nvidia.com> Date: Thursday, May 13 2021 08:35:44 DPDK git baseline: Repo:dpdk Branch: master CommitID:7989b7e7da9be588563c809264c9347a35319969 93251 --> functional testing pass Test environment and result as below: Ubuntu 18.04 Kernel: 4.15.0-generic Compiler: gcc 7.4 NIC: Intel Corporation Ethernet Converged Network Adapter 82599ES 10000 Mbps Target: x86_64-native-linuxapp-gcc Fail/Total: 0/5 To view detailed results, visit: https://lab.dpdk.org/results/dashboard/patchsets/17092/ UNH-IOL DPDK Community Lab To manage your email subscriptions, visit: https://lab.dpdk.org/results/dashboard/preferences/subscriptions/
[-- Attachment #1: Type: text/plain, Size: 4627 bytes --] Test-Label: iol-testing Test-Status: SUCCESS http://dpdk.org/patch/93251 _Testing PASS_ Submitter: Li Zhang <lizh@nvidia.com> Date: Thursday, May 13 2021 08:35:44 DPDK git baseline: Repo:dpdk Branch: master CommitID:7989b7e7da9be588563c809264c9347a35319969 93251 --> testing pass Test environment and result as below: +---------------------+----------------------+-------------------+--------------------+----------------+ | Environment | dpdk_mingw64_compile | dpdk_compile_spdk | dpdk_meson_compile | dpdk_unit_test | +=====================+======================+===================+====================+================+ | Windows Server 2019 | PASS | SKIPPED | PASS | SKIPPED | +---------------------+----------------------+-------------------+--------------------+----------------+ | Ubuntu 18.04 | SKIPPED | PASS | PASS | PASS | +---------------------+----------------------+-------------------+--------------------+----------------+ | Fedora 31 | SKIPPED | SKIPPED | PASS | SKIPPED | +---------------------+----------------------+-------------------+--------------------+----------------+ | CentOS 8 | SKIPPED | SKIPPED | PASS | SKIPPED | +---------------------+----------------------+-------------------+--------------------+----------------+ | Ubuntu 20.04 | SKIPPED | SKIPPED | PASS | SKIPPED | +---------------------+----------------------+-------------------+--------------------+----------------+ | Ubuntu 18.04 ARM | SKIPPED | SKIPPED | PASS | SKIPPED | +---------------------+----------------------+-------------------+--------------------+----------------+ | Fedora 32 | SKIPPED | SKIPPED | PASS | SKIPPED | +---------------------+----------------------+-------------------+--------------------+----------------+ | RHEL 7 | SKIPPED | SKIPPED | PASS | SKIPPED | +---------------------+----------------------+-------------------+--------------------+----------------+ | RHEL8 | SKIPPED | SKIPPED | PASS | SKIPPED | +---------------------+----------------------+-------------------+--------------------+----------------+ | openSUSE Leap 15 | SKIPPED | SKIPPED | PASS | SKIPPED | +---------------------+----------------------+-------------------+--------------------+----------------+ | Arch Linux | SKIPPED | SKIPPED | PASS | SKIPPED | +---------------------+----------------------+-------------------+--------------------+----------------+ | CentOS Stream 8 | SKIPPED | SKIPPED | PASS | SKIPPED | +---------------------+----------------------+-------------------+--------------------+----------------+ | FreeBSD 11.2 | SKIPPED | SKIPPED | PASS | SKIPPED | +---------------------+----------------------+-------------------+--------------------+----------------+ Windows Server 2019 Kernel: 10.0 Compiler: clang 9.0 and gcc 8.1.0 (MinGW) Ubuntu 18.04 Kernel: 4.18.0-240.10.1.el8_3.x86_64 Compiler: gcc 7.5.0-3ubuntu1~18.04 Fedora 31 Kernel: 4.18.0-240.10.1.el8_3.x86_64 Compiler: gcc 9.3.1 CentOS 8 Kernel: 4.18.0-240.10.1.el8_3.x86_64 Compiler: gcc 8.3.1 20191121 (Red Hat 8.3.1-5) Ubuntu 20.04 Kernel: 4.18.0-240.10.1.el8_3.x86_64 Compiler: gcc 9.3.0-17ubuntu1~20.04 Ubuntu 18.04 ARM Kernel: 5.4.0-53-generic Compiler: gcc 9.3 Fedora 32 Kernel: 4.18.0-240.10.1.el8_3.x86_64 Compiler: gcc 10.2.1 RHEL 7 Kernel: 4.18.0-240.10.1.el8_3.x86_64 Compiler: gcc 4.8.5 20150623 (Red Hat 4.8.5-44) RHEL8 Kernel: 4.18.0-240.10.1.el8_3.x86_64 Compiler: gcc 8.3.1 20191121 (Red Hat 8.3.1-5) openSUSE Leap 15 Kernel: 4.18.0-240.10.1.el8_3.x86_64 Compiler: gcc 7.5.0 Arch Linux Kernel: 4.18.0-240.10.1.el8_3.x86_64 Compiler: gcc 10.2.0 CentOS Stream 8 Kernel: 4.18.0-240.10.1.el8_3.x86_64 Compiler: gcc 8.4.1 20200928 FreeBSD 11.2 Kernel: 11.2 Compiler: gcc 8.3 To view detailed results, visit: https://lab.dpdk.org/results/dashboard/patchsets/17092/ UNH-IOL DPDK Community Lab To manage your email subscriptions, visit: https://lab.dpdk.org/results/dashboard/preferences/subscriptions/
[-- Attachment #1: Type: text/plain, Size: 2261 bytes --] Test-Label: iol-abi-testing Test-Status: SUCCESS http://dpdk.org/patch/93251 _Testing PASS_ Submitter: Li Zhang <lizh@nvidia.com> Date: Thursday, May 13 2021 08:35:44 DPDK git baseline: Repo:dpdk Branch: master CommitID:7989b7e7da9be588563c809264c9347a35319969 93251 --> testing pass Test environment and result as below: +------------------+----------+ | Environment | abi_test | +==================+==========+ | Ubuntu 18.04 ARM | PASS | +------------------+----------+ | Ubuntu 20.04 | PASS | +------------------+----------+ | RHEL8 | PASS | +------------------+----------+ | Ubuntu 18.04 | PASS | +------------------+----------+ | Arch Linux | PASS | +------------------+----------+ | Fedora 31 | PASS | +------------------+----------+ | RHEL 7 | PASS | +------------------+----------+ | Fedora 32 | PASS | +------------------+----------+ | CentOS 8 | PASS | +------------------+----------+ | openSUSE Leap 15 | PASS | +------------------+----------+ | CentOS Stream 8 | PASS | +------------------+----------+ Ubuntu 18.04 ARM Kernel: 5.4.0-53-generic Compiler: gcc 9.3 Ubuntu 20.04 Kernel: 4.18.0-240.10.1.el8_3.x86_64 Compiler: gcc 9.3.0-17ubuntu1~20.04 RHEL8 Kernel: 4.18.0-240.10.1.el8_3.x86_64 Compiler: gcc 8.3.1 20191121 (Red Hat 8.3.1-5) Ubuntu 18.04 Kernel: 4.18.0-240.10.1.el8_3.x86_64 Compiler: gcc 7.5.0-3ubuntu1~18.04 Arch Linux Kernel: 4.18.0-240.10.1.el8_3.x86_64 Compiler: gcc 10.2.0 Fedora 31 Kernel: 4.18.0-240.10.1.el8_3.x86_64 Compiler: gcc 9.3.1 RHEL 7 Kernel: 4.18.0-240.10.1.el8_3.x86_64 Compiler: gcc 4.8.5 20150623 (Red Hat 4.8.5-44) Fedora 32 Kernel: 4.18.0-240.10.1.el8_3.x86_64 Compiler: gcc 10.2.1 CentOS 8 Kernel: 4.18.0-240.10.1.el8_3.x86_64 Compiler: gcc 8.3.1 20191121 (Red Hat 8.3.1-5) openSUSE Leap 15 Kernel: 4.18.0-240.10.1.el8_3.x86_64 Compiler: gcc 7.5.0 CentOS Stream 8 Kernel: 4.18.0-240.10.1.el8_3.x86_64 Compiler: gcc 8.4.1 20200928 To view detailed results, visit: https://lab.dpdk.org/results/dashboard/patchsets/17092/ UNH-IOL DPDK Community Lab To manage your email subscriptions, visit: https://lab.dpdk.org/results/dashboard/preferences/subscriptions/
[-- Attachment #1: Type: text/plain, Size: 736 bytes --] Test-Label: iol-mellanox-Functional Test-Status: SUCCESS http://dpdk.org/patch/93251 _Functional Testing PASS_ Submitter: Li Zhang <lizh@nvidia.com> Date: Thursday, May 13 2021 08:35:44 DPDK git baseline: Repo:dpdk Branch: master CommitID:7989b7e7da9be588563c809264c9347a35319969 93251 --> functional testing pass Test environment and result as below: Ubuntu 18.04 Kernel: 4.15.0-generic Compiler: gcc 7.4 NIC: Mellanox ConnectX-4 Lx 40000 Mbps Target: x86_64-native-linuxapp-gcc Fail/Total: 0/5 To view detailed results, visit: https://lab.dpdk.org/results/dashboard/patchsets/17092/ UNH-IOL DPDK Community Lab To manage your email subscriptions, visit: https://lab.dpdk.org/results/dashboard/preferences/subscriptions/
[-- Attachment #1: Type: text/plain, Size: 1711 bytes --] Test-Label: iol-mellanox-Performance Test-Status: SUCCESS http://dpdk.org/patch/93251 _Performance Testing PASS_ Submitter: Li Zhang <lizh@nvidia.com> Date: Thursday, May 13 2021 08:35:44 DPDK git baseline: Repo:dpdk Branch: master CommitID:7989b7e7da9be588563c809264c9347a35319969 93251 --> performance testing pass Test environment and result as below: Ubuntu 18.04 Kernel: 4.15.0-generic Compiler: gcc 7.4 NIC: Mellanox ConnectX-5 100000 Mbps Target: x86_64-native-linuxapp-gcc Fail/Total: 0/6 Detail performance results: +------------+---------+-------------------------------------+ | frame_size | txd/rxd | throughput difference from expected | +============+=========+=====================================+ | 64 | 256 | -0.05012% | +------------+---------+-------------------------------------+ | 128 | 256 | -0.19327% | +------------+---------+-------------------------------------+ | 256 | 256 | 0.0724% | +------------+---------+-------------------------------------+ | 512 | 256 | 0.90146% | +------------+---------+-------------------------------------+ | 1024 | 256 | 0.27112% | +------------+---------+-------------------------------------+ | 1518 | 256 | -0.01173% | +------------+---------+-------------------------------------+ To view detailed results, visit: https://lab.dpdk.org/results/dashboard/patchsets/17092/ UNH-IOL DPDK Community Lab To manage your email subscriptions, visit: https://lab.dpdk.org/results/dashboard/preferences/subscriptions/
[-- Attachment #1: Type: text/plain, Size: 2831 bytes --] Test-Label: iol-mellanox-Performance Test-Status: SUCCESS http://dpdk.org/patch/93251 _Performance Testing PASS_ Submitter: Li Zhang <lizh@nvidia.com> Date: Thursday, May 13 2021 08:35:44 DPDK git baseline: Repo:dpdk Branch: master CommitID:7989b7e7da9be588563c809264c9347a35319969 93251 --> performance testing pass Test environment and result as below: Ubuntu 18.04 Kernel: 4.15.0-generic Compiler: gcc 7.4 NIC: Mellanox ConnectX-5 100000 Mbps Target: x86_64-native-linuxapp-gcc Fail/Total: 0/6 Detail performance results: +------------+---------+-------------------------------------+ | frame_size | txd/rxd | throughput difference from expected | +============+=========+=====================================+ | 64 | 256 | -0.05012% | +------------+---------+-------------------------------------+ | 128 | 256 | -0.19327% | +------------+---------+-------------------------------------+ | 256 | 256 | 0.0724% | +------------+---------+-------------------------------------+ | 512 | 256 | 0.90146% | +------------+---------+-------------------------------------+ | 1024 | 256 | 0.27112% | +------------+---------+-------------------------------------+ | 1518 | 256 | -0.01173% | +------------+---------+-------------------------------------+ Ubuntu 18.04 Kernel: 4.15.0-generic Compiler: gcc 7.4 NIC: Mellanox ConnectX-4 Lx 40000 Mbps Target: x86_64-native-linuxapp-gcc Fail/Total: 0/6 Detail performance results: +------------+---------+-------------------------------------+ | frame_size | txd/rxd | throughput difference from expected | +============+=========+=====================================+ | 64 | 256 | 0.79351% | +------------+---------+-------------------------------------+ | 128 | 256 | 0.18317% | +------------+---------+-------------------------------------+ | 256 | 256 | 0.07317% | +------------+---------+-------------------------------------+ | 512 | 256 | 0.29291% | +------------+---------+-------------------------------------+ | 1024 | 256 | -0.15661% | +------------+---------+-------------------------------------+ | 1518 | 256 | -0.01538% | +------------+---------+-------------------------------------+ To view detailed results, visit: https://lab.dpdk.org/results/dashboard/patchsets/17092/ UNH-IOL DPDK Community Lab To manage your email subscriptions, visit: https://lab.dpdk.org/results/dashboard/preferences/subscriptions/
[-- Attachment #1: Type: text/plain, Size: 3951 bytes --] Test-Label: iol-mellanox-Performance Test-Status: SUCCESS http://dpdk.org/patch/93251 _Performance Testing PASS_ Submitter: Li Zhang <lizh@nvidia.com> Date: Thursday, May 13 2021 08:35:44 DPDK git baseline: Repo:dpdk Branch: master CommitID:7989b7e7da9be588563c809264c9347a35319969 93251 --> performance testing pass Test environment and result as below: Ubuntu 18.04 Kernel: 4.15.0-generic Compiler: gcc 7.4 NIC: Mellanox ConnectX-5 100000 Mbps Target: x86_64-native-linuxapp-gcc Fail/Total: 0/6 Detail performance results: +------------+---------+-------------------------------------+ | frame_size | txd/rxd | throughput difference from expected | +============+=========+=====================================+ | 64 | 256 | -0.05012% | +------------+---------+-------------------------------------+ | 128 | 256 | -0.19327% | +------------+---------+-------------------------------------+ | 256 | 256 | 0.0724% | +------------+---------+-------------------------------------+ | 512 | 256 | 0.90146% | +------------+---------+-------------------------------------+ | 1024 | 256 | 0.27112% | +------------+---------+-------------------------------------+ | 1518 | 256 | -0.01173% | +------------+---------+-------------------------------------+ Ubuntu 18.04 Kernel: 4.15.0-generic Compiler: gcc 7.4 NIC: Mellanox ConnectX-4 Lx 40000 Mbps Target: x86_64-native-linuxapp-gcc Fail/Total: 0/6 Detail performance results: +------------+---------+-------------------------------------+ | frame_size | txd/rxd | throughput difference from expected | +============+=========+=====================================+ | 64 | 256 | 0.79351% | +------------+---------+-------------------------------------+ | 128 | 256 | 0.18317% | +------------+---------+-------------------------------------+ | 256 | 256 | 0.07317% | +------------+---------+-------------------------------------+ | 512 | 256 | 0.29291% | +------------+---------+-------------------------------------+ | 1024 | 256 | -0.15661% | +------------+---------+-------------------------------------+ | 1518 | 256 | -0.01538% | +------------+---------+-------------------------------------+ Ubuntu 18.04 Kernel: 4.15.0-generic Compiler: gcc 7.4 NIC: Mellanox ConnectX-4 Lx 25000 Mbps Target: x86_64-native-linuxapp-gcc Fail/Total: 0/6 Detail performance results: +------------+---------+-------------------------------------+ | frame_size | txd/rxd | throughput difference from expected | +============+=========+=====================================+ | 64 | 256 | -0.05654% | +------------+---------+-------------------------------------+ | 128 | 256 | 0.08638% | +------------+---------+-------------------------------------+ | 256 | 256 | -0.1288% | +------------+---------+-------------------------------------+ | 512 | 256 | -0.22256% | +------------+---------+-------------------------------------+ | 1024 | 256 | 0.2175% | +------------+---------+-------------------------------------+ | 1518 | 256 | -0.24606% | +------------+---------+-------------------------------------+ To view detailed results, visit: https://lab.dpdk.org/results/dashboard/patchsets/17092/ UNH-IOL DPDK Community Lab To manage your email subscriptions, visit: https://lab.dpdk.org/results/dashboard/preferences/subscriptions/
[-- Attachment #1: Type: text/plain, Size: 882 bytes --] Test-Label: iol-mellanox-Functional Test-Status: SUCCESS http://dpdk.org/patch/93251 _Functional Testing PASS_ Submitter: Li Zhang <lizh@nvidia.com> Date: Thursday, May 13 2021 08:35:44 DPDK git baseline: Repo:dpdk Branch: master CommitID:7989b7e7da9be588563c809264c9347a35319969 93251 --> functional testing pass Test environment and result as below: Ubuntu 18.04 Kernel: 4.15.0-generic Compiler: gcc 7.4 NIC: Mellanox ConnectX-4 Lx 40000 Mbps Target: x86_64-native-linuxapp-gcc Fail/Total: 0/5 Ubuntu 18.04 Kernel: 4.15.0-generic Compiler: gcc 7.4 NIC: Mellanox ConnectX-4 Lx 25000 Mbps Target: x86_64-native-linuxapp-gcc Fail/Total: 0/5 To view detailed results, visit: https://lab.dpdk.org/results/dashboard/patchsets/17092/ UNH-IOL DPDK Community Lab To manage your email subscriptions, visit: https://lab.dpdk.org/results/dashboard/preferences/subscriptions/
[-- Attachment #1: Type: text/plain, Size: 970 bytes --] Test-Label: iol-intel-Functional Test-Status: SUCCESS http://dpdk.org/patch/93251 _Functional Testing PASS_ Submitter: Li Zhang <lizh@nvidia.com> Date: Thursday, May 13 2021 08:35:44 DPDK git baseline: Repo:dpdk Branch: master CommitID:7989b7e7da9be588563c809264c9347a35319969 93251 --> functional testing pass Test environment and result as below: Ubuntu 18.04 Kernel: 4.15.0-generic Compiler: gcc 7.4 NIC: Intel Corporation Ethernet Converged Network Adapter 82599ES 10000 Mbps Target: x86_64-native-linuxapp-gcc Fail/Total: 0/5 Ubuntu 18.04 ARM Kernel: 4.15.0-132-generic Compiler: gcc 7.5 NIC: Arm Intel Corporation Ethernet Converged Network Adapter XL710-QDA2 40000 Mbps Target: x86_64-native-linuxapp-gcc Fail/Total: 0/5 To view detailed results, visit: https://lab.dpdk.org/results/dashboard/patchsets/17092/ UNH-IOL DPDK Community Lab To manage your email subscriptions, visit: https://lab.dpdk.org/results/dashboard/preferences/subscriptions/
[-- Attachment #1: Type: text/plain, Size: 1913 bytes --] Test-Label: iol-intel-Performance Test-Status: SUCCESS http://dpdk.org/patch/93251 _Performance Testing PASS_ Submitter: Li Zhang <lizh@nvidia.com> Date: Thursday, May 13 2021 08:35:44 DPDK git baseline: Repo:dpdk Branch: master CommitID:7989b7e7da9be588563c809264c9347a35319969 93251 --> performance testing pass Test environment and result as below: Ubuntu 18.04 Kernel: 4.15.0-generic Compiler: gcc 7.4 NIC: Intel Corporation Ethernet Converged Network Adapter 82599ES 10000 Mbps Target: x86_64-native-linuxapp-gcc Fail/Total: 0/2 Detail performance results: +------------+---------+-------------------------------------+ | frame_size | txd/rxd | throughput difference from expected | +============+=========+=====================================+ | 64 | 512 | -0.203% | +------------+---------+-------------------------------------+ | 64 | 2048 | 0.58105% | +------------+---------+-------------------------------------+ Ubuntu 18.04 ARM Kernel: 4.15.0-132-generic Compiler: gcc 7.5 NIC: Arm Intel Corporation Ethernet Converged Network Adapter XL710-QDA2 40000 Mbps Target: x86_64-native-linuxapp-gcc Fail/Total: 0/2 Detail performance results: +------------+---------+-------------------------------------+ | frame_size | txd/rxd | throughput difference from expected | +============+=========+=====================================+ | 64 | 512 | 0.02847% | +------------+---------+-------------------------------------+ | 64 | 2048 | 0.02853% | +------------+---------+-------------------------------------+ To view detailed results, visit: https://lab.dpdk.org/results/dashboard/patchsets/17092/ UNH-IOL DPDK Community Lab To manage your email subscriptions, visit: https://lab.dpdk.org/results/dashboard/preferences/subscriptions/
[-- Attachment #1: Type: text/plain, Size: 4828 bytes --] Test-Label: iol-mellanox-Performance Test-Status: SUCCESS http://dpdk.org/patch/93251 _Performance Testing PASS_ Submitter: Li Zhang <lizh@nvidia.com> Date: Thursday, May 13 2021 08:35:44 DPDK git baseline: Repo:dpdk Branch: master CommitID:7989b7e7da9be588563c809264c9347a35319969 93251 --> performance testing pass Test environment and result as below: Ubuntu 18.04 Kernel: 4.15.0-generic Compiler: gcc 7.4 NIC: Mellanox ConnectX-5 100000 Mbps Target: x86_64-native-linuxapp-gcc Fail/Total: 0/6 Detail performance results: +------------+---------+-------------------------------------+ | frame_size | txd/rxd | throughput difference from expected | +============+=========+=====================================+ | 64 | 256 | -0.05012% | +------------+---------+-------------------------------------+ | 128 | 256 | -0.19327% | +------------+---------+-------------------------------------+ | 256 | 256 | 0.0724% | +------------+---------+-------------------------------------+ | 512 | 256 | 0.90146% | +------------+---------+-------------------------------------+ | 1024 | 256 | 0.27112% | +------------+---------+-------------------------------------+ | 1518 | 256 | -0.01173% | +------------+---------+-------------------------------------+ Ubuntu 18.04 Kernel: 4.15.0-generic Compiler: gcc 7.4 NIC: Mellanox ConnectX-4 Lx 40000 Mbps Target: x86_64-native-linuxapp-gcc Fail/Total: 0/6 Detail performance results: +------------+---------+-------------------------------------+ | frame_size | txd/rxd | throughput difference from expected | +============+=========+=====================================+ | 64 | 256 | 0.79351% | +------------+---------+-------------------------------------+ | 128 | 256 | 0.18317% | +------------+---------+-------------------------------------+ | 256 | 256 | 0.07317% | +------------+---------+-------------------------------------+ | 512 | 256 | 0.29291% | +------------+---------+-------------------------------------+ | 1024 | 256 | -0.15661% | +------------+---------+-------------------------------------+ | 1518 | 256 | -0.01538% | +------------+---------+-------------------------------------+ Ubuntu 18.04 Kernel: 4.15.0-generic Compiler: gcc 7.4 NIC: Mellanox ConnectX-4 Lx 25000 Mbps Target: x86_64-native-linuxapp-gcc Fail/Total: 0/6 Detail performance results: +------------+---------+-------------------------------------+ | frame_size | txd/rxd | throughput difference from expected | +============+=========+=====================================+ | 64 | 256 | -0.05654% | +------------+---------+-------------------------------------+ | 128 | 256 | 0.08638% | +------------+---------+-------------------------------------+ | 256 | 256 | -0.1288% | +------------+---------+-------------------------------------+ | 512 | 256 | -0.22256% | +------------+---------+-------------------------------------+ | 1024 | 256 | 0.2175% | +------------+---------+-------------------------------------+ | 1518 | 256 | -0.24606% | +------------+---------+-------------------------------------+ Ubuntu 18.04 ARM Kernel: 4.15.0-132-generic Compiler: gcc 7.5 NIC: Arm Mellanox ConnectX-5 10000 Mbps Target: x86_64-native-linuxapp-gcc Fail/Total: 0/4 Detail performance results: +------------+---------+-------------------------------------+ | frame_size | txd/rxd | throughput difference from expected | +============+=========+=====================================+ | 64 | 128 | 0.16086% | +------------+---------+-------------------------------------+ | 64 | 256 | 0.63386% | +------------+---------+-------------------------------------+ | 64 | 512 | 2.05111% | +------------+---------+-------------------------------------+ | 64 | 2048 | -2.76107% | +------------+---------+-------------------------------------+ To view detailed results, visit: https://lab.dpdk.org/results/dashboard/patchsets/17092/ UNH-IOL DPDK Community Lab To manage your email subscriptions, visit: https://lab.dpdk.org/results/dashboard/preferences/subscriptions/
[-- Attachment #1: Type: text/plain, Size: 1037 bytes --] Test-Label: iol-mellanox-Functional Test-Status: SUCCESS http://dpdk.org/patch/93251 _Functional Testing PASS_ Submitter: Li Zhang <lizh@nvidia.com> Date: Thursday, May 13 2021 08:35:44 DPDK git baseline: Repo:dpdk Branch: master CommitID:7989b7e7da9be588563c809264c9347a35319969 93251 --> functional testing pass Test environment and result as below: Ubuntu 18.04 Kernel: 4.15.0-generic Compiler: gcc 7.4 NIC: Mellanox ConnectX-4 Lx 40000 Mbps Target: x86_64-native-linuxapp-gcc Fail/Total: 0/5 Ubuntu 18.04 Kernel: 4.15.0-generic Compiler: gcc 7.4 NIC: Mellanox ConnectX-4 Lx 25000 Mbps Target: x86_64-native-linuxapp-gcc Fail/Total: 0/5 Ubuntu 18.04 ARM Kernel: 4.15.0-132-generic Compiler: gcc 7.5 NIC: Arm Mellanox ConnectX-5 10000 Mbps Target: x86_64-native-linuxapp-gcc Fail/Total: 0/4 To view detailed results, visit: https://lab.dpdk.org/results/dashboard/patchsets/17092/ UNH-IOL DPDK Community Lab To manage your email subscriptions, visit: https://lab.dpdk.org/results/dashboard/preferences/subscriptions/