* [dpdk-test-report] |SUCCESS| pw93269 [PATCH] crypto/zuc: fix gcc11 maybe-uninitialized warnings
@ 2021-05-17 3:26 dpdklab
0 siblings, 0 replies; 14+ messages in thread
From: dpdklab @ 2021-05-17 3:26 UTC (permalink / raw)
To: Ali Alnubani, Test Report; +Cc: dpdk-test-reports
[-- Attachment #1: Type: text/plain, Size: 2838 bytes --]
Test-Label: iol-mellanox-Performance
Test-Status: SUCCESS
http://dpdk.org/patch/93269
_Performance Testing PASS_
Submitter: Kevin Traynor <ktraynor@redhat.com>
Date: Friday, May 14 2021 15:08:34
DPDK git baseline: Repo:dpdk
Branch: master
CommitID:7989b7e7da9be588563c809264c9347a35319969
93269 --> performance testing pass
Test environment and result as below:
Ubuntu 18.04
Kernel: 4.15.0-generic
Compiler: gcc 7.4
NIC: Mellanox ConnectX-5 100000 Mbps
Target: x86_64-native-linuxapp-gcc
Fail/Total: 0/6
Detail performance results:
+------------+---------+-------------------------------------+
| frame_size | txd/rxd | throughput difference from expected |
+============+=========+=====================================+
| 64 | 256 | 0.11802% |
+------------+---------+-------------------------------------+
| 128 | 256 | 0.28531% |
+------------+---------+-------------------------------------+
| 256 | 256 | 0.11234% |
+------------+---------+-------------------------------------+
| 512 | 256 | 0.24868% |
+------------+---------+-------------------------------------+
| 1024 | 256 | 1.076% |
+------------+---------+-------------------------------------+
| 1518 | 256 | -0.07038% |
+------------+---------+-------------------------------------+
Ubuntu 18.04
Kernel: 4.15.0-generic
Compiler: gcc 7.4
NIC: Mellanox ConnectX-4 Lx 25000 Mbps
Target: x86_64-native-linuxapp-gcc
Fail/Total: 0/6
Detail performance results:
+------------+---------+-------------------------------------+
| frame_size | txd/rxd | throughput difference from expected |
+============+=========+=====================================+
| 64 | 256 | 0.59371% |
+------------+---------+-------------------------------------+
| 128 | 256 | 0.11403% |
+------------+---------+-------------------------------------+
| 256 | 256 | 0.16348% |
+------------+---------+-------------------------------------+
| 512 | 256 | 0.0% |
+------------+---------+-------------------------------------+
| 1024 | 256 | -0.06692% |
+------------+---------+-------------------------------------+
| 1518 | 256 | -0.19685% |
+------------+---------+-------------------------------------+
To view detailed results, visit:
https://lab.dpdk.org/results/dashboard/patchsets/17106/
UNH-IOL DPDK Community Lab
To manage your email subscriptions, visit:
https://lab.dpdk.org/results/dashboard/preferences/subscriptions/
^ permalink raw reply [flat|nested] 14+ messages in thread
* [dpdk-test-report] |SUCCESS| pw93269 [PATCH] crypto/zuc: fix gcc11 maybe-uninitialized warnings
@ 2021-05-18 15:53 dpdklab
0 siblings, 0 replies; 14+ messages in thread
From: dpdklab @ 2021-05-18 15:53 UTC (permalink / raw)
To: Ali Alnubani, Test Report; +Cc: dpdk-test-reports
[-- Attachment #1: Type: text/plain, Size: 1044 bytes --]
Test-Label: iol-mellanox-Functional
Test-Status: SUCCESS
http://dpdk.org/patch/93269
_Functional Testing PASS_
Submitter: Kevin Traynor <ktraynor@redhat.com>
Date: Friday, May 14 2021 15:08:34
DPDK git baseline: Repo:dpdk
Branch: master
CommitID:7989b7e7da9be588563c809264c9347a35319969
93269 --> functional testing pass
Test environment and result as below:
Ubuntu 18.04
Kernel: 4.15.0-generic
Compiler: gcc 7.4
NIC: Mellanox ConnectX-4 Lx 40000 Mbps
Target: x86_64-native-linuxapp-gcc
Fail/Total: 0/5
Ubuntu 18.04
Kernel: 4.15.0-generic
Compiler: gcc 7.4
NIC: Mellanox ConnectX-4 Lx 25000 Mbps
Target: x86_64-native-linuxapp-gcc
Fail/Total: 0/5
Ubuntu 18.04 ARM
Kernel: 4.15.0-132-generic
Compiler: gcc 7.5
NIC: Arm Mellanox ConnectX-5 10000 Mbps
Target: x86_64-native-linuxapp-gcc
Fail/Total: 0/4
To view detailed results, visit:
https://lab.dpdk.org/results/dashboard/patchsets/17106/
UNH-IOL DPDK Community Lab
To manage your email subscriptions, visit:
https://lab.dpdk.org/results/dashboard/preferences/subscriptions/
^ permalink raw reply [flat|nested] 14+ messages in thread
* [dpdk-test-report] |SUCCESS| pw93269 [PATCH] crypto/zuc: fix gcc11 maybe-uninitialized warnings
@ 2021-05-18 13:35 dpdklab
0 siblings, 0 replies; 14+ messages in thread
From: dpdklab @ 2021-05-18 13:35 UTC (permalink / raw)
To: Test Report; +Cc: dpdk-test-reports
[-- Attachment #1: Type: text/plain, Size: 977 bytes --]
Test-Label: iol-intel-Functional
Test-Status: SUCCESS
http://dpdk.org/patch/93269
_Functional Testing PASS_
Submitter: Kevin Traynor <ktraynor@redhat.com>
Date: Friday, May 14 2021 15:08:34
DPDK git baseline: Repo:dpdk
Branch: master
CommitID:7989b7e7da9be588563c809264c9347a35319969
93269 --> functional testing pass
Test environment and result as below:
Ubuntu 18.04
Kernel: 4.15.0-generic
Compiler: gcc 7.4
NIC: Intel Corporation Ethernet Converged Network Adapter 82599ES 10000 Mbps
Target: x86_64-native-linuxapp-gcc
Fail/Total: 0/5
Ubuntu 18.04 ARM
Kernel: 4.15.0-132-generic
Compiler: gcc 7.5
NIC: Arm Intel Corporation Ethernet Converged Network Adapter XL710-QDA2 40000 Mbps
Target: x86_64-native-linuxapp-gcc
Fail/Total: 0/5
To view detailed results, visit:
https://lab.dpdk.org/results/dashboard/patchsets/17106/
UNH-IOL DPDK Community Lab
To manage your email subscriptions, visit:
https://lab.dpdk.org/results/dashboard/preferences/subscriptions/
^ permalink raw reply [flat|nested] 14+ messages in thread
* [dpdk-test-report] |SUCCESS| pw93269 [PATCH] crypto/zuc: fix gcc11 maybe-uninitialized warnings
@ 2021-05-18 13:19 dpdklab
0 siblings, 0 replies; 14+ messages in thread
From: dpdklab @ 2021-05-18 13:19 UTC (permalink / raw)
To: Ali Alnubani, Test Report; +Cc: dpdk-test-reports
[-- Attachment #1: Type: text/plain, Size: 4835 bytes --]
Test-Label: iol-mellanox-Performance
Test-Status: SUCCESS
http://dpdk.org/patch/93269
_Performance Testing PASS_
Submitter: Kevin Traynor <ktraynor@redhat.com>
Date: Friday, May 14 2021 15:08:34
DPDK git baseline: Repo:dpdk
Branch: master
CommitID:7989b7e7da9be588563c809264c9347a35319969
93269 --> performance testing pass
Test environment and result as below:
Ubuntu 18.04
Kernel: 4.15.0-generic
Compiler: gcc 7.4
NIC: Mellanox ConnectX-5 100000 Mbps
Target: x86_64-native-linuxapp-gcc
Fail/Total: 0/6
Detail performance results:
+------------+---------+-------------------------------------+
| frame_size | txd/rxd | throughput difference from expected |
+============+=========+=====================================+
| 64 | 256 | 0.11802% |
+------------+---------+-------------------------------------+
| 128 | 256 | 0.28531% |
+------------+---------+-------------------------------------+
| 256 | 256 | 0.11234% |
+------------+---------+-------------------------------------+
| 512 | 256 | 0.24868% |
+------------+---------+-------------------------------------+
| 1024 | 256 | 1.076% |
+------------+---------+-------------------------------------+
| 1518 | 256 | -0.07038% |
+------------+---------+-------------------------------------+
Ubuntu 18.04
Kernel: 4.15.0-generic
Compiler: gcc 7.4
NIC: Mellanox ConnectX-4 Lx 25000 Mbps
Target: x86_64-native-linuxapp-gcc
Fail/Total: 0/6
Detail performance results:
+------------+---------+-------------------------------------+
| frame_size | txd/rxd | throughput difference from expected |
+============+=========+=====================================+
| 64 | 256 | 0.59371% |
+------------+---------+-------------------------------------+
| 128 | 256 | 0.11403% |
+------------+---------+-------------------------------------+
| 256 | 256 | 0.16348% |
+------------+---------+-------------------------------------+
| 512 | 256 | 0.0% |
+------------+---------+-------------------------------------+
| 1024 | 256 | -0.06692% |
+------------+---------+-------------------------------------+
| 1518 | 256 | -0.19685% |
+------------+---------+-------------------------------------+
Ubuntu 18.04
Kernel: 4.15.0-generic
Compiler: gcc 7.4
NIC: Mellanox ConnectX-4 Lx 40000 Mbps
Target: x86_64-native-linuxapp-gcc
Fail/Total: 0/6
Detail performance results:
+------------+---------+-------------------------------------+
| frame_size | txd/rxd | throughput difference from expected |
+============+=========+=====================================+
| 64 | 256 | 1.26449% |
+------------+---------+-------------------------------------+
| 128 | 256 | 0.85575% |
+------------+---------+-------------------------------------+
| 256 | 256 | 0.4317% |
+------------+---------+-------------------------------------+
| 512 | 256 | -0.11184% |
+------------+---------+-------------------------------------+
| 1024 | 256 | -0.13573% |
+------------+---------+-------------------------------------+
| 1518 | 256 | -0.03076% |
+------------+---------+-------------------------------------+
Ubuntu 18.04 ARM
Kernel: 4.15.0-132-generic
Compiler: gcc 7.5
NIC: Arm Mellanox ConnectX-5 10000 Mbps
Target: x86_64-native-linuxapp-gcc
Fail/Total: 0/4
Detail performance results:
+------------+---------+-------------------------------------+
| frame_size | txd/rxd | throughput difference from expected |
+============+=========+=====================================+
| 64 | 128 | -4.73995% |
+------------+---------+-------------------------------------+
| 64 | 256 | -4.3511% |
+------------+---------+-------------------------------------+
| 64 | 512 | -4.12416% |
+------------+---------+-------------------------------------+
| 64 | 2048 | -4.98496% |
+------------+---------+-------------------------------------+
To view detailed results, visit:
https://lab.dpdk.org/results/dashboard/patchsets/17106/
UNH-IOL DPDK Community Lab
To manage your email subscriptions, visit:
https://lab.dpdk.org/results/dashboard/preferences/subscriptions/
^ permalink raw reply [flat|nested] 14+ messages in thread
* [dpdk-test-report] |SUCCESS| pw93269 [PATCH] crypto/zuc: fix gcc11 maybe-uninitialized warnings
@ 2021-05-18 12:54 dpdklab
0 siblings, 0 replies; 14+ messages in thread
From: dpdklab @ 2021-05-18 12:54 UTC (permalink / raw)
To: Test Report; +Cc: dpdk-test-reports
[-- Attachment #1: Type: text/plain, Size: 1920 bytes --]
Test-Label: iol-intel-Performance
Test-Status: SUCCESS
http://dpdk.org/patch/93269
_Performance Testing PASS_
Submitter: Kevin Traynor <ktraynor@redhat.com>
Date: Friday, May 14 2021 15:08:34
DPDK git baseline: Repo:dpdk
Branch: master
CommitID:7989b7e7da9be588563c809264c9347a35319969
93269 --> performance testing pass
Test environment and result as below:
Ubuntu 18.04
Kernel: 4.15.0-generic
Compiler: gcc 7.4
NIC: Intel Corporation Ethernet Converged Network Adapter 82599ES 10000 Mbps
Target: x86_64-native-linuxapp-gcc
Fail/Total: 0/2
Detail performance results:
+------------+---------+-------------------------------------+
| frame_size | txd/rxd | throughput difference from expected |
+============+=========+=====================================+
| 64 | 512 | -0.41474% |
+------------+---------+-------------------------------------+
| 64 | 2048 | 0.39207% |
+------------+---------+-------------------------------------+
Ubuntu 18.04 ARM
Kernel: 4.15.0-132-generic
Compiler: gcc 7.5
NIC: Arm Intel Corporation Ethernet Converged Network Adapter XL710-QDA2 40000 Mbps
Target: x86_64-native-linuxapp-gcc
Fail/Total: 0/2
Detail performance results:
+------------+---------+-------------------------------------+
| frame_size | txd/rxd | throughput difference from expected |
+============+=========+=====================================+
| 64 | 512 | -0.24199% |
+------------+---------+-------------------------------------+
| 64 | 2048 | -0.05707% |
+------------+---------+-------------------------------------+
To view detailed results, visit:
https://lab.dpdk.org/results/dashboard/patchsets/17106/
UNH-IOL DPDK Community Lab
To manage your email subscriptions, visit:
https://lab.dpdk.org/results/dashboard/preferences/subscriptions/
^ permalink raw reply [flat|nested] 14+ messages in thread
* [dpdk-test-report] |SUCCESS| pw93269 [PATCH] crypto/zuc: fix gcc11 maybe-uninitialized warnings
@ 2021-05-17 3:38 dpdklab
0 siblings, 0 replies; 14+ messages in thread
From: dpdklab @ 2021-05-17 3:38 UTC (permalink / raw)
To: Ali Alnubani, Test Report; +Cc: dpdk-test-reports
[-- Attachment #1: Type: text/plain, Size: 3958 bytes --]
Test-Label: iol-mellanox-Performance
Test-Status: SUCCESS
http://dpdk.org/patch/93269
_Performance Testing PASS_
Submitter: Kevin Traynor <ktraynor@redhat.com>
Date: Friday, May 14 2021 15:08:34
DPDK git baseline: Repo:dpdk
Branch: master
CommitID:7989b7e7da9be588563c809264c9347a35319969
93269 --> performance testing pass
Test environment and result as below:
Ubuntu 18.04
Kernel: 4.15.0-generic
Compiler: gcc 7.4
NIC: Mellanox ConnectX-5 100000 Mbps
Target: x86_64-native-linuxapp-gcc
Fail/Total: 0/6
Detail performance results:
+------------+---------+-------------------------------------+
| frame_size | txd/rxd | throughput difference from expected |
+============+=========+=====================================+
| 64 | 256 | 0.11802% |
+------------+---------+-------------------------------------+
| 128 | 256 | 0.28531% |
+------------+---------+-------------------------------------+
| 256 | 256 | 0.11234% |
+------------+---------+-------------------------------------+
| 512 | 256 | 0.24868% |
+------------+---------+-------------------------------------+
| 1024 | 256 | 1.076% |
+------------+---------+-------------------------------------+
| 1518 | 256 | -0.07038% |
+------------+---------+-------------------------------------+
Ubuntu 18.04
Kernel: 4.15.0-generic
Compiler: gcc 7.4
NIC: Mellanox ConnectX-4 Lx 25000 Mbps
Target: x86_64-native-linuxapp-gcc
Fail/Total: 0/6
Detail performance results:
+------------+---------+-------------------------------------+
| frame_size | txd/rxd | throughput difference from expected |
+============+=========+=====================================+
| 64 | 256 | 0.59371% |
+------------+---------+-------------------------------------+
| 128 | 256 | 0.11403% |
+------------+---------+-------------------------------------+
| 256 | 256 | 0.16348% |
+------------+---------+-------------------------------------+
| 512 | 256 | 0.0% |
+------------+---------+-------------------------------------+
| 1024 | 256 | -0.06692% |
+------------+---------+-------------------------------------+
| 1518 | 256 | -0.19685% |
+------------+---------+-------------------------------------+
Ubuntu 18.04
Kernel: 4.15.0-generic
Compiler: gcc 7.4
NIC: Mellanox ConnectX-4 Lx 40000 Mbps
Target: x86_64-native-linuxapp-gcc
Fail/Total: 0/6
Detail performance results:
+------------+---------+-------------------------------------+
| frame_size | txd/rxd | throughput difference from expected |
+============+=========+=====================================+
| 64 | 256 | 1.26449% |
+------------+---------+-------------------------------------+
| 128 | 256 | 0.85575% |
+------------+---------+-------------------------------------+
| 256 | 256 | 0.4317% |
+------------+---------+-------------------------------------+
| 512 | 256 | -0.11184% |
+------------+---------+-------------------------------------+
| 1024 | 256 | -0.13573% |
+------------+---------+-------------------------------------+
| 1518 | 256 | -0.03076% |
+------------+---------+-------------------------------------+
To view detailed results, visit:
https://lab.dpdk.org/results/dashboard/patchsets/17106/
UNH-IOL DPDK Community Lab
To manage your email subscriptions, visit:
https://lab.dpdk.org/results/dashboard/preferences/subscriptions/
^ permalink raw reply [flat|nested] 14+ messages in thread
* [dpdk-test-report] |SUCCESS| pw93269 [PATCH] crypto/zuc: fix gcc11 maybe-uninitialized warnings
@ 2021-05-17 3:13 dpdklab
0 siblings, 0 replies; 14+ messages in thread
From: dpdklab @ 2021-05-17 3:13 UTC (permalink / raw)
To: Ali Alnubani, Test Report; +Cc: dpdk-test-reports
[-- Attachment #1: Type: text/plain, Size: 1718 bytes --]
Test-Label: iol-mellanox-Performance
Test-Status: SUCCESS
http://dpdk.org/patch/93269
_Performance Testing PASS_
Submitter: Kevin Traynor <ktraynor@redhat.com>
Date: Friday, May 14 2021 15:08:34
DPDK git baseline: Repo:dpdk
Branch: master
CommitID:7989b7e7da9be588563c809264c9347a35319969
93269 --> performance testing pass
Test environment and result as below:
Ubuntu 18.04
Kernel: 4.15.0-generic
Compiler: gcc 7.4
NIC: Mellanox ConnectX-5 100000 Mbps
Target: x86_64-native-linuxapp-gcc
Fail/Total: 0/6
Detail performance results:
+------------+---------+-------------------------------------+
| frame_size | txd/rxd | throughput difference from expected |
+============+=========+=====================================+
| 64 | 256 | 0.11802% |
+------------+---------+-------------------------------------+
| 128 | 256 | 0.28531% |
+------------+---------+-------------------------------------+
| 256 | 256 | 0.11234% |
+------------+---------+-------------------------------------+
| 512 | 256 | 0.24868% |
+------------+---------+-------------------------------------+
| 1024 | 256 | 1.076% |
+------------+---------+-------------------------------------+
| 1518 | 256 | -0.07038% |
+------------+---------+-------------------------------------+
To view detailed results, visit:
https://lab.dpdk.org/results/dashboard/patchsets/17106/
UNH-IOL DPDK Community Lab
To manage your email subscriptions, visit:
https://lab.dpdk.org/results/dashboard/preferences/subscriptions/
^ permalink raw reply [flat|nested] 14+ messages in thread
* [dpdk-test-report] |SUCCESS| pw93269 [PATCH] crypto/zuc: fix gcc11 maybe-uninitialized warnings
@ 2021-05-17 3:01 dpdklab
0 siblings, 0 replies; 14+ messages in thread
From: dpdklab @ 2021-05-17 3:01 UTC (permalink / raw)
To: Ali Alnubani, Test Report; +Cc: dpdk-test-reports
[-- Attachment #1: Type: text/plain, Size: 889 bytes --]
Test-Label: iol-mellanox-Functional
Test-Status: SUCCESS
http://dpdk.org/patch/93269
_Functional Testing PASS_
Submitter: Kevin Traynor <ktraynor@redhat.com>
Date: Friday, May 14 2021 15:08:34
DPDK git baseline: Repo:dpdk
Branch: master
CommitID:7989b7e7da9be588563c809264c9347a35319969
93269 --> functional testing pass
Test environment and result as below:
Ubuntu 18.04
Kernel: 4.15.0-generic
Compiler: gcc 7.4
NIC: Mellanox ConnectX-4 Lx 40000 Mbps
Target: x86_64-native-linuxapp-gcc
Fail/Total: 0/5
Ubuntu 18.04
Kernel: 4.15.0-generic
Compiler: gcc 7.4
NIC: Mellanox ConnectX-4 Lx 25000 Mbps
Target: x86_64-native-linuxapp-gcc
Fail/Total: 0/5
To view detailed results, visit:
https://lab.dpdk.org/results/dashboard/patchsets/17106/
UNH-IOL DPDK Community Lab
To manage your email subscriptions, visit:
https://lab.dpdk.org/results/dashboard/preferences/subscriptions/
^ permalink raw reply [flat|nested] 14+ messages in thread
* [dpdk-test-report] |SUCCESS| pw93269 [PATCH] crypto/zuc: fix gcc11 maybe-uninitialized warnings
@ 2021-05-17 2:20 dpdklab
0 siblings, 0 replies; 14+ messages in thread
From: dpdklab @ 2021-05-17 2:20 UTC (permalink / raw)
To: Ali Alnubani, Test Report; +Cc: dpdk-test-reports
[-- Attachment #1: Type: text/plain, Size: 743 bytes --]
Test-Label: iol-mellanox-Functional
Test-Status: SUCCESS
http://dpdk.org/patch/93269
_Functional Testing PASS_
Submitter: Kevin Traynor <ktraynor@redhat.com>
Date: Friday, May 14 2021 15:08:34
DPDK git baseline: Repo:dpdk
Branch: master
CommitID:7989b7e7da9be588563c809264c9347a35319969
93269 --> functional testing pass
Test environment and result as below:
Ubuntu 18.04
Kernel: 4.15.0-generic
Compiler: gcc 7.4
NIC: Mellanox ConnectX-4 Lx 40000 Mbps
Target: x86_64-native-linuxapp-gcc
Fail/Total: 0/5
To view detailed results, visit:
https://lab.dpdk.org/results/dashboard/patchsets/17106/
UNH-IOL DPDK Community Lab
To manage your email subscriptions, visit:
https://lab.dpdk.org/results/dashboard/preferences/subscriptions/
^ permalink raw reply [flat|nested] 14+ messages in thread
* [dpdk-test-report] |SUCCESS| pw93269 [PATCH] crypto/zuc: fix gcc11 maybe-uninitialized warnings
@ 2021-05-14 15:48 dpdklab
0 siblings, 0 replies; 14+ messages in thread
From: dpdklab @ 2021-05-14 15:48 UTC (permalink / raw)
To: Test Report; +Cc: dpdk-test-reports
[-- Attachment #1: Type: text/plain, Size: 2268 bytes --]
Test-Label: iol-abi-testing
Test-Status: SUCCESS
http://dpdk.org/patch/93269
_Testing PASS_
Submitter: Kevin Traynor <ktraynor@redhat.com>
Date: Friday, May 14 2021 15:08:34
DPDK git baseline: Repo:dpdk
Branch: master
CommitID:7989b7e7da9be588563c809264c9347a35319969
93269 --> testing pass
Test environment and result as below:
+------------------+----------+
| Environment | abi_test |
+==================+==========+
| Ubuntu 18.04 ARM | PASS |
+------------------+----------+
| RHEL8 | PASS |
+------------------+----------+
| Arch Linux | PASS |
+------------------+----------+
| Ubuntu 20.04 | PASS |
+------------------+----------+
| RHEL 7 | PASS |
+------------------+----------+
| Ubuntu 18.04 | PASS |
+------------------+----------+
| Fedora 32 | PASS |
+------------------+----------+
| CentOS Stream 8 | PASS |
+------------------+----------+
| Fedora 31 | PASS |
+------------------+----------+
| CentOS 8 | PASS |
+------------------+----------+
| openSUSE Leap 15 | PASS |
+------------------+----------+
Ubuntu 18.04 ARM
Kernel: 5.4.0-53-generic
Compiler: gcc 9.3
RHEL8
Kernel: 4.18.0-240.10.1.el8_3.x86_64
Compiler: gcc 8.3.1 20191121 (Red Hat 8.3.1-5)
Arch Linux
Kernel: 4.18.0-240.10.1.el8_3.x86_64
Compiler: gcc 10.2.0
Ubuntu 20.04
Kernel: 4.18.0-240.10.1.el8_3.x86_64
Compiler: gcc 9.3.0-17ubuntu1~20.04
RHEL 7
Kernel: 4.18.0-240.10.1.el8_3.x86_64
Compiler: gcc 4.8.5 20150623 (Red Hat 4.8.5-44)
Ubuntu 18.04
Kernel: 4.18.0-240.10.1.el8_3.x86_64
Compiler: gcc 7.5.0-3ubuntu1~18.04
Fedora 32
Kernel: 4.18.0-240.10.1.el8_3.x86_64
Compiler: gcc 10.2.1
CentOS Stream 8
Kernel: 4.18.0-240.10.1.el8_3.x86_64
Compiler: gcc 8.4.1 20200928
Fedora 31
Kernel: 4.18.0-240.10.1.el8_3.x86_64
Compiler: gcc 9.3.1
CentOS 8
Kernel: 4.18.0-240.10.1.el8_3.x86_64
Compiler: gcc 8.3.1 20191121 (Red Hat 8.3.1-5)
openSUSE Leap 15
Kernel: 4.18.0-240.10.1.el8_3.x86_64
Compiler: gcc 7.5.0
To view detailed results, visit:
https://lab.dpdk.org/results/dashboard/patchsets/17106/
UNH-IOL DPDK Community Lab
To manage your email subscriptions, visit:
https://lab.dpdk.org/results/dashboard/preferences/subscriptions/
^ permalink raw reply [flat|nested] 14+ messages in thread
* [dpdk-test-report] |SUCCESS| pw93269 [PATCH] crypto/zuc: fix gcc11 maybe-uninitialized warnings
@ 2021-05-14 15:47 dpdklab
0 siblings, 0 replies; 14+ messages in thread
From: dpdklab @ 2021-05-14 15:47 UTC (permalink / raw)
To: Test Report; +Cc: dpdk-test-reports
[-- Attachment #1: Type: text/plain, Size: 4634 bytes --]
Test-Label: iol-testing
Test-Status: SUCCESS
http://dpdk.org/patch/93269
_Testing PASS_
Submitter: Kevin Traynor <ktraynor@redhat.com>
Date: Friday, May 14 2021 15:08:34
DPDK git baseline: Repo:dpdk
Branch: master
CommitID:7989b7e7da9be588563c809264c9347a35319969
93269 --> testing pass
Test environment and result as below:
+---------------------+----------------------+--------------------+-------------------+----------------+
| Environment | dpdk_mingw64_compile | dpdk_meson_compile | dpdk_compile_spdk | dpdk_unit_test |
+=====================+======================+====================+===================+================+
| Windows Server 2019 | PASS | PASS | SKIPPED | SKIPPED |
+---------------------+----------------------+--------------------+-------------------+----------------+
| Fedora 31 | SKIPPED | PASS | SKIPPED | SKIPPED |
+---------------------+----------------------+--------------------+-------------------+----------------+
| Ubuntu 18.04 ARM | SKIPPED | PASS | SKIPPED | SKIPPED |
+---------------------+----------------------+--------------------+-------------------+----------------+
| FreeBSD 11.2 | SKIPPED | PASS | SKIPPED | SKIPPED |
+---------------------+----------------------+--------------------+-------------------+----------------+
| CentOS 8 | SKIPPED | PASS | SKIPPED | SKIPPED |
+---------------------+----------------------+--------------------+-------------------+----------------+
| CentOS Stream 8 | SKIPPED | PASS | SKIPPED | SKIPPED |
+---------------------+----------------------+--------------------+-------------------+----------------+
| Ubuntu 18.04 | SKIPPED | PASS | PASS | PASS |
+---------------------+----------------------+--------------------+-------------------+----------------+
| Fedora 32 | SKIPPED | PASS | SKIPPED | SKIPPED |
+---------------------+----------------------+--------------------+-------------------+----------------+
| openSUSE Leap 15 | SKIPPED | PASS | SKIPPED | SKIPPED |
+---------------------+----------------------+--------------------+-------------------+----------------+
| RHEL8 | SKIPPED | PASS | SKIPPED | SKIPPED |
+---------------------+----------------------+--------------------+-------------------+----------------+
| Arch Linux | SKIPPED | PASS | SKIPPED | SKIPPED |
+---------------------+----------------------+--------------------+-------------------+----------------+
| RHEL 7 | SKIPPED | PASS | SKIPPED | SKIPPED |
+---------------------+----------------------+--------------------+-------------------+----------------+
| Ubuntu 20.04 | SKIPPED | PASS | SKIPPED | SKIPPED |
+---------------------+----------------------+--------------------+-------------------+----------------+
Windows Server 2019
Kernel: 10.0
Compiler: clang 9.0 and gcc 8.1.0 (MinGW)
Fedora 31
Kernel: 4.18.0-240.10.1.el8_3.x86_64
Compiler: gcc 9.3.1
Ubuntu 18.04 ARM
Kernel: 5.4.0-53-generic
Compiler: gcc 9.3
FreeBSD 11.2
Kernel: 11.2
Compiler: gcc 8.3
CentOS 8
Kernel: 4.18.0-240.10.1.el8_3.x86_64
Compiler: gcc 8.3.1 20191121 (Red Hat 8.3.1-5)
CentOS Stream 8
Kernel: 4.18.0-240.10.1.el8_3.x86_64
Compiler: gcc 8.4.1 20200928
Ubuntu 18.04
Kernel: 4.18.0-240.10.1.el8_3.x86_64
Compiler: gcc 7.5.0-3ubuntu1~18.04
Fedora 32
Kernel: 4.18.0-240.10.1.el8_3.x86_64
Compiler: gcc 10.2.1
openSUSE Leap 15
Kernel: 4.18.0-240.10.1.el8_3.x86_64
Compiler: gcc 7.5.0
RHEL8
Kernel: 4.18.0-240.10.1.el8_3.x86_64
Compiler: gcc 8.3.1 20191121 (Red Hat 8.3.1-5)
Arch Linux
Kernel: 4.18.0-240.10.1.el8_3.x86_64
Compiler: gcc 10.2.0
RHEL 7
Kernel: 4.18.0-240.10.1.el8_3.x86_64
Compiler: gcc 4.8.5 20150623 (Red Hat 4.8.5-44)
Ubuntu 20.04
Kernel: 4.18.0-240.10.1.el8_3.x86_64
Compiler: gcc 9.3.0-17ubuntu1~20.04
To view detailed results, visit:
https://lab.dpdk.org/results/dashboard/patchsets/17106/
UNH-IOL DPDK Community Lab
To manage your email subscriptions, visit:
https://lab.dpdk.org/results/dashboard/preferences/subscriptions/
^ permalink raw reply [flat|nested] 14+ messages in thread
* [dpdk-test-report] |SUCCESS| pw93269 [PATCH] crypto/zuc: fix gcc11 maybe-uninitialized warnings
@ 2021-05-14 15:47 dpdklab
0 siblings, 0 replies; 14+ messages in thread
From: dpdklab @ 2021-05-14 15:47 UTC (permalink / raw)
To: Test Report; +Cc: dpdk-test-reports
[-- Attachment #1: Type: text/plain, Size: 1251 bytes --]
Test-Label: iol-intel-Performance
Test-Status: SUCCESS
http://dpdk.org/patch/93269
_Performance Testing PASS_
Submitter: Kevin Traynor <ktraynor@redhat.com>
Date: Friday, May 14 2021 15:08:34
DPDK git baseline: Repo:dpdk
Branch: master
CommitID:7989b7e7da9be588563c809264c9347a35319969
93269 --> performance testing pass
Test environment and result as below:
Ubuntu 18.04
Kernel: 4.15.0-generic
Compiler: gcc 7.4
NIC: Intel Corporation Ethernet Converged Network Adapter 82599ES 10000 Mbps
Target: x86_64-native-linuxapp-gcc
Fail/Total: 0/2
Detail performance results:
+------------+---------+-------------------------------------+
| frame_size | txd/rxd | throughput difference from expected |
+============+=========+=====================================+
| 64 | 512 | -0.41474% |
+------------+---------+-------------------------------------+
| 64 | 2048 | 0.39207% |
+------------+---------+-------------------------------------+
To view detailed results, visit:
https://lab.dpdk.org/results/dashboard/patchsets/17106/
UNH-IOL DPDK Community Lab
To manage your email subscriptions, visit:
https://lab.dpdk.org/results/dashboard/preferences/subscriptions/
^ permalink raw reply [flat|nested] 14+ messages in thread
* [dpdk-test-report] |SUCCESS| pw93269 [PATCH] crypto/zuc: fix gcc11 maybe-uninitialized warnings
@ 2021-05-14 15:40 dpdklab
0 siblings, 0 replies; 14+ messages in thread
From: dpdklab @ 2021-05-14 15:40 UTC (permalink / raw)
To: Test Report; +Cc: dpdk-test-reports
[-- Attachment #1: Type: text/plain, Size: 778 bytes --]
Test-Label: iol-intel-Functional
Test-Status: SUCCESS
http://dpdk.org/patch/93269
_Functional Testing PASS_
Submitter: Kevin Traynor <ktraynor@redhat.com>
Date: Friday, May 14 2021 15:08:34
DPDK git baseline: Repo:dpdk
Branch: master
CommitID:7989b7e7da9be588563c809264c9347a35319969
93269 --> functional testing pass
Test environment and result as below:
Ubuntu 18.04
Kernel: 4.15.0-generic
Compiler: gcc 7.4
NIC: Intel Corporation Ethernet Converged Network Adapter 82599ES 10000 Mbps
Target: x86_64-native-linuxapp-gcc
Fail/Total: 0/5
To view detailed results, visit:
https://lab.dpdk.org/results/dashboard/patchsets/17106/
UNH-IOL DPDK Community Lab
To manage your email subscriptions, visit:
https://lab.dpdk.org/results/dashboard/preferences/subscriptions/
^ permalink raw reply [flat|nested] 14+ messages in thread
* [dpdk-test-report] |SUCCESS| pw93269 [PATCH] crypto/zuc: fix gcc11 maybe-uninitialized warnings
[not found] <20210514150834.227474-1-ktraynor@redhat.com>
@ 2021-05-14 15:09 ` checkpatch
0 siblings, 0 replies; 14+ messages in thread
From: checkpatch @ 2021-05-14 15:09 UTC (permalink / raw)
To: test-report
Test-Label: checkpatch
Test-Status: SUCCESS
http://dpdk.org/patch/93269
_coding style OK_
^ permalink raw reply [flat|nested] 14+ messages in thread
end of thread, other threads:[~2021-05-18 15:53 UTC | newest]
Thread overview: 14+ messages (download: mbox.gz / follow: Atom feed)
-- links below jump to the message on this page --
2021-05-17 3:26 [dpdk-test-report] |SUCCESS| pw93269 [PATCH] crypto/zuc: fix gcc11 maybe-uninitialized warnings dpdklab
-- strict thread matches above, loose matches on Subject: below --
2021-05-18 15:53 dpdklab
2021-05-18 13:35 dpdklab
2021-05-18 13:19 dpdklab
2021-05-18 12:54 dpdklab
2021-05-17 3:38 dpdklab
2021-05-17 3:13 dpdklab
2021-05-17 3:01 dpdklab
2021-05-17 2:20 dpdklab
2021-05-14 15:48 dpdklab
2021-05-14 15:47 dpdklab
2021-05-14 15:47 dpdklab
2021-05-14 15:40 dpdklab
[not found] <20210514150834.227474-1-ktraynor@redhat.com>
2021-05-14 15:09 ` checkpatch
This is a public inbox, see mirroring instructions
for how to clone and mirror all data and code used for this inbox;
as well as URLs for NNTP newsgroup(s).