* [dpdk-test-report] |SUCCESS| pw93297-93298 [PATCH] [v3, 2/2] net/mlx5: remove unnecessary wmb for Memory Region cache
@ 2021-05-18 11:26 dpdklab
0 siblings, 0 replies; 10+ messages in thread
From: dpdklab @ 2021-05-18 11:26 UTC (permalink / raw)
To: Ali Alnubani, Test Report; +Cc: dpdk-test-reports
[-- Attachment #1: Type: text/plain, Size: 3964 bytes --]
Test-Label: iol-mellanox-Performance
Test-Status: SUCCESS
http://dpdk.org/patch/93298
_Performance Testing PASS_
Submitter: Feifei Wang <feifei.wang2@arm.com>
Date: Tuesday, May 18 2021 08:50:58
DPDK git baseline: Repo:dpdk
Branch: master
CommitID:7989b7e7da9be588563c809264c9347a35319969
93297-93298 --> performance testing pass
Test environment and result as below:
Ubuntu 18.04
Kernel: 4.15.0-generic
Compiler: gcc 7.4
NIC: Mellanox ConnectX-4 Lx 25000 Mbps
Target: x86_64-native-linuxapp-gcc
Fail/Total: 0/6
Detail performance results:
+------------+---------+-------------------------------------+
| frame_size | txd/rxd | throughput difference from expected |
+============+=========+=====================================+
| 64 | 256 | -0.40146% |
+------------+---------+-------------------------------------+
| 128 | 256 | -0.12785% |
+------------+---------+-------------------------------------+
| 256 | 256 | -0.32201% |
+------------+---------+-------------------------------------+
| 512 | 256 | -0.44513% |
+------------+---------+-------------------------------------+
| 1024 | 256 | -0.01673% |
+------------+---------+-------------------------------------+
| 1518 | 256 | -0.19685% |
+------------+---------+-------------------------------------+
Ubuntu 18.04
Kernel: 4.15.0-generic
Compiler: gcc 7.4
NIC: Mellanox ConnectX-5 100000 Mbps
Target: x86_64-native-linuxapp-gcc
Fail/Total: 0/6
Detail performance results:
+------------+---------+-------------------------------------+
| frame_size | txd/rxd | throughput difference from expected |
+============+=========+=====================================+
| 64 | 256 | -0.36053% |
+------------+---------+-------------------------------------+
| 128 | 256 | 0.27611% |
+------------+---------+-------------------------------------+
| 256 | 256 | 0.02496% |
+------------+---------+-------------------------------------+
| 512 | 256 | -0.4041% |
+------------+---------+-------------------------------------+
| 1024 | 256 | 0.40668% |
+------------+---------+-------------------------------------+
| 1518 | 256 | -0.03519% |
+------------+---------+-------------------------------------+
Ubuntu 18.04
Kernel: 4.15.0-generic
Compiler: gcc 7.4
NIC: Mellanox ConnectX-4 Lx 40000 Mbps
Target: x86_64-native-linuxapp-gcc
Fail/Total: 0/6
Detail performance results:
+------------+---------+-------------------------------------+
| frame_size | txd/rxd | throughput difference from expected |
+============+=========+=====================================+
| 64 | 256 | 0.45384% |
+------------+---------+-------------------------------------+
| 128 | 256 | -0.41214% |
+------------+---------+-------------------------------------+
| 256 | 256 | 0.12439% |
+------------+---------+-------------------------------------+
| 512 | 256 | -0.10651% |
+------------+---------+-------------------------------------+
| 1024 | 256 | -0.02088% |
+------------+---------+-------------------------------------+
| 1518 | 256 | -0.26142% |
+------------+---------+-------------------------------------+
To view detailed results, visit:
https://lab.dpdk.org/results/dashboard/patchsets/17121/
UNH-IOL DPDK Community Lab
To manage your email subscriptions, visit:
https://lab.dpdk.org/results/dashboard/preferences/subscriptions/
^ permalink raw reply [flat|nested] 10+ messages in thread
* [dpdk-test-report] |SUCCESS| pw93297-93298 [PATCH] [v3, 2/2] net/mlx5: remove unnecessary wmb for Memory Region cache
@ 2021-05-20 2:59 dpdklab
0 siblings, 0 replies; 10+ messages in thread
From: dpdklab @ 2021-05-20 2:59 UTC (permalink / raw)
To: Ali Alnubani, Test Report; +Cc: dpdk-test-reports
[-- Attachment #1: Type: text/plain, Size: 4841 bytes --]
Test-Label: iol-mellanox-Performance
Test-Status: SUCCESS
http://dpdk.org/patch/93298
_Performance Testing PASS_
Submitter: Feifei Wang <feifei.wang2@arm.com>
Date: Tuesday, May 18 2021 08:50:58
DPDK git baseline: Repo:dpdk
Branch: master
CommitID:7989b7e7da9be588563c809264c9347a35319969
93297-93298 --> performance testing pass
Test environment and result as below:
Ubuntu 18.04
Kernel: 4.15.0-generic
Compiler: gcc 7.4
NIC: Mellanox ConnectX-4 Lx 25000 Mbps
Target: x86_64-native-linuxapp-gcc
Fail/Total: 0/6
Detail performance results:
+------------+---------+-------------------------------------+
| frame_size | txd/rxd | throughput difference from expected |
+============+=========+=====================================+
| 64 | 256 | -0.40146% |
+------------+---------+-------------------------------------+
| 128 | 256 | -0.12785% |
+------------+---------+-------------------------------------+
| 256 | 256 | -0.32201% |
+------------+---------+-------------------------------------+
| 512 | 256 | -0.44513% |
+------------+---------+-------------------------------------+
| 1024 | 256 | -0.01673% |
+------------+---------+-------------------------------------+
| 1518 | 256 | -0.19685% |
+------------+---------+-------------------------------------+
Ubuntu 18.04
Kernel: 4.15.0-generic
Compiler: gcc 7.4
NIC: Mellanox ConnectX-5 100000 Mbps
Target: x86_64-native-linuxapp-gcc
Fail/Total: 0/6
Detail performance results:
+------------+---------+-------------------------------------+
| frame_size | txd/rxd | throughput difference from expected |
+============+=========+=====================================+
| 64 | 256 | -0.36053% |
+------------+---------+-------------------------------------+
| 128 | 256 | 0.27611% |
+------------+---------+-------------------------------------+
| 256 | 256 | 0.02496% |
+------------+---------+-------------------------------------+
| 512 | 256 | -0.4041% |
+------------+---------+-------------------------------------+
| 1024 | 256 | 0.40668% |
+------------+---------+-------------------------------------+
| 1518 | 256 | -0.03519% |
+------------+---------+-------------------------------------+
Ubuntu 18.04
Kernel: 4.15.0-generic
Compiler: gcc 7.4
NIC: Mellanox ConnectX-4 Lx 40000 Mbps
Target: x86_64-native-linuxapp-gcc
Fail/Total: 0/6
Detail performance results:
+------------+---------+-------------------------------------+
| frame_size | txd/rxd | throughput difference from expected |
+============+=========+=====================================+
| 64 | 256 | 0.45384% |
+------------+---------+-------------------------------------+
| 128 | 256 | -0.41214% |
+------------+---------+-------------------------------------+
| 256 | 256 | 0.12439% |
+------------+---------+-------------------------------------+
| 512 | 256 | -0.10651% |
+------------+---------+-------------------------------------+
| 1024 | 256 | -0.02088% |
+------------+---------+-------------------------------------+
| 1518 | 256 | -0.26142% |
+------------+---------+-------------------------------------+
Ubuntu 18.04 ARM
Kernel: 4.15.0-132-generic
Compiler: gcc 7.5
NIC: Arm Mellanox ConnectX-5 10000 Mbps
Target: x86_64-native-linuxapp-gcc
Fail/Total: 0/4
Detail performance results:
+------------+---------+-------------------------------------+
| frame_size | txd/rxd | throughput difference from expected |
+============+=========+=====================================+
| 64 | 128 | 0.01072% |
+------------+---------+-------------------------------------+
| 64 | 256 | 0.94542% |
+------------+---------+-------------------------------------+
| 64 | 512 | -1.41494% |
+------------+---------+-------------------------------------+
| 64 | 2048 | -0.10743% |
+------------+---------+-------------------------------------+
To view detailed results, visit:
https://lab.dpdk.org/results/dashboard/patchsets/17121/
UNH-IOL DPDK Community Lab
To manage your email subscriptions, visit:
https://lab.dpdk.org/results/dashboard/preferences/subscriptions/
^ permalink raw reply [flat|nested] 10+ messages in thread
* [dpdk-test-report] |SUCCESS| pw93297-93298 [PATCH] [v3, 2/2] net/mlx5: remove unnecessary wmb for Memory Region cache
@ 2021-05-20 2:33 dpdklab
0 siblings, 0 replies; 10+ messages in thread
From: dpdklab @ 2021-05-20 2:33 UTC (permalink / raw)
To: Test Report; +Cc: dpdk-test-reports
[-- Attachment #1: Type: text/plain, Size: 983 bytes --]
Test-Label: iol-intel-Functional
Test-Status: SUCCESS
http://dpdk.org/patch/93298
_Functional Testing PASS_
Submitter: Feifei Wang <feifei.wang2@arm.com>
Date: Tuesday, May 18 2021 08:50:58
DPDK git baseline: Repo:dpdk
Branch: master
CommitID:7989b7e7da9be588563c809264c9347a35319969
93297-93298 --> functional testing pass
Test environment and result as below:
Ubuntu 18.04
Kernel: 4.15.0-generic
Compiler: gcc 7.4
NIC: Intel Corporation Ethernet Converged Network Adapter 82599ES 10000 Mbps
Target: x86_64-native-linuxapp-gcc
Fail/Total: 0/5
Ubuntu 18.04 ARM
Kernel: 4.15.0-132-generic
Compiler: gcc 7.5
NIC: Arm Intel Corporation Ethernet Converged Network Adapter XL710-QDA2 40000 Mbps
Target: x86_64-native-linuxapp-gcc
Fail/Total: 0/5
To view detailed results, visit:
https://lab.dpdk.org/results/dashboard/patchsets/17121/
UNH-IOL DPDK Community Lab
To manage your email subscriptions, visit:
https://lab.dpdk.org/results/dashboard/preferences/subscriptions/
^ permalink raw reply [flat|nested] 10+ messages in thread
* [dpdk-test-report] |SUCCESS| pw93297-93298 [PATCH] [v3, 2/2] net/mlx5: remove unnecessary wmb for Memory Region cache
@ 2021-05-20 2:18 dpdklab
0 siblings, 0 replies; 10+ messages in thread
From: dpdklab @ 2021-05-20 2:18 UTC (permalink / raw)
To: Test Report; +Cc: dpdk-test-reports
[-- Attachment #1: Type: text/plain, Size: 1926 bytes --]
Test-Label: iol-intel-Performance
Test-Status: SUCCESS
http://dpdk.org/patch/93298
_Performance Testing PASS_
Submitter: Feifei Wang <feifei.wang2@arm.com>
Date: Tuesday, May 18 2021 08:50:58
DPDK git baseline: Repo:dpdk
Branch: master
CommitID:7989b7e7da9be588563c809264c9347a35319969
93297-93298 --> performance testing pass
Test environment and result as below:
Ubuntu 18.04
Kernel: 4.15.0-generic
Compiler: gcc 7.4
NIC: Intel Corporation Ethernet Converged Network Adapter 82599ES 10000 Mbps
Target: x86_64-native-linuxapp-gcc
Fail/Total: 0/2
Detail performance results:
+------------+---------+-------------------------------------+
| frame_size | txd/rxd | throughput difference from expected |
+============+=========+=====================================+
| 64 | 512 | -0.77054% |
+------------+---------+-------------------------------------+
| 64 | 2048 | 0.67695% |
+------------+---------+-------------------------------------+
Ubuntu 18.04 ARM
Kernel: 4.15.0-132-generic
Compiler: gcc 7.5
NIC: Arm Intel Corporation Ethernet Converged Network Adapter XL710-QDA2 40000 Mbps
Target: x86_64-native-linuxapp-gcc
Fail/Total: 0/2
Detail performance results:
+------------+---------+-------------------------------------+
| frame_size | txd/rxd | throughput difference from expected |
+============+=========+=====================================+
| 64 | 512 | -0.15658% |
+------------+---------+-------------------------------------+
| 64 | 2048 | -2.55386% |
+------------+---------+-------------------------------------+
To view detailed results, visit:
https://lab.dpdk.org/results/dashboard/patchsets/17121/
UNH-IOL DPDK Community Lab
To manage your email subscriptions, visit:
https://lab.dpdk.org/results/dashboard/preferences/subscriptions/
^ permalink raw reply [flat|nested] 10+ messages in thread
* [dpdk-test-report] |SUCCESS| pw93297-93298 [PATCH] [v3, 2/2] net/mlx5: remove unnecessary wmb for Memory Region cache
@ 2021-05-18 11:13 dpdklab
0 siblings, 0 replies; 10+ messages in thread
From: dpdklab @ 2021-05-18 11:13 UTC (permalink / raw)
To: Ali Alnubani, Test Report; +Cc: dpdk-test-reports
[-- Attachment #1: Type: text/plain, Size: 2844 bytes --]
Test-Label: iol-mellanox-Performance
Test-Status: SUCCESS
http://dpdk.org/patch/93298
_Performance Testing PASS_
Submitter: Feifei Wang <feifei.wang2@arm.com>
Date: Tuesday, May 18 2021 08:50:58
DPDK git baseline: Repo:dpdk
Branch: master
CommitID:7989b7e7da9be588563c809264c9347a35319969
93297-93298 --> performance testing pass
Test environment and result as below:
Ubuntu 18.04
Kernel: 4.15.0-generic
Compiler: gcc 7.4
NIC: Mellanox ConnectX-4 Lx 25000 Mbps
Target: x86_64-native-linuxapp-gcc
Fail/Total: 0/6
Detail performance results:
+------------+---------+-------------------------------------+
| frame_size | txd/rxd | throughput difference from expected |
+============+=========+=====================================+
| 64 | 256 | -0.40146% |
+------------+---------+-------------------------------------+
| 128 | 256 | -0.12785% |
+------------+---------+-------------------------------------+
| 256 | 256 | -0.32201% |
+------------+---------+-------------------------------------+
| 512 | 256 | -0.44513% |
+------------+---------+-------------------------------------+
| 1024 | 256 | -0.01673% |
+------------+---------+-------------------------------------+
| 1518 | 256 | -0.19685% |
+------------+---------+-------------------------------------+
Ubuntu 18.04
Kernel: 4.15.0-generic
Compiler: gcc 7.4
NIC: Mellanox ConnectX-5 100000 Mbps
Target: x86_64-native-linuxapp-gcc
Fail/Total: 0/6
Detail performance results:
+------------+---------+-------------------------------------+
| frame_size | txd/rxd | throughput difference from expected |
+============+=========+=====================================+
| 64 | 256 | -0.36053% |
+------------+---------+-------------------------------------+
| 128 | 256 | 0.27611% |
+------------+---------+-------------------------------------+
| 256 | 256 | 0.02496% |
+------------+---------+-------------------------------------+
| 512 | 256 | -0.4041% |
+------------+---------+-------------------------------------+
| 1024 | 256 | 0.40668% |
+------------+---------+-------------------------------------+
| 1518 | 256 | -0.03519% |
+------------+---------+-------------------------------------+
To view detailed results, visit:
https://lab.dpdk.org/results/dashboard/patchsets/17121/
UNH-IOL DPDK Community Lab
To manage your email subscriptions, visit:
https://lab.dpdk.org/results/dashboard/preferences/subscriptions/
^ permalink raw reply [flat|nested] 10+ messages in thread
* [dpdk-test-report] |SUCCESS| pw93297-93298 [PATCH] [v3, 2/2] net/mlx5: remove unnecessary wmb for Memory Region cache
@ 2021-05-18 11:00 dpdklab
0 siblings, 0 replies; 10+ messages in thread
From: dpdklab @ 2021-05-18 11:00 UTC (permalink / raw)
To: Ali Alnubani, Test Report; +Cc: dpdk-test-reports
[-- Attachment #1: Type: text/plain, Size: 1726 bytes --]
Test-Label: iol-mellanox-Performance
Test-Status: SUCCESS
http://dpdk.org/patch/93298
_Performance Testing PASS_
Submitter: Feifei Wang <feifei.wang2@arm.com>
Date: Tuesday, May 18 2021 08:50:58
DPDK git baseline: Repo:dpdk
Branch: master
CommitID:7989b7e7da9be588563c809264c9347a35319969
93297-93298 --> performance testing pass
Test environment and result as below:
Ubuntu 18.04
Kernel: 4.15.0-generic
Compiler: gcc 7.4
NIC: Mellanox ConnectX-4 Lx 25000 Mbps
Target: x86_64-native-linuxapp-gcc
Fail/Total: 0/6
Detail performance results:
+------------+---------+-------------------------------------+
| frame_size | txd/rxd | throughput difference from expected |
+============+=========+=====================================+
| 64 | 256 | -0.40146% |
+------------+---------+-------------------------------------+
| 128 | 256 | -0.12785% |
+------------+---------+-------------------------------------+
| 256 | 256 | -0.32201% |
+------------+---------+-------------------------------------+
| 512 | 256 | -0.44513% |
+------------+---------+-------------------------------------+
| 1024 | 256 | -0.01673% |
+------------+---------+-------------------------------------+
| 1518 | 256 | -0.19685% |
+------------+---------+-------------------------------------+
To view detailed results, visit:
https://lab.dpdk.org/results/dashboard/patchsets/17121/
UNH-IOL DPDK Community Lab
To manage your email subscriptions, visit:
https://lab.dpdk.org/results/dashboard/preferences/subscriptions/
^ permalink raw reply [flat|nested] 10+ messages in thread
* [dpdk-test-report] |SUCCESS| pw93297-93298 [PATCH] [v3, 2/2] net/mlx5: remove unnecessary wmb for Memory Region cache
@ 2021-05-18 9:34 dpdklab
0 siblings, 0 replies; 10+ messages in thread
From: dpdklab @ 2021-05-18 9:34 UTC (permalink / raw)
To: Test Report; +Cc: dpdklab
[-- Attachment #1: Type: text/plain, Size: 2274 bytes --]
Test-Label: iol-abi-testing
Test-Status: SUCCESS
http://dpdk.org/patch/93298
_Testing PASS_
Submitter: Feifei Wang <feifei.wang2@arm.com>
Date: Tuesday, May 18 2021 08:50:58
DPDK git baseline: Repo:dpdk
Branch: master
CommitID:7989b7e7da9be588563c809264c9347a35319969
93297-93298 --> testing pass
Test environment and result as below:
+------------------+----------+
| Environment | abi_test |
+==================+==========+
| Ubuntu 18.04 ARM | PASS |
+------------------+----------+
| RHEL8 | PASS |
+------------------+----------+
| CentOS 8 | PASS |
+------------------+----------+
| RHEL 7 | PASS |
+------------------+----------+
| Ubuntu 18.04 | PASS |
+------------------+----------+
| Fedora 31 | PASS |
+------------------+----------+
| Arch Linux | PASS |
+------------------+----------+
| openSUSE Leap 15 | PASS |
+------------------+----------+
| CentOS Stream 8 | PASS |
+------------------+----------+
| Fedora 32 | PASS |
+------------------+----------+
| Ubuntu 20.04 | PASS |
+------------------+----------+
Ubuntu 18.04 ARM
Kernel: 5.4.0-53-generic
Compiler: gcc 9.3
RHEL8
Kernel: 4.18.0-240.10.1.el8_3.x86_64
Compiler: gcc 8.3.1 20191121 (Red Hat 8.3.1-5)
CentOS 8
Kernel: 4.18.0-240.10.1.el8_3.x86_64
Compiler: gcc 8.3.1 20191121 (Red Hat 8.3.1-5)
RHEL 7
Kernel: 4.18.0-240.10.1.el8_3.x86_64
Compiler: gcc 4.8.5 20150623 (Red Hat 4.8.5-44)
Ubuntu 18.04
Kernel: 4.18.0-240.10.1.el8_3.x86_64
Compiler: gcc 7.5.0-3ubuntu1~18.04
Fedora 31
Kernel: 4.18.0-240.10.1.el8_3.x86_64
Compiler: gcc 9.3.1
Arch Linux
Kernel: 4.18.0-240.10.1.el8_3.x86_64
Compiler: gcc 10.2.0
openSUSE Leap 15
Kernel: 4.18.0-240.10.1.el8_3.x86_64
Compiler: gcc 7.5.0
CentOS Stream 8
Kernel: 4.18.0-240.10.1.el8_3.x86_64
Compiler: gcc 8.4.1 20200928
Fedora 32
Kernel: 4.18.0-240.10.1.el8_3.x86_64
Compiler: gcc 10.2.1
Ubuntu 20.04
Kernel: 4.18.0-240.10.1.el8_3.x86_64
Compiler: gcc 9.3.0-17ubuntu1~20.04
To view detailed results, visit:
https://lab.dpdk.org/results/dashboard/patchsets/17121/
UNH-IOL DPDK Community Lab
To manage your email subscriptions, visit:
https://lab.dpdk.org/results/dashboard/preferences/subscriptions/
^ permalink raw reply [flat|nested] 10+ messages in thread
* [dpdk-test-report] |SUCCESS| pw93297-93298 [PATCH] [v3, 2/2] net/mlx5: remove unnecessary wmb for Memory Region cache
@ 2021-05-18 9:34 dpdklab
0 siblings, 0 replies; 10+ messages in thread
From: dpdklab @ 2021-05-18 9:34 UTC (permalink / raw)
To: Test Report; +Cc: dpdk-test-reports
[-- Attachment #1: Type: text/plain, Size: 4640 bytes --]
Test-Label: iol-testing
Test-Status: SUCCESS
http://dpdk.org/patch/93298
_Testing PASS_
Submitter: Feifei Wang <feifei.wang2@arm.com>
Date: Tuesday, May 18 2021 08:50:58
DPDK git baseline: Repo:dpdk
Branch: master
CommitID:7989b7e7da9be588563c809264c9347a35319969
93297-93298 --> testing pass
Test environment and result as below:
+---------------------+----------------------+-------------------+--------------------+----------------+
| Environment | dpdk_mingw64_compile | dpdk_compile_spdk | dpdk_meson_compile | dpdk_unit_test |
+=====================+======================+===================+====================+================+
| Windows Server 2019 | PASS | SKIPPED | PASS | SKIPPED |
+---------------------+----------------------+-------------------+--------------------+----------------+
| Ubuntu 18.04 | SKIPPED | PASS | PASS | PASS |
+---------------------+----------------------+-------------------+--------------------+----------------+
| Fedora 31 | SKIPPED | SKIPPED | PASS | SKIPPED |
+---------------------+----------------------+-------------------+--------------------+----------------+
| Ubuntu 18.04 ARM | SKIPPED | SKIPPED | PASS | SKIPPED |
+---------------------+----------------------+-------------------+--------------------+----------------+
| FreeBSD 11.2 | SKIPPED | SKIPPED | PASS | SKIPPED |
+---------------------+----------------------+-------------------+--------------------+----------------+
| CentOS 8 | SKIPPED | SKIPPED | PASS | SKIPPED |
+---------------------+----------------------+-------------------+--------------------+----------------+
| Fedora 32 | SKIPPED | SKIPPED | PASS | SKIPPED |
+---------------------+----------------------+-------------------+--------------------+----------------+
| Ubuntu 20.04 | SKIPPED | SKIPPED | PASS | SKIPPED |
+---------------------+----------------------+-------------------+--------------------+----------------+
| CentOS Stream 8 | SKIPPED | SKIPPED | PASS | SKIPPED |
+---------------------+----------------------+-------------------+--------------------+----------------+
| RHEL8 | SKIPPED | SKIPPED | PASS | SKIPPED |
+---------------------+----------------------+-------------------+--------------------+----------------+
| RHEL 7 | SKIPPED | SKIPPED | PASS | SKIPPED |
+---------------------+----------------------+-------------------+--------------------+----------------+
| Arch Linux | SKIPPED | SKIPPED | PASS | SKIPPED |
+---------------------+----------------------+-------------------+--------------------+----------------+
| openSUSE Leap 15 | SKIPPED | SKIPPED | PASS | SKIPPED |
+---------------------+----------------------+-------------------+--------------------+----------------+
Windows Server 2019
Kernel: 10.0
Compiler: clang 9.0 and gcc 8.1.0 (MinGW)
Ubuntu 18.04
Kernel: 4.18.0-240.10.1.el8_3.x86_64
Compiler: gcc 7.5.0-3ubuntu1~18.04
Fedora 31
Kernel: 4.18.0-240.10.1.el8_3.x86_64
Compiler: gcc 9.3.1
Ubuntu 18.04 ARM
Kernel: 5.4.0-53-generic
Compiler: gcc 9.3
FreeBSD 11.2
Kernel: 11.2
Compiler: gcc 8.3
CentOS 8
Kernel: 4.18.0-240.10.1.el8_3.x86_64
Compiler: gcc 8.3.1 20191121 (Red Hat 8.3.1-5)
Fedora 32
Kernel: 4.18.0-240.10.1.el8_3.x86_64
Compiler: gcc 10.2.1
Ubuntu 20.04
Kernel: 4.18.0-240.10.1.el8_3.x86_64
Compiler: gcc 9.3.0-17ubuntu1~20.04
CentOS Stream 8
Kernel: 4.18.0-240.10.1.el8_3.x86_64
Compiler: gcc 8.4.1 20200928
RHEL8
Kernel: 4.18.0-240.10.1.el8_3.x86_64
Compiler: gcc 8.3.1 20191121 (Red Hat 8.3.1-5)
RHEL 7
Kernel: 4.18.0-240.10.1.el8_3.x86_64
Compiler: gcc 4.8.5 20150623 (Red Hat 4.8.5-44)
Arch Linux
Kernel: 4.18.0-240.10.1.el8_3.x86_64
Compiler: gcc 10.2.0
openSUSE Leap 15
Kernel: 4.18.0-240.10.1.el8_3.x86_64
Compiler: gcc 7.5.0
To view detailed results, visit:
https://lab.dpdk.org/results/dashboard/patchsets/17121/
UNH-IOL DPDK Community Lab
To manage your email subscriptions, visit:
https://lab.dpdk.org/results/dashboard/preferences/subscriptions/
^ permalink raw reply [flat|nested] 10+ messages in thread
* [dpdk-test-report] |SUCCESS| pw93297-93298 [PATCH] [v3, 2/2] net/mlx5: remove unnecessary wmb for Memory Region cache
@ 2021-05-18 9:32 dpdklab
0 siblings, 0 replies; 10+ messages in thread
From: dpdklab @ 2021-05-18 9:32 UTC (permalink / raw)
To: Test Report; +Cc: dpdk-test-reports
[-- Attachment #1: Type: text/plain, Size: 1257 bytes --]
Test-Label: iol-intel-Performance
Test-Status: SUCCESS
http://dpdk.org/patch/93298
_Performance Testing PASS_
Submitter: Feifei Wang <feifei.wang2@arm.com>
Date: Tuesday, May 18 2021 08:50:58
DPDK git baseline: Repo:dpdk
Branch: master
CommitID:7989b7e7da9be588563c809264c9347a35319969
93297-93298 --> performance testing pass
Test environment and result as below:
Ubuntu 18.04
Kernel: 4.15.0-generic
Compiler: gcc 7.4
NIC: Intel Corporation Ethernet Converged Network Adapter 82599ES 10000 Mbps
Target: x86_64-native-linuxapp-gcc
Fail/Total: 0/2
Detail performance results:
+------------+---------+-------------------------------------+
| frame_size | txd/rxd | throughput difference from expected |
+============+=========+=====================================+
| 64 | 512 | -0.77054% |
+------------+---------+-------------------------------------+
| 64 | 2048 | 0.67695% |
+------------+---------+-------------------------------------+
To view detailed results, visit:
https://lab.dpdk.org/results/dashboard/patchsets/17121/
UNH-IOL DPDK Community Lab
To manage your email subscriptions, visit:
https://lab.dpdk.org/results/dashboard/preferences/subscriptions/
^ permalink raw reply [flat|nested] 10+ messages in thread
* [dpdk-test-report] |SUCCESS| pw93297-93298 [PATCH] [v3, 2/2] net/mlx5: remove unnecessary wmb for Memory Region cache
@ 2021-05-18 9:25 dpdklab
0 siblings, 0 replies; 10+ messages in thread
From: dpdklab @ 2021-05-18 9:25 UTC (permalink / raw)
To: Test Report; +Cc: dpdk-test-reports
[-- Attachment #1: Type: text/plain, Size: 784 bytes --]
Test-Label: iol-intel-Functional
Test-Status: SUCCESS
http://dpdk.org/patch/93298
_Functional Testing PASS_
Submitter: Feifei Wang <feifei.wang2@arm.com>
Date: Tuesday, May 18 2021 08:50:58
DPDK git baseline: Repo:dpdk
Branch: master
CommitID:7989b7e7da9be588563c809264c9347a35319969
93297-93298 --> functional testing pass
Test environment and result as below:
Ubuntu 18.04
Kernel: 4.15.0-generic
Compiler: gcc 7.4
NIC: Intel Corporation Ethernet Converged Network Adapter 82599ES 10000 Mbps
Target: x86_64-native-linuxapp-gcc
Fail/Total: 0/5
To view detailed results, visit:
https://lab.dpdk.org/results/dashboard/patchsets/17121/
UNH-IOL DPDK Community Lab
To manage your email subscriptions, visit:
https://lab.dpdk.org/results/dashboard/preferences/subscriptions/
^ permalink raw reply [flat|nested] 10+ messages in thread
end of thread, other threads:[~2021-05-20 2:59 UTC | newest]
Thread overview: 10+ messages (download: mbox.gz / follow: Atom feed)
-- links below jump to the message on this page --
2021-05-18 11:26 [dpdk-test-report] |SUCCESS| pw93297-93298 [PATCH] [v3, 2/2] net/mlx5: remove unnecessary wmb for Memory Region cache dpdklab
-- strict thread matches above, loose matches on Subject: below --
2021-05-20 2:59 dpdklab
2021-05-20 2:33 dpdklab
2021-05-20 2:18 dpdklab
2021-05-18 11:13 dpdklab
2021-05-18 11:00 dpdklab
2021-05-18 9:34 dpdklab
2021-05-18 9:34 dpdklab
2021-05-18 9:32 dpdklab
2021-05-18 9:25 dpdklab
This is a public inbox, see mirroring instructions
for how to clone and mirror all data and code used for this inbox;
as well as URLs for NNTP newsgroup(s).