* [dpdk-test-report] |SUCCESS| pw93314 [PATCH] eal/hotplug: suppress one error log on primary process
@ 2021-05-19 7:57 dpdklab
0 siblings, 0 replies; 13+ messages in thread
From: dpdklab @ 2021-05-19 7:57 UTC (permalink / raw)
To: Ali Alnubani, Test Report; +Cc: dpdk-test-reports
[-- Attachment #1: Type: text/plain, Size: 2845 bytes --]
Test-Label: iol-mellanox-Performance
Test-Status: SUCCESS
http://dpdk.org/patch/93314
_Performance Testing PASS_
Submitter: Changpeng Liu <changpeng.liu@intel.com>
Date: Wednesday, May 19 2021 06:45:48
DPDK git baseline: Repo:dpdk
Branch: master
CommitID:947dff12bcf5023255433c9997710a5635522431
93314 --> performance testing pass
Test environment and result as below:
Ubuntu 18.04
Kernel: 4.15.0-generic
Compiler: gcc 7.4
NIC: Mellanox ConnectX-4 Lx 40000 Mbps
Target: x86_64-native-linuxapp-gcc
Fail/Total: 0/6
Detail performance results:
+------------+---------+-------------------------------------+
| frame_size | txd/rxd | throughput difference from expected |
+============+=========+=====================================+
| 64 | 256 | 0.49951% |
+------------+---------+-------------------------------------+
| 128 | 256 | 0.581% |
+------------+---------+-------------------------------------+
| 256 | 256 | 0.11707% |
+------------+---------+-------------------------------------+
| 512 | 256 | 0.07456% |
+------------+---------+-------------------------------------+
| 1024 | 256 | -0.04176% |
+------------+---------+-------------------------------------+
| 1518 | 256 | -0.29217% |
+------------+---------+-------------------------------------+
Ubuntu 18.04
Kernel: 4.15.0-generic
Compiler: gcc 7.4
NIC: Mellanox ConnectX-5 100000 Mbps
Target: x86_64-native-linuxapp-gcc
Fail/Total: 0/6
Detail performance results:
+------------+---------+-------------------------------------+
| frame_size | txd/rxd | throughput difference from expected |
+============+=========+=====================================+
| 64 | 256 | -0.11155% |
+------------+---------+-------------------------------------+
| 128 | 256 | -0.05706% |
+------------+---------+-------------------------------------+
| 256 | 256 | 0.29957% |
+------------+---------+-------------------------------------+
| 512 | 256 | 0.65278% |
+------------+---------+-------------------------------------+
| 1024 | 256 | 0.6439% |
+------------+---------+-------------------------------------+
| 1518 | 256 | -0.03519% |
+------------+---------+-------------------------------------+
To view detailed results, visit:
https://lab.dpdk.org/results/dashboard/patchsets/17130/
UNH-IOL DPDK Community Lab
To manage your email subscriptions, visit:
https://lab.dpdk.org/results/dashboard/preferences/subscriptions/
^ permalink raw reply [flat|nested] 13+ messages in thread
* [dpdk-test-report] |SUCCESS| pw93314 [PATCH] eal/hotplug: suppress one error log on primary process
@ 2021-05-21 3:12 dpdklab
0 siblings, 0 replies; 13+ messages in thread
From: dpdklab @ 2021-05-21 3:12 UTC (permalink / raw)
To: Test Report; +Cc: dpdk-test-reports
[-- Attachment #1: Type: text/plain, Size: 984 bytes --]
Test-Label: iol-intel-Functional
Test-Status: SUCCESS
http://dpdk.org/patch/93314
_Functional Testing PASS_
Submitter: Changpeng Liu <changpeng.liu@intel.com>
Date: Wednesday, May 19 2021 06:45:48
DPDK git baseline: Repo:dpdk
Branch: master
CommitID:947dff12bcf5023255433c9997710a5635522431
93314 --> functional testing pass
Test environment and result as below:
Ubuntu 18.04
Kernel: 4.15.0-generic
Compiler: gcc 7.4
NIC: Intel Corporation Ethernet Converged Network Adapter 82599ES 10000 Mbps
Target: x86_64-native-linuxapp-gcc
Fail/Total: 0/5
Ubuntu 18.04 ARM
Kernel: 4.15.0-132-generic
Compiler: gcc 7.5
NIC: Arm Intel Corporation Ethernet Converged Network Adapter XL710-QDA2 40000 Mbps
Target: x86_64-native-linuxapp-gcc
Fail/Total: 0/5
To view detailed results, visit:
https://lab.dpdk.org/results/dashboard/patchsets/17130/
UNH-IOL DPDK Community Lab
To manage your email subscriptions, visit:
https://lab.dpdk.org/results/dashboard/preferences/subscriptions/
^ permalink raw reply [flat|nested] 13+ messages in thread
* [dpdk-test-report] |SUCCESS| pw93314 [PATCH] eal/hotplug: suppress one error log on primary process
@ 2021-05-21 2:36 dpdklab
0 siblings, 0 replies; 13+ messages in thread
From: dpdklab @ 2021-05-21 2:36 UTC (permalink / raw)
To: Test Report; +Cc: dpdk-test-reports
[-- Attachment #1: Type: text/plain, Size: 1927 bytes --]
Test-Label: iol-intel-Performance
Test-Status: SUCCESS
http://dpdk.org/patch/93314
_Performance Testing PASS_
Submitter: Changpeng Liu <changpeng.liu@intel.com>
Date: Wednesday, May 19 2021 06:45:48
DPDK git baseline: Repo:dpdk
Branch: master
CommitID:947dff12bcf5023255433c9997710a5635522431
93314 --> performance testing pass
Test environment and result as below:
Ubuntu 18.04
Kernel: 4.15.0-generic
Compiler: gcc 7.4
NIC: Intel Corporation Ethernet Converged Network Adapter 82599ES 10000 Mbps
Target: x86_64-native-linuxapp-gcc
Fail/Total: 0/2
Detail performance results:
+------------+---------+-------------------------------------+
| frame_size | txd/rxd | throughput difference from expected |
+============+=========+=====================================+
| 64 | 512 | -0.47149% |
+------------+---------+-------------------------------------+
| 64 | 2048 | 0.66567% |
+------------+---------+-------------------------------------+
Ubuntu 18.04 ARM
Kernel: 4.15.0-132-generic
Compiler: gcc 7.5
NIC: Arm Intel Corporation Ethernet Converged Network Adapter XL710-QDA2 40000 Mbps
Target: x86_64-native-linuxapp-gcc
Fail/Total: 0/2
Detail performance results:
+------------+---------+-------------------------------------+
| frame_size | txd/rxd | throughput difference from expected |
+============+=========+=====================================+
| 64 | 512 | -0.2847% |
+------------+---------+-------------------------------------+
| 64 | 2048 | -2.26851% |
+------------+---------+-------------------------------------+
To view detailed results, visit:
https://lab.dpdk.org/results/dashboard/patchsets/17130/
UNH-IOL DPDK Community Lab
To manage your email subscriptions, visit:
https://lab.dpdk.org/results/dashboard/preferences/subscriptions/
^ permalink raw reply [flat|nested] 13+ messages in thread
* [dpdk-test-report] |SUCCESS| pw93314 [PATCH] eal/hotplug: suppress one error log on primary process
@ 2021-05-19 19:27 dpdklab
0 siblings, 0 replies; 13+ messages in thread
From: dpdklab @ 2021-05-19 19:27 UTC (permalink / raw)
To: Ali Alnubani, Test Report; +Cc: dpdk-test-reports
[-- Attachment #1: Type: text/plain, Size: 3965 bytes --]
Test-Label: iol-mellanox-Performance
Test-Status: SUCCESS
http://dpdk.org/patch/93314
_Performance Testing PASS_
Submitter: Changpeng Liu <changpeng.liu@intel.com>
Date: Wednesday, May 19 2021 06:45:48
DPDK git baseline: Repo:dpdk
Branch: master
CommitID:947dff12bcf5023255433c9997710a5635522431
93314 --> performance testing pass
Test environment and result as below:
Ubuntu 18.04
Kernel: 4.15.0-generic
Compiler: gcc 7.4
NIC: Mellanox ConnectX-4 Lx 25000 Mbps
Target: x86_64-native-linuxapp-gcc
Fail/Total: 0/6
Detail performance results:
+------------+---------+-------------------------------------+
| frame_size | txd/rxd | throughput difference from expected |
+============+=========+=====================================+
| 64 | 256 | -0.0622% |
+------------+---------+-------------------------------------+
| 128 | 256 | 0.19695% |
+------------+---------+-------------------------------------+
| 256 | 256 | -0.75795% |
+------------+---------+-------------------------------------+
| 512 | 256 | -0.16264% |
+------------+---------+-------------------------------------+
| 1024 | 256 | 0.0% |
+------------+---------+-------------------------------------+
| 1518 | 256 | -0.19685% |
+------------+---------+-------------------------------------+
Ubuntu 18.04
Kernel: 4.15.0-generic
Compiler: gcc 7.4
NIC: Mellanox ConnectX-4 Lx 40000 Mbps
Target: x86_64-native-linuxapp-gcc
Fail/Total: 0/6
Detail performance results:
+------------+---------+-------------------------------------+
| frame_size | txd/rxd | throughput difference from expected |
+============+=========+=====================================+
| 64 | 256 | 0.44528% |
+------------+---------+-------------------------------------+
| 128 | 256 | -0.12879% |
+------------+---------+-------------------------------------+
| 256 | 256 | 0.02561% |
+------------+---------+-------------------------------------+
| 512 | 256 | -0.07988% |
+------------+---------+-------------------------------------+
| 1024 | 256 | -0.17749% |
+------------+---------+-------------------------------------+
| 1518 | 256 | -0.1384% |
+------------+---------+-------------------------------------+
Ubuntu 18.04
Kernel: 4.15.0-generic
Compiler: gcc 7.4
NIC: Mellanox ConnectX-5 100000 Mbps
Target: x86_64-native-linuxapp-gcc
Fail/Total: 0/6
Detail performance results:
+------------+---------+-------------------------------------+
| frame_size | txd/rxd | throughput difference from expected |
+============+=========+=====================================+
| 64 | 256 | -0.28293% |
+------------+---------+-------------------------------------+
| 128 | 256 | 0.08651% |
+------------+---------+-------------------------------------+
| 256 | 256 | -0.04993% |
+------------+---------+-------------------------------------+
| 512 | 256 | 1.35441% |
+------------+---------+-------------------------------------+
| 1024 | 256 | 0.72016% |
+------------+---------+-------------------------------------+
| 1518 | 256 | 0.18768% |
+------------+---------+-------------------------------------+
To view detailed results, visit:
https://lab.dpdk.org/results/dashboard/patchsets/17130/
UNH-IOL DPDK Community Lab
To manage your email subscriptions, visit:
https://lab.dpdk.org/results/dashboard/preferences/subscriptions/
^ permalink raw reply [flat|nested] 13+ messages in thread
* [dpdk-test-report] |SUCCESS| pw93314 [PATCH] eal/hotplug: suppress one error log on primary process
@ 2021-05-19 19:15 dpdklab
0 siblings, 0 replies; 13+ messages in thread
From: dpdklab @ 2021-05-19 19:15 UTC (permalink / raw)
To: Ali Alnubani, Test Report; +Cc: dpdk-test-reports
[-- Attachment #1: Type: text/plain, Size: 2847 bytes --]
Test-Label: iol-mellanox-Performance
Test-Status: SUCCESS
http://dpdk.org/patch/93314
_Performance Testing PASS_
Submitter: Changpeng Liu <changpeng.liu@intel.com>
Date: Wednesday, May 19 2021 06:45:48
DPDK git baseline: Repo:dpdk
Branch: master
CommitID:947dff12bcf5023255433c9997710a5635522431
93314 --> performance testing pass
Test environment and result as below:
Ubuntu 18.04
Kernel: 4.15.0-generic
Compiler: gcc 7.4
NIC: Mellanox ConnectX-4 Lx 25000 Mbps
Target: x86_64-native-linuxapp-gcc
Fail/Total: 0/6
Detail performance results:
+------------+---------+-------------------------------------+
| frame_size | txd/rxd | throughput difference from expected |
+============+=========+=====================================+
| 64 | 256 | -0.0622% |
+------------+---------+-------------------------------------+
| 128 | 256 | 0.19695% |
+------------+---------+-------------------------------------+
| 256 | 256 | -0.75795% |
+------------+---------+-------------------------------------+
| 512 | 256 | -0.16264% |
+------------+---------+-------------------------------------+
| 1024 | 256 | 0.0% |
+------------+---------+-------------------------------------+
| 1518 | 256 | -0.19685% |
+------------+---------+-------------------------------------+
Ubuntu 18.04
Kernel: 4.15.0-generic
Compiler: gcc 7.4
NIC: Mellanox ConnectX-4 Lx 40000 Mbps
Target: x86_64-native-linuxapp-gcc
Fail/Total: 0/6
Detail performance results:
+------------+---------+-------------------------------------+
| frame_size | txd/rxd | throughput difference from expected |
+============+=========+=====================================+
| 64 | 256 | 0.44528% |
+------------+---------+-------------------------------------+
| 128 | 256 | -0.12879% |
+------------+---------+-------------------------------------+
| 256 | 256 | 0.02561% |
+------------+---------+-------------------------------------+
| 512 | 256 | -0.07988% |
+------------+---------+-------------------------------------+
| 1024 | 256 | -0.17749% |
+------------+---------+-------------------------------------+
| 1518 | 256 | -0.1384% |
+------------+---------+-------------------------------------+
To view detailed results, visit:
https://lab.dpdk.org/results/dashboard/patchsets/17130/
UNH-IOL DPDK Community Lab
To manage your email subscriptions, visit:
https://lab.dpdk.org/results/dashboard/preferences/subscriptions/
^ permalink raw reply [flat|nested] 13+ messages in thread
* [dpdk-test-report] |SUCCESS| pw93314 [PATCH] eal/hotplug: suppress one error log on primary process
@ 2021-05-19 19:03 dpdklab
0 siblings, 0 replies; 13+ messages in thread
From: dpdklab @ 2021-05-19 19:03 UTC (permalink / raw)
To: Ali Alnubani, Test Report; +Cc: dpdk-test-reports
[-- Attachment #1: Type: text/plain, Size: 1727 bytes --]
Test-Label: iol-mellanox-Performance
Test-Status: SUCCESS
http://dpdk.org/patch/93314
_Performance Testing PASS_
Submitter: Changpeng Liu <changpeng.liu@intel.com>
Date: Wednesday, May 19 2021 06:45:48
DPDK git baseline: Repo:dpdk
Branch: master
CommitID:947dff12bcf5023255433c9997710a5635522431
93314 --> performance testing pass
Test environment and result as below:
Ubuntu 18.04
Kernel: 4.15.0-generic
Compiler: gcc 7.4
NIC: Mellanox ConnectX-4 Lx 25000 Mbps
Target: x86_64-native-linuxapp-gcc
Fail/Total: 0/6
Detail performance results:
+------------+---------+-------------------------------------+
| frame_size | txd/rxd | throughput difference from expected |
+============+=========+=====================================+
| 64 | 256 | -0.0622% |
+------------+---------+-------------------------------------+
| 128 | 256 | 0.19695% |
+------------+---------+-------------------------------------+
| 256 | 256 | -0.75795% |
+------------+---------+-------------------------------------+
| 512 | 256 | -0.16264% |
+------------+---------+-------------------------------------+
| 1024 | 256 | 0.0% |
+------------+---------+-------------------------------------+
| 1518 | 256 | -0.19685% |
+------------+---------+-------------------------------------+
To view detailed results, visit:
https://lab.dpdk.org/results/dashboard/patchsets/17130/
UNH-IOL DPDK Community Lab
To manage your email subscriptions, visit:
https://lab.dpdk.org/results/dashboard/preferences/subscriptions/
^ permalink raw reply [flat|nested] 13+ messages in thread
* [dpdk-test-report] |SUCCESS| pw93314 [PATCH] eal/hotplug: suppress one error log on primary process
@ 2021-05-19 18:50 dpdklab
0 siblings, 0 replies; 13+ messages in thread
From: dpdklab @ 2021-05-19 18:50 UTC (permalink / raw)
To: Ali Alnubani, Test Report; +Cc: dpdk-test-reports
[-- Attachment #1: Type: text/plain, Size: 750 bytes --]
Test-Label: iol-mellanox-Functional
Test-Status: SUCCESS
http://dpdk.org/patch/93314
_Functional Testing PASS_
Submitter: Changpeng Liu <changpeng.liu@intel.com>
Date: Wednesday, May 19 2021 06:45:48
DPDK git baseline: Repo:dpdk
Branch: master
CommitID:947dff12bcf5023255433c9997710a5635522431
93314 --> functional testing pass
Test environment and result as below:
Ubuntu 18.04
Kernel: 4.15.0-generic
Compiler: gcc 7.4
NIC: Mellanox ConnectX-4 Lx 25000 Mbps
Target: x86_64-native-linuxapp-gcc
Fail/Total: 0/5
To view detailed results, visit:
https://lab.dpdk.org/results/dashboard/patchsets/17130/
UNH-IOL DPDK Community Lab
To manage your email subscriptions, visit:
https://lab.dpdk.org/results/dashboard/preferences/subscriptions/
^ permalink raw reply [flat|nested] 13+ messages in thread
* [dpdk-test-report] |SUCCESS| pw93314 [PATCH] eal/hotplug: suppress one error log on primary process
@ 2021-05-19 15:55 dpdklab
0 siblings, 0 replies; 13+ messages in thread
From: dpdklab @ 2021-05-19 15:55 UTC (permalink / raw)
To: Test Report; +Cc: dpdklab
[-- Attachment #1: Type: text/plain, Size: 2275 bytes --]
Test-Label: iol-abi-testing
Test-Status: SUCCESS
http://dpdk.org/patch/93314
_Testing PASS_
Submitter: Changpeng Liu <changpeng.liu@intel.com>
Date: Wednesday, May 19 2021 06:45:48
DPDK git baseline: Repo:dpdk
Branch: master
CommitID:947dff12bcf5023255433c9997710a5635522431
93314 --> testing pass
Test environment and result as below:
+------------------+----------+
| Environment | abi_test |
+==================+==========+
| Ubuntu 18.04 ARM | PASS |
+------------------+----------+
| CentOS 8 | PASS |
+------------------+----------+
| Ubuntu 18.04 | PASS |
+------------------+----------+
| RHEL8 | PASS |
+------------------+----------+
| Ubuntu 20.04 | PASS |
+------------------+----------+
| Arch Linux | PASS |
+------------------+----------+
| Fedora 32 | PASS |
+------------------+----------+
| RHEL 7 | PASS |
+------------------+----------+
| Fedora 31 | PASS |
+------------------+----------+
| openSUSE Leap 15 | PASS |
+------------------+----------+
| CentOS Stream 8 | PASS |
+------------------+----------+
Ubuntu 18.04 ARM
Kernel: 5.4.0-53-generic
Compiler: gcc 9.3
CentOS 8
Kernel: 4.18.0-240.10.1.el8_3.x86_64
Compiler: gcc 8.3.1 20191121 (Red Hat 8.3.1-5)
Ubuntu 18.04
Kernel: 4.18.0-240.10.1.el8_3.x86_64
Compiler: gcc 7.5.0-3ubuntu1~18.04
RHEL8
Kernel: 4.18.0-240.10.1.el8_3.x86_64
Compiler: gcc 8.3.1 20191121 (Red Hat 8.3.1-5)
Ubuntu 20.04
Kernel: 4.18.0-240.10.1.el8_3.x86_64
Compiler: gcc 9.3.0-17ubuntu1~20.04
Arch Linux
Kernel: 4.18.0-240.10.1.el8_3.x86_64
Compiler: gcc 10.2.0
Fedora 32
Kernel: 4.18.0-240.10.1.el8_3.x86_64
Compiler: gcc 10.2.1
RHEL 7
Kernel: 4.18.0-240.10.1.el8_3.x86_64
Compiler: gcc 4.8.5 20150623 (Red Hat 4.8.5-44)
Fedora 31
Kernel: 4.18.0-240.10.1.el8_3.x86_64
Compiler: gcc 9.3.1
openSUSE Leap 15
Kernel: 4.18.0-240.10.1.el8_3.x86_64
Compiler: gcc 7.5.0
CentOS Stream 8
Kernel: 4.18.0-240.10.1.el8_3.x86_64
Compiler: gcc 8.4.1 20200928
To view detailed results, visit:
https://lab.dpdk.org/results/dashboard/patchsets/17130/
UNH-IOL DPDK Community Lab
To manage your email subscriptions, visit:
https://lab.dpdk.org/results/dashboard/preferences/subscriptions/
^ permalink raw reply [flat|nested] 13+ messages in thread
* [dpdk-test-report] |SUCCESS| pw93314 [PATCH] eal/hotplug: suppress one error log on primary process
@ 2021-05-19 15:35 dpdklab
0 siblings, 0 replies; 13+ messages in thread
From: dpdklab @ 2021-05-19 15:35 UTC (permalink / raw)
To: Test Report; +Cc: dpdk-test-reports
[-- Attachment #1: Type: text/plain, Size: 1258 bytes --]
Test-Label: iol-intel-Performance
Test-Status: SUCCESS
http://dpdk.org/patch/93314
_Performance Testing PASS_
Submitter: Changpeng Liu <changpeng.liu@intel.com>
Date: Wednesday, May 19 2021 06:45:48
DPDK git baseline: Repo:dpdk
Branch: master
CommitID:947dff12bcf5023255433c9997710a5635522431
93314 --> performance testing pass
Test environment and result as below:
Ubuntu 18.04
Kernel: 4.15.0-generic
Compiler: gcc 7.4
NIC: Intel Corporation Ethernet Converged Network Adapter 82599ES 10000 Mbps
Target: x86_64-native-linuxapp-gcc
Fail/Total: 0/2
Detail performance results:
+------------+---------+-------------------------------------+
| frame_size | txd/rxd | throughput difference from expected |
+============+=========+=====================================+
| 64 | 512 | -0.47149% |
+------------+---------+-------------------------------------+
| 64 | 2048 | 0.66567% |
+------------+---------+-------------------------------------+
To view detailed results, visit:
https://lab.dpdk.org/results/dashboard/patchsets/17130/
UNH-IOL DPDK Community Lab
To manage your email subscriptions, visit:
https://lab.dpdk.org/results/dashboard/preferences/subscriptions/
^ permalink raw reply [flat|nested] 13+ messages in thread
* [dpdk-test-report] |SUCCESS| pw93314 [PATCH] eal/hotplug: suppress one error log on primary process
@ 2021-05-19 15:28 dpdklab
0 siblings, 0 replies; 13+ messages in thread
From: dpdklab @ 2021-05-19 15:28 UTC (permalink / raw)
To: Test Report; +Cc: dpdk-test-reports
[-- Attachment #1: Type: text/plain, Size: 785 bytes --]
Test-Label: iol-intel-Functional
Test-Status: SUCCESS
http://dpdk.org/patch/93314
_Functional Testing PASS_
Submitter: Changpeng Liu <changpeng.liu@intel.com>
Date: Wednesday, May 19 2021 06:45:48
DPDK git baseline: Repo:dpdk
Branch: master
CommitID:947dff12bcf5023255433c9997710a5635522431
93314 --> functional testing pass
Test environment and result as below:
Ubuntu 18.04
Kernel: 4.15.0-generic
Compiler: gcc 7.4
NIC: Intel Corporation Ethernet Converged Network Adapter 82599ES 10000 Mbps
Target: x86_64-native-linuxapp-gcc
Fail/Total: 0/5
To view detailed results, visit:
https://lab.dpdk.org/results/dashboard/patchsets/17130/
UNH-IOL DPDK Community Lab
To manage your email subscriptions, visit:
https://lab.dpdk.org/results/dashboard/preferences/subscriptions/
^ permalink raw reply [flat|nested] 13+ messages in thread
* [dpdk-test-report] |SUCCESS| pw93314 [PATCH] eal/hotplug: suppress one error log on primary process
@ 2021-05-19 8:10 dpdklab
0 siblings, 0 replies; 13+ messages in thread
From: dpdklab @ 2021-05-19 8:10 UTC (permalink / raw)
To: Ali Alnubani, Test Report; +Cc: dpdk-test-reports
[-- Attachment #1: Type: text/plain, Size: 3965 bytes --]
Test-Label: iol-mellanox-Performance
Test-Status: SUCCESS
http://dpdk.org/patch/93314
_Performance Testing PASS_
Submitter: Changpeng Liu <changpeng.liu@intel.com>
Date: Wednesday, May 19 2021 06:45:48
DPDK git baseline: Repo:dpdk
Branch: master
CommitID:947dff12bcf5023255433c9997710a5635522431
93314 --> performance testing pass
Test environment and result as below:
Ubuntu 18.04
Kernel: 4.15.0-generic
Compiler: gcc 7.4
NIC: Mellanox ConnectX-4 Lx 40000 Mbps
Target: x86_64-native-linuxapp-gcc
Fail/Total: 0/6
Detail performance results:
+------------+---------+-------------------------------------+
| frame_size | txd/rxd | throughput difference from expected |
+============+=========+=====================================+
| 64 | 256 | 0.49951% |
+------------+---------+-------------------------------------+
| 128 | 256 | 0.581% |
+------------+---------+-------------------------------------+
| 256 | 256 | 0.11707% |
+------------+---------+-------------------------------------+
| 512 | 256 | 0.07456% |
+------------+---------+-------------------------------------+
| 1024 | 256 | -0.04176% |
+------------+---------+-------------------------------------+
| 1518 | 256 | -0.29217% |
+------------+---------+-------------------------------------+
Ubuntu 18.04
Kernel: 4.15.0-generic
Compiler: gcc 7.4
NIC: Mellanox ConnectX-5 100000 Mbps
Target: x86_64-native-linuxapp-gcc
Fail/Total: 0/6
Detail performance results:
+------------+---------+-------------------------------------+
| frame_size | txd/rxd | throughput difference from expected |
+============+=========+=====================================+
| 64 | 256 | -0.11155% |
+------------+---------+-------------------------------------+
| 128 | 256 | -0.05706% |
+------------+---------+-------------------------------------+
| 256 | 256 | 0.29957% |
+------------+---------+-------------------------------------+
| 512 | 256 | 0.65278% |
+------------+---------+-------------------------------------+
| 1024 | 256 | 0.6439% |
+------------+---------+-------------------------------------+
| 1518 | 256 | -0.03519% |
+------------+---------+-------------------------------------+
Ubuntu 18.04
Kernel: 4.15.0-generic
Compiler: gcc 7.4
NIC: Mellanox ConnectX-4 Lx 25000 Mbps
Target: x86_64-native-linuxapp-gcc
Fail/Total: 0/6
Detail performance results:
+------------+---------+-------------------------------------+
| frame_size | txd/rxd | throughput difference from expected |
+============+=========+=====================================+
| 64 | 256 | 0.07916% |
+------------+---------+-------------------------------------+
| 128 | 256 | 0.04837% |
+------------+---------+-------------------------------------+
| 256 | 256 | -0.753% |
+------------+---------+-------------------------------------+
| 512 | 256 | -0.1284% |
+------------+---------+-------------------------------------+
| 1024 | 256 | 0.03346% |
+------------+---------+-------------------------------------+
| 1518 | 256 | -0.27067% |
+------------+---------+-------------------------------------+
To view detailed results, visit:
https://lab.dpdk.org/results/dashboard/patchsets/17130/
UNH-IOL DPDK Community Lab
To manage your email subscriptions, visit:
https://lab.dpdk.org/results/dashboard/preferences/subscriptions/
^ permalink raw reply [flat|nested] 13+ messages in thread
* [dpdk-test-report] |SUCCESS| pw93314 [PATCH] eal/hotplug: suppress one error log on primary process
@ 2021-05-19 7:05 dpdklab
0 siblings, 0 replies; 13+ messages in thread
From: dpdklab @ 2021-05-19 7:05 UTC (permalink / raw)
To: Ali Alnubani, Test Report; +Cc: dpdk-test-reports
[-- Attachment #1: Type: text/plain, Size: 1727 bytes --]
Test-Label: iol-mellanox-Performance
Test-Status: SUCCESS
http://dpdk.org/patch/93314
_Performance Testing PASS_
Submitter: Changpeng Liu <changpeng.liu@intel.com>
Date: Wednesday, May 19 2021 06:45:48
DPDK git baseline: Repo:dpdk
Branch: master
CommitID:947dff12bcf5023255433c9997710a5635522431
93314 --> performance testing pass
Test environment and result as below:
Ubuntu 18.04
Kernel: 4.15.0-generic
Compiler: gcc 7.4
NIC: Mellanox ConnectX-4 Lx 40000 Mbps
Target: x86_64-native-linuxapp-gcc
Fail/Total: 0/6
Detail performance results:
+------------+---------+-------------------------------------+
| frame_size | txd/rxd | throughput difference from expected |
+============+=========+=====================================+
| 64 | 256 | 0.49951% |
+------------+---------+-------------------------------------+
| 128 | 256 | 0.581% |
+------------+---------+-------------------------------------+
| 256 | 256 | 0.11707% |
+------------+---------+-------------------------------------+
| 512 | 256 | 0.07456% |
+------------+---------+-------------------------------------+
| 1024 | 256 | -0.04176% |
+------------+---------+-------------------------------------+
| 1518 | 256 | -0.29217% |
+------------+---------+-------------------------------------+
To view detailed results, visit:
https://lab.dpdk.org/results/dashboard/patchsets/17130/
UNH-IOL DPDK Community Lab
To manage your email subscriptions, visit:
https://lab.dpdk.org/results/dashboard/preferences/subscriptions/
^ permalink raw reply [flat|nested] 13+ messages in thread
[parent not found: <1621406749-15536-1-git-send-email-changpeng.liu@intel.com>]
end of thread, other threads:[~2021-05-21 3:12 UTC | newest]
Thread overview: 13+ messages (download: mbox.gz / follow: Atom feed)
-- links below jump to the message on this page --
2021-05-19 7:57 [dpdk-test-report] |SUCCESS| pw93314 [PATCH] eal/hotplug: suppress one error log on primary process dpdklab
-- strict thread matches above, loose matches on Subject: below --
2021-05-21 3:12 dpdklab
2021-05-21 2:36 dpdklab
2021-05-19 19:27 dpdklab
2021-05-19 19:15 dpdklab
2021-05-19 19:03 dpdklab
2021-05-19 18:50 dpdklab
2021-05-19 15:55 dpdklab
2021-05-19 15:35 dpdklab
2021-05-19 15:28 dpdklab
2021-05-19 8:10 dpdklab
2021-05-19 7:05 dpdklab
[not found] <1621406749-15536-1-git-send-email-changpeng.liu@intel.com>
2021-05-19 6:01 ` checkpatch
This is a public inbox, see mirroring instructions
for how to clone and mirror all data and code used for this inbox;
as well as URLs for NNTP newsgroup(s).