* [dpdk-test-report] |SUCCESS| pw93404 [PATCH] net/sfc: fix typo
@ 2021-05-24 14:09 dpdklab
0 siblings, 0 replies; 7+ messages in thread
From: dpdklab @ 2021-05-24 14:09 UTC (permalink / raw)
To: Test Report; +Cc: dpdklab
[-- Attachment #1: Type: text/plain, Size: 2278 bytes --]
Test-Label: iol-abi-testing
Test-Status: SUCCESS
http://dpdk.org/patch/93404
_Testing PASS_
Submitter: Thierry Herbelot <thierry.herbelot@6wind.com>
Date: Monday, May 24 2021 11:22:38
DPDK git baseline: Repo:dpdk
Branch: master
CommitID:66b3a54b9feab193a5cf8ad54606d745078587cc
93404 --> testing pass
Test environment and result as below:
+------------------+----------+
| Environment | abi_test |
+==================+==========+
| Ubuntu 18.04 ARM | PASS |
+------------------+----------+
| RHEL8 | PASS |
+------------------+----------+
| Ubuntu 18.04 | PASS |
+------------------+----------+
| Arch Linux | PASS |
+------------------+----------+
| Ubuntu 20.04 | PASS |
+------------------+----------+
| RHEL 7 | PASS |
+------------------+----------+
| CentOS 8 | PASS |
+------------------+----------+
| openSUSE Leap 15 | PASS |
+------------------+----------+
| CentOS Stream 8 | PASS |
+------------------+----------+
| Fedora 31 | PASS |
+------------------+----------+
| Fedora 32 | PASS |
+------------------+----------+
Ubuntu 18.04 ARM
Kernel: 5.4.0-53-generic
Compiler: gcc 9.3
RHEL8
Kernel: 4.18.0-240.10.1.el8_3.x86_64
Compiler: gcc 8.3.1 20191121 (Red Hat 8.3.1-5)
Ubuntu 18.04
Kernel: 4.18.0-240.10.1.el8_3.x86_64
Compiler: gcc 7.5.0-3ubuntu1~18.04
Arch Linux
Kernel: 4.18.0-240.10.1.el8_3.x86_64
Compiler: gcc 10.2.0
Ubuntu 20.04
Kernel: 4.18.0-240.10.1.el8_3.x86_64
Compiler: gcc 9.3.0-17ubuntu1~20.04
RHEL 7
Kernel: 4.18.0-240.10.1.el8_3.x86_64
Compiler: gcc 4.8.5 20150623 (Red Hat 4.8.5-44)
CentOS 8
Kernel: 4.18.0-240.10.1.el8_3.x86_64
Compiler: gcc 8.3.1 20191121 (Red Hat 8.3.1-5)
openSUSE Leap 15
Kernel: 4.18.0-240.10.1.el8_3.x86_64
Compiler: gcc 7.5.0
CentOS Stream 8
Kernel: 4.18.0-240.10.1.el8_3.x86_64
Compiler: gcc 8.4.1 20200928
Fedora 31
Kernel: 4.18.0-240.10.1.el8_3.x86_64
Compiler: gcc 9.3.1
Fedora 32
Kernel: 4.18.0-240.10.1.el8_3.x86_64
Compiler: gcc 10.2.1
To view detailed results, visit:
https://lab.dpdk.org/results/dashboard/patchsets/17195/
UNH-IOL DPDK Community Lab
To manage your email subscriptions, visit:
https://lab.dpdk.org/results/dashboard/preferences/subscriptions/
^ permalink raw reply [flat|nested] 7+ messages in thread
* [dpdk-test-report] |SUCCESS| pw93404 [PATCH] net/sfc: fix typo
@ 2021-05-25 18:57 dpdklab
0 siblings, 0 replies; 7+ messages in thread
From: dpdklab @ 2021-05-25 18:57 UTC (permalink / raw)
To: Test Report; +Cc: dpdk-test-reports
[-- Attachment #1: Type: text/plain, Size: 1930 bytes --]
Test-Label: iol-intel-Performance
Test-Status: SUCCESS
http://dpdk.org/patch/93404
_Performance Testing PASS_
Submitter: Thierry Herbelot <thierry.herbelot@6wind.com>
Date: Monday, May 24 2021 11:22:38
DPDK git baseline: Repo:dpdk
Branch: master
CommitID:66b3a54b9feab193a5cf8ad54606d745078587cc
93404 --> performance testing pass
Test environment and result as below:
Ubuntu 18.04 ARM
Kernel: 4.15.0-132-generic
Compiler: gcc 7.5
NIC: Arm Intel Corporation Ethernet Converged Network Adapter XL710-QDA2 40000 Mbps
Target: x86_64-native-linuxapp-gcc
Fail/Total: 0/2
Detail performance results:
+------------+---------+-------------------------------------+
| frame_size | txd/rxd | throughput difference from expected |
+============+=========+=====================================+
| 64 | 512 | -0.02847% |
+------------+---------+-------------------------------------+
| 64 | 2048 | 0.0% |
+------------+---------+-------------------------------------+
Ubuntu 18.04
Kernel: 4.15.0-generic
Compiler: gcc 7.4
NIC: Intel Corporation Ethernet Converged Network Adapter 82599ES 10000 Mbps
Target: x86_64-native-linuxapp-gcc
Fail/Total: 0/2
Detail performance results:
+------------+---------+-------------------------------------+
| frame_size | txd/rxd | throughput difference from expected |
+============+=========+=====================================+
| 64 | 512 | -0.87968% |
+------------+---------+-------------------------------------+
| 64 | 2048 | 0.55849% |
+------------+---------+-------------------------------------+
To view detailed results, visit:
https://lab.dpdk.org/results/dashboard/patchsets/17195/
UNH-IOL DPDK Community Lab
To manage your email subscriptions, visit:
https://lab.dpdk.org/results/dashboard/preferences/subscriptions/
^ permalink raw reply [flat|nested] 7+ messages in thread
* [dpdk-test-report] |SUCCESS| pw93404 [PATCH] net/sfc: fix typo
@ 2021-05-25 18:51 dpdklab
0 siblings, 0 replies; 7+ messages in thread
From: dpdklab @ 2021-05-25 18:51 UTC (permalink / raw)
To: Test Report; +Cc: dpdk-test-reports
[-- Attachment #1: Type: text/plain, Size: 987 bytes --]
Test-Label: iol-intel-Functional
Test-Status: SUCCESS
http://dpdk.org/patch/93404
_Functional Testing PASS_
Submitter: Thierry Herbelot <thierry.herbelot@6wind.com>
Date: Monday, May 24 2021 11:22:38
DPDK git baseline: Repo:dpdk
Branch: master
CommitID:66b3a54b9feab193a5cf8ad54606d745078587cc
93404 --> functional testing pass
Test environment and result as below:
Ubuntu 18.04 ARM
Kernel: 4.15.0-132-generic
Compiler: gcc 7.5
NIC: Arm Intel Corporation Ethernet Converged Network Adapter XL710-QDA2 40000 Mbps
Target: x86_64-native-linuxapp-gcc
Fail/Total: 0/5
Ubuntu 18.04
Kernel: 4.15.0-generic
Compiler: gcc 7.4
NIC: Intel Corporation Ethernet Converged Network Adapter 82599ES 10000 Mbps
Target: x86_64-native-linuxapp-gcc
Fail/Total: 0/5
To view detailed results, visit:
https://lab.dpdk.org/results/dashboard/patchsets/17195/
UNH-IOL DPDK Community Lab
To manage your email subscriptions, visit:
https://lab.dpdk.org/results/dashboard/preferences/subscriptions/
^ permalink raw reply [flat|nested] 7+ messages in thread
* [dpdk-test-report] |SUCCESS| pw93404 [PATCH] net/sfc: fix typo
@ 2021-05-25 15:36 dpdklab
0 siblings, 0 replies; 7+ messages in thread
From: dpdklab @ 2021-05-25 15:36 UTC (permalink / raw)
To: Ali Alnubani, Test Report; +Cc: dpdk-test-reports
[-- Attachment #1: Type: text/plain, Size: 3968 bytes --]
Test-Label: iol-mellanox-Performance
Test-Status: SUCCESS
http://dpdk.org/patch/93404
_Performance Testing PASS_
Submitter: Thierry Herbelot <thierry.herbelot@6wind.com>
Date: Monday, May 24 2021 11:22:38
DPDK git baseline: Repo:dpdk
Branch: master
CommitID:66b3a54b9feab193a5cf8ad54606d745078587cc
93404 --> performance testing pass
Test environment and result as below:
Ubuntu 18.04
Kernel: 4.15.0-generic
Compiler: gcc 7.4
NIC: Mellanox ConnectX-5 100000 Mbps
Target: x86_64-native-linuxapp-gcc
Fail/Total: 0/6
Detail performance results:
+------------+---------+-------------------------------------+
| frame_size | txd/rxd | throughput difference from expected |
+============+=========+=====================================+
| 64 | 256 | -0.19239% |
+------------+---------+-------------------------------------+
| 128 | 256 | -0.12517% |
+------------+---------+-------------------------------------+
| 256 | 256 | -0.03745% |
+------------+---------+-------------------------------------+
| 512 | 256 | 1.43879% |
+------------+---------+-------------------------------------+
| 1024 | 256 | 1.04211% |
+------------+---------+-------------------------------------+
| 1518 | 256 | -0.18768% |
+------------+---------+-------------------------------------+
Ubuntu 18.04
Kernel: 4.15.0-generic
Compiler: gcc 7.4
NIC: Mellanox ConnectX-4 Lx 25000 Mbps
Target: x86_64-native-linuxapp-gcc
Fail/Total: 0/6
Detail performance results:
+------------+---------+-------------------------------------+
| frame_size | txd/rxd | throughput difference from expected |
+============+=========+=====================================+
| 64 | 256 | -0.26575% |
+------------+---------+-------------------------------------+
| 128 | 256 | -0.16585% |
+------------+---------+-------------------------------------+
| 256 | 256 | -0.33191% |
+------------+---------+-------------------------------------+
| 512 | 256 | 0.02568% |
+------------+---------+-------------------------------------+
| 1024 | 256 | -0.10038% |
+------------+---------+-------------------------------------+
| 1518 | 256 | 0.0% |
+------------+---------+-------------------------------------+
Ubuntu 18.04
Kernel: 4.15.0-generic
Compiler: gcc 7.4
NIC: Mellanox ConnectX-4 Lx 40000 Mbps
Target: x86_64-native-linuxapp-gcc
Fail/Total: 0/6
Detail performance results:
+------------+---------+-------------------------------------+
| frame_size | txd/rxd | throughput difference from expected |
+============+=========+=====================================+
| 64 | 256 | -0.09419% |
+------------+---------+-------------------------------------+
| 128 | 256 | 0.03148% |
+------------+---------+-------------------------------------+
| 256 | 256 | 0.11341% |
+------------+---------+-------------------------------------+
| 512 | 256 | 0.09586% |
+------------+---------+-------------------------------------+
| 1024 | 256 | -0.02088% |
+------------+---------+-------------------------------------+
| 1518 | 256 | -0.18453% |
+------------+---------+-------------------------------------+
To view detailed results, visit:
https://lab.dpdk.org/results/dashboard/patchsets/17195/
UNH-IOL DPDK Community Lab
To manage your email subscriptions, visit:
https://lab.dpdk.org/results/dashboard/preferences/subscriptions/
^ permalink raw reply [flat|nested] 7+ messages in thread
* [dpdk-test-report] |SUCCESS| pw93404 [PATCH] net/sfc: fix typo
@ 2021-05-25 15:24 dpdklab
0 siblings, 0 replies; 7+ messages in thread
From: dpdklab @ 2021-05-25 15:24 UTC (permalink / raw)
To: Ali Alnubani, Test Report; +Cc: dpdk-test-reports
[-- Attachment #1: Type: text/plain, Size: 2848 bytes --]
Test-Label: iol-mellanox-Performance
Test-Status: SUCCESS
http://dpdk.org/patch/93404
_Performance Testing PASS_
Submitter: Thierry Herbelot <thierry.herbelot@6wind.com>
Date: Monday, May 24 2021 11:22:38
DPDK git baseline: Repo:dpdk
Branch: master
CommitID:66b3a54b9feab193a5cf8ad54606d745078587cc
93404 --> performance testing pass
Test environment and result as below:
Ubuntu 18.04
Kernel: 4.15.0-generic
Compiler: gcc 7.4
NIC: Mellanox ConnectX-5 100000 Mbps
Target: x86_64-native-linuxapp-gcc
Fail/Total: 0/6
Detail performance results:
+------------+---------+-------------------------------------+
| frame_size | txd/rxd | throughput difference from expected |
+============+=========+=====================================+
| 64 | 256 | -0.19239% |
+------------+---------+-------------------------------------+
| 128 | 256 | -0.12517% |
+------------+---------+-------------------------------------+
| 256 | 256 | -0.03745% |
+------------+---------+-------------------------------------+
| 512 | 256 | 1.43879% |
+------------+---------+-------------------------------------+
| 1024 | 256 | 1.04211% |
+------------+---------+-------------------------------------+
| 1518 | 256 | -0.18768% |
+------------+---------+-------------------------------------+
Ubuntu 18.04
Kernel: 4.15.0-generic
Compiler: gcc 7.4
NIC: Mellanox ConnectX-4 Lx 25000 Mbps
Target: x86_64-native-linuxapp-gcc
Fail/Total: 0/6
Detail performance results:
+------------+---------+-------------------------------------+
| frame_size | txd/rxd | throughput difference from expected |
+============+=========+=====================================+
| 64 | 256 | -0.26575% |
+------------+---------+-------------------------------------+
| 128 | 256 | -0.16585% |
+------------+---------+-------------------------------------+
| 256 | 256 | -0.33191% |
+------------+---------+-------------------------------------+
| 512 | 256 | 0.02568% |
+------------+---------+-------------------------------------+
| 1024 | 256 | -0.10038% |
+------------+---------+-------------------------------------+
| 1518 | 256 | 0.0% |
+------------+---------+-------------------------------------+
To view detailed results, visit:
https://lab.dpdk.org/results/dashboard/patchsets/17195/
UNH-IOL DPDK Community Lab
To manage your email subscriptions, visit:
https://lab.dpdk.org/results/dashboard/preferences/subscriptions/
^ permalink raw reply [flat|nested] 7+ messages in thread
* [dpdk-test-report] |SUCCESS| pw93404 [PATCH] net/sfc: fix typo
@ 2021-05-25 15:12 dpdklab
0 siblings, 0 replies; 7+ messages in thread
From: dpdklab @ 2021-05-25 15:12 UTC (permalink / raw)
To: Ali Alnubani, Test Report; +Cc: dpdk-test-reports
[-- Attachment #1: Type: text/plain, Size: 1728 bytes --]
Test-Label: iol-mellanox-Performance
Test-Status: SUCCESS
http://dpdk.org/patch/93404
_Performance Testing PASS_
Submitter: Thierry Herbelot <thierry.herbelot@6wind.com>
Date: Monday, May 24 2021 11:22:38
DPDK git baseline: Repo:dpdk
Branch: master
CommitID:66b3a54b9feab193a5cf8ad54606d745078587cc
93404 --> performance testing pass
Test environment and result as below:
Ubuntu 18.04
Kernel: 4.15.0-generic
Compiler: gcc 7.4
NIC: Mellanox ConnectX-5 100000 Mbps
Target: x86_64-native-linuxapp-gcc
Fail/Total: 0/6
Detail performance results:
+------------+---------+-------------------------------------+
| frame_size | txd/rxd | throughput difference from expected |
+============+=========+=====================================+
| 64 | 256 | -0.19239% |
+------------+---------+-------------------------------------+
| 128 | 256 | -0.12517% |
+------------+---------+-------------------------------------+
| 256 | 256 | -0.03745% |
+------------+---------+-------------------------------------+
| 512 | 256 | 1.43879% |
+------------+---------+-------------------------------------+
| 1024 | 256 | 1.04211% |
+------------+---------+-------------------------------------+
| 1518 | 256 | -0.18768% |
+------------+---------+-------------------------------------+
To view detailed results, visit:
https://lab.dpdk.org/results/dashboard/patchsets/17195/
UNH-IOL DPDK Community Lab
To manage your email subscriptions, visit:
https://lab.dpdk.org/results/dashboard/preferences/subscriptions/
^ permalink raw reply [flat|nested] 7+ messages in thread
* [dpdk-test-report] |SUCCESS| pw93404 [PATCH] net/sfc: fix typo
[not found] <20210524112238.27316-1-thierry.herbelot@6wind.com>
@ 2021-05-24 11:23 ` checkpatch
0 siblings, 0 replies; 7+ messages in thread
From: checkpatch @ 2021-05-24 11:23 UTC (permalink / raw)
To: test-report
Test-Label: checkpatch
Test-Status: SUCCESS
http://dpdk.org/patch/93404
_coding style OK_
^ permalink raw reply [flat|nested] 7+ messages in thread
end of thread, other threads:[~2021-05-25 18:57 UTC | newest]
Thread overview: 7+ messages (download: mbox.gz / follow: Atom feed)
-- links below jump to the message on this page --
2021-05-24 14:09 [dpdk-test-report] |SUCCESS| pw93404 [PATCH] net/sfc: fix typo dpdklab
-- strict thread matches above, loose matches on Subject: below --
2021-05-25 18:57 dpdklab
2021-05-25 18:51 dpdklab
2021-05-25 15:36 dpdklab
2021-05-25 15:24 dpdklab
2021-05-25 15:12 dpdklab
[not found] <20210524112238.27316-1-thierry.herbelot@6wind.com>
2021-05-24 11:23 ` checkpatch
This is a public inbox, see mirroring instructions
for how to clone and mirror all data and code used for this inbox;
as well as URLs for NNTP newsgroup(s).