* [dpdk-test-report] |SUCCESS| pw93411 [PATCH] ixgbe: Add runtime tx/rx queue setup for X550
@ 2021-05-25 10:43 dpdklab
0 siblings, 0 replies; 5+ messages in thread
From: dpdklab @ 2021-05-25 10:43 UTC (permalink / raw)
To: Ali Alnubani, Test Report; +Cc: dpdk-test-reports
[-- Attachment #1: Type: text/plain, Size: 1722 bytes --]
Test-Label: iol-mellanox-Performance
Test-Status: SUCCESS
http://dpdk.org/patch/93411
_Performance Testing PASS_
Submitter: Wu Jianyue <jianyue.wu@nokia-sbell.com>
Date: Monday, May 24 2021 11:53:29
DPDK git baseline: Repo:dpdk
Branch: master
CommitID:66b3a54b9feab193a5cf8ad54606d745078587cc
93411 --> performance testing pass
Test environment and result as below:
Ubuntu 18.04
Kernel: 4.15.0-generic
Compiler: gcc 7.4
NIC: Mellanox ConnectX-5 100000 Mbps
Target: x86_64-native-linuxapp-gcc
Fail/Total: 0/6
Detail performance results:
+------------+---------+-------------------------------------+
| frame_size | txd/rxd | throughput difference from expected |
+============+=========+=====================================+
| 64 | 256 | -0.04204% |
+------------+---------+-------------------------------------+
| 128 | 256 | -0.03497% |
+------------+---------+-------------------------------------+
| 256 | 256 | 0.1423% |
+------------+---------+-------------------------------------+
| 512 | 256 | 0.79488% |
+------------+---------+-------------------------------------+
| 1024 | 256 | 0.82182% |
+------------+---------+-------------------------------------+
| 1518 | 256 | -0.07038% |
+------------+---------+-------------------------------------+
To view detailed results, visit:
https://lab.dpdk.org/results/dashboard/patchsets/17199/
UNH-IOL DPDK Community Lab
To manage your email subscriptions, visit:
https://lab.dpdk.org/results/dashboard/preferences/subscriptions/
^ permalink raw reply [flat|nested] 5+ messages in thread
* [dpdk-test-report] |SUCCESS| pw93411 [PATCH] ixgbe: Add runtime tx/rx queue setup for X550
@ 2021-05-25 12:26 dpdklab
0 siblings, 0 replies; 5+ messages in thread
From: dpdklab @ 2021-05-25 12:26 UTC (permalink / raw)
To: Ali Alnubani, Test Report; +Cc: dpdk-test-reports
[-- Attachment #1: Type: text/plain, Size: 3962 bytes --]
Test-Label: iol-mellanox-Performance
Test-Status: SUCCESS
http://dpdk.org/patch/93411
_Performance Testing PASS_
Submitter: Wu Jianyue <jianyue.wu@nokia-sbell.com>
Date: Monday, May 24 2021 11:53:29
DPDK git baseline: Repo:dpdk
Branch: master
CommitID:66b3a54b9feab193a5cf8ad54606d745078587cc
93411 --> performance testing pass
Test environment and result as below:
Ubuntu 18.04
Kernel: 4.15.0-generic
Compiler: gcc 7.4
NIC: Mellanox ConnectX-5 100000 Mbps
Target: x86_64-native-linuxapp-gcc
Fail/Total: 0/6
Detail performance results:
+------------+---------+-------------------------------------+
| frame_size | txd/rxd | throughput difference from expected |
+============+=========+=====================================+
| 64 | 256 | -0.04204% |
+------------+---------+-------------------------------------+
| 128 | 256 | -0.03497% |
+------------+---------+-------------------------------------+
| 256 | 256 | 0.1423% |
+------------+---------+-------------------------------------+
| 512 | 256 | 0.79488% |
+------------+---------+-------------------------------------+
| 1024 | 256 | 0.82182% |
+------------+---------+-------------------------------------+
| 1518 | 256 | -0.07038% |
+------------+---------+-------------------------------------+
Ubuntu 18.04
Kernel: 4.15.0-generic
Compiler: gcc 7.4
NIC: Mellanox ConnectX-4 Lx 25000 Mbps
Target: x86_64-native-linuxapp-gcc
Fail/Total: 0/6
Detail performance results:
+------------+---------+-------------------------------------+
| frame_size | txd/rxd | throughput difference from expected |
+============+=========+=====================================+
| 64 | 256 | -0.83684% |
+------------+---------+-------------------------------------+
| 128 | 256 | 0.24878% |
+------------+---------+-------------------------------------+
| 256 | 256 | -0.20806% |
+------------+---------+-------------------------------------+
| 512 | 256 | -0.214% |
+------------+---------+-------------------------------------+
| 1024 | 256 | 0.11712% |
+------------+---------+-------------------------------------+
| 1518 | 256 | -0.19685% |
+------------+---------+-------------------------------------+
Ubuntu 18.04
Kernel: 4.15.0-generic
Compiler: gcc 7.4
NIC: Mellanox ConnectX-4 Lx 40000 Mbps
Target: x86_64-native-linuxapp-gcc
Fail/Total: 0/6
Detail performance results:
+------------+---------+-------------------------------------+
| frame_size | txd/rxd | throughput difference from expected |
+============+=========+=====================================+
| 64 | 256 | -0.13416% |
+------------+---------+-------------------------------------+
| 128 | 256 | 0.18603% |
+------------+---------+-------------------------------------+
| 256 | 256 | 0.02561% |
+------------+---------+-------------------------------------+
| 512 | 256 | 0.06923% |
+------------+---------+-------------------------------------+
| 1024 | 256 | -0.02088% |
+------------+---------+-------------------------------------+
| 1518 | 256 | -0.24604% |
+------------+---------+-------------------------------------+
To view detailed results, visit:
https://lab.dpdk.org/results/dashboard/patchsets/17199/
UNH-IOL DPDK Community Lab
To manage your email subscriptions, visit:
https://lab.dpdk.org/results/dashboard/preferences/subscriptions/
^ permalink raw reply [flat|nested] 5+ messages in thread
* [dpdk-test-report] |SUCCESS| pw93411 [PATCH] ixgbe: Add runtime tx/rx queue setup for X550
@ 2021-05-25 11:34 dpdklab
0 siblings, 0 replies; 5+ messages in thread
From: dpdklab @ 2021-05-25 11:34 UTC (permalink / raw)
To: Ali Alnubani, Test Report; +Cc: dpdk-test-reports
[-- Attachment #1: Type: text/plain, Size: 2842 bytes --]
Test-Label: iol-mellanox-Performance
Test-Status: SUCCESS
http://dpdk.org/patch/93411
_Performance Testing PASS_
Submitter: Wu Jianyue <jianyue.wu@nokia-sbell.com>
Date: Monday, May 24 2021 11:53:29
DPDK git baseline: Repo:dpdk
Branch: master
CommitID:66b3a54b9feab193a5cf8ad54606d745078587cc
93411 --> performance testing pass
Test environment and result as below:
Ubuntu 18.04
Kernel: 4.15.0-generic
Compiler: gcc 7.4
NIC: Mellanox ConnectX-5 100000 Mbps
Target: x86_64-native-linuxapp-gcc
Fail/Total: 0/6
Detail performance results:
+------------+---------+-------------------------------------+
| frame_size | txd/rxd | throughput difference from expected |
+============+=========+=====================================+
| 64 | 256 | -0.04204% |
+------------+---------+-------------------------------------+
| 128 | 256 | -0.03497% |
+------------+---------+-------------------------------------+
| 256 | 256 | 0.1423% |
+------------+---------+-------------------------------------+
| 512 | 256 | 0.79488% |
+------------+---------+-------------------------------------+
| 1024 | 256 | 0.82182% |
+------------+---------+-------------------------------------+
| 1518 | 256 | -0.07038% |
+------------+---------+-------------------------------------+
Ubuntu 18.04
Kernel: 4.15.0-generic
Compiler: gcc 7.4
NIC: Mellanox ConnectX-4 Lx 25000 Mbps
Target: x86_64-native-linuxapp-gcc
Fail/Total: 0/6
Detail performance results:
+------------+---------+-------------------------------------+
| frame_size | txd/rxd | throughput difference from expected |
+============+=========+=====================================+
| 64 | 256 | -0.83684% |
+------------+---------+-------------------------------------+
| 128 | 256 | 0.24878% |
+------------+---------+-------------------------------------+
| 256 | 256 | -0.20806% |
+------------+---------+-------------------------------------+
| 512 | 256 | -0.214% |
+------------+---------+-------------------------------------+
| 1024 | 256 | 0.11712% |
+------------+---------+-------------------------------------+
| 1518 | 256 | -0.19685% |
+------------+---------+-------------------------------------+
To view detailed results, visit:
https://lab.dpdk.org/results/dashboard/patchsets/17199/
UNH-IOL DPDK Community Lab
To manage your email subscriptions, visit:
https://lab.dpdk.org/results/dashboard/preferences/subscriptions/
^ permalink raw reply [flat|nested] 5+ messages in thread
* [dpdk-test-report] |SUCCESS| pw93411 [PATCH] ixgbe: Add runtime tx/rx queue setup for X550
@ 2021-05-24 13:32 dpdklab
0 siblings, 0 replies; 5+ messages in thread
From: dpdklab @ 2021-05-24 13:32 UTC (permalink / raw)
To: Test Report; +Cc: dpdklab
[-- Attachment #1: Type: text/plain, Size: 2272 bytes --]
Test-Label: iol-abi-testing
Test-Status: SUCCESS
http://dpdk.org/patch/93411
_Testing PASS_
Submitter: Wu Jianyue <jianyue.wu@nokia-sbell.com>
Date: Monday, May 24 2021 11:53:29
DPDK git baseline: Repo:dpdk
Branch: master
CommitID:66b3a54b9feab193a5cf8ad54606d745078587cc
93411 --> testing pass
Test environment and result as below:
+------------------+----------+
| Environment | abi_test |
+==================+==========+
| Ubuntu 18.04 ARM | PASS |
+------------------+----------+
| CentOS 8 | PASS |
+------------------+----------+
| Fedora 32 | PASS |
+------------------+----------+
| RHEL8 | PASS |
+------------------+----------+
| Ubuntu 20.04 | PASS |
+------------------+----------+
| RHEL 7 | PASS |
+------------------+----------+
| Ubuntu 18.04 | PASS |
+------------------+----------+
| Arch Linux | PASS |
+------------------+----------+
| Fedora 31 | PASS |
+------------------+----------+
| openSUSE Leap 15 | PASS |
+------------------+----------+
| CentOS Stream 8 | PASS |
+------------------+----------+
Ubuntu 18.04 ARM
Kernel: 5.4.0-53-generic
Compiler: gcc 9.3
CentOS 8
Kernel: 4.18.0-240.10.1.el8_3.x86_64
Compiler: gcc 8.3.1 20191121 (Red Hat 8.3.1-5)
Fedora 32
Kernel: 4.18.0-240.10.1.el8_3.x86_64
Compiler: gcc 10.2.1
RHEL8
Kernel: 4.18.0-240.10.1.el8_3.x86_64
Compiler: gcc 8.3.1 20191121 (Red Hat 8.3.1-5)
Ubuntu 20.04
Kernel: 4.18.0-240.10.1.el8_3.x86_64
Compiler: gcc 9.3.0-17ubuntu1~20.04
RHEL 7
Kernel: 4.18.0-240.10.1.el8_3.x86_64
Compiler: gcc 4.8.5 20150623 (Red Hat 4.8.5-44)
Ubuntu 18.04
Kernel: 4.18.0-240.10.1.el8_3.x86_64
Compiler: gcc 7.5.0-3ubuntu1~18.04
Arch Linux
Kernel: 4.18.0-240.10.1.el8_3.x86_64
Compiler: gcc 10.2.0
Fedora 31
Kernel: 4.18.0-240.10.1.el8_3.x86_64
Compiler: gcc 9.3.1
openSUSE Leap 15
Kernel: 4.18.0-240.10.1.el8_3.x86_64
Compiler: gcc 7.5.0
CentOS Stream 8
Kernel: 4.18.0-240.10.1.el8_3.x86_64
Compiler: gcc 8.4.1 20200928
To view detailed results, visit:
https://lab.dpdk.org/results/dashboard/patchsets/17199/
UNH-IOL DPDK Community Lab
To manage your email subscriptions, visit:
https://lab.dpdk.org/results/dashboard/preferences/subscriptions/
^ permalink raw reply [flat|nested] 5+ messages in thread
* [dpdk-test-report] |SUCCESS| pw93411 [PATCH] ixgbe: Add runtime tx/rx queue setup for X550
[not found] <20210524115329.40525-1-jianyue.wu@nokia-sbell.com>
@ 2021-05-24 11:54 ` checkpatch
0 siblings, 0 replies; 5+ messages in thread
From: checkpatch @ 2021-05-24 11:54 UTC (permalink / raw)
To: test-report
Test-Label: checkpatch
Test-Status: SUCCESS
http://dpdk.org/patch/93411
_coding style OK_
^ permalink raw reply [flat|nested] 5+ messages in thread
end of thread, other threads:[~2021-05-25 12:26 UTC | newest]
Thread overview: 5+ messages (download: mbox.gz / follow: Atom feed)
-- links below jump to the message on this page --
2021-05-25 10:43 [dpdk-test-report] |SUCCESS| pw93411 [PATCH] ixgbe: Add runtime tx/rx queue setup for X550 dpdklab
-- strict thread matches above, loose matches on Subject: below --
2021-05-25 12:26 dpdklab
2021-05-25 11:34 dpdklab
2021-05-24 13:32 dpdklab
[not found] <20210524115329.40525-1-jianyue.wu@nokia-sbell.com>
2021-05-24 11:54 ` checkpatch
This is a public inbox, see mirroring instructions
for how to clone and mirror all data and code used for this inbox;
as well as URLs for NNTP newsgroup(s).