* [dpdk-test-report] |SUCCESS| pw93395 [PATCH] [v2] net/pfe: no need to check dev to be NULL Pointer
@ 2021-05-25 14:59 dpdklab
0 siblings, 0 replies; 9+ messages in thread
From: dpdklab @ 2021-05-25 14:59 UTC (permalink / raw)
To: Test Report; +Cc: dpdk-test-reports
[-- Attachment #1: Type: text/plain, Size: 1261 bytes --]
Test-Label: iol-intel-Performance
Test-Status: SUCCESS
http://dpdk.org/patch/93395
_Performance Testing PASS_
Submitter: Thierry Herbelot <thierry.herbelot@6wind.com>
Date: Monday, May 24 2021 09:37:54
DPDK git baseline: Repo:dpdk
Branch: master
CommitID:66b3a54b9feab193a5cf8ad54606d745078587cc
93395 --> performance testing pass
Test environment and result as below:
Ubuntu 18.04
Kernel: 4.15.0-generic
Compiler: gcc 7.4
NIC: Intel Corporation Ethernet Converged Network Adapter 82599ES 10000 Mbps
Target: x86_64-native-linuxapp-gcc
Fail/Total: 0/2
Detail performance results:
+------------+---------+-------------------------------------+
| frame_size | txd/rxd | throughput difference from expected |
+============+=========+=====================================+
| 64 | 512 | -0.82293% |
+------------+---------+-------------------------------------+
| 64 | 2048 | 0.53028% |
+------------+---------+-------------------------------------+
To view detailed results, visit:
https://lab.dpdk.org/results/dashboard/patchsets/17190/
UNH-IOL DPDK Community Lab
To manage your email subscriptions, visit:
https://lab.dpdk.org/results/dashboard/preferences/subscriptions/
^ permalink raw reply [flat|nested] 9+ messages in thread
* [dpdk-test-report] |SUCCESS| pw93395 [PATCH] [v2] net/pfe: no need to check dev to be NULL Pointer
@ 2021-05-25 15:10 dpdklab
0 siblings, 0 replies; 9+ messages in thread
From: dpdklab @ 2021-05-25 15:10 UTC (permalink / raw)
To: Test Report; +Cc: dpdk-test-reports
[-- Attachment #1: Type: text/plain, Size: 788 bytes --]
Test-Label: iol-intel-Functional
Test-Status: SUCCESS
http://dpdk.org/patch/93395
_Functional Testing PASS_
Submitter: Thierry Herbelot <thierry.herbelot@6wind.com>
Date: Monday, May 24 2021 09:37:54
DPDK git baseline: Repo:dpdk
Branch: master
CommitID:66b3a54b9feab193a5cf8ad54606d745078587cc
93395 --> functional testing pass
Test environment and result as below:
Ubuntu 18.04
Kernel: 4.15.0-generic
Compiler: gcc 7.4
NIC: Intel Corporation Ethernet Converged Network Adapter 82599ES 10000 Mbps
Target: x86_64-native-linuxapp-gcc
Fail/Total: 0/5
To view detailed results, visit:
https://lab.dpdk.org/results/dashboard/patchsets/17190/
UNH-IOL DPDK Community Lab
To manage your email subscriptions, visit:
https://lab.dpdk.org/results/dashboard/preferences/subscriptions/
^ permalink raw reply [flat|nested] 9+ messages in thread
* [dpdk-test-report] |SUCCESS| pw93395 [PATCH] [v2] net/pfe: no need to check dev to be NULL Pointer
@ 2021-05-24 18:52 dpdklab
0 siblings, 0 replies; 9+ messages in thread
From: dpdklab @ 2021-05-24 18:52 UTC (permalink / raw)
To: Ali Alnubani, Test Report; +Cc: dpdk-test-reports
[-- Attachment #1: Type: text/plain, Size: 899 bytes --]
Test-Label: iol-mellanox-Functional
Test-Status: SUCCESS
http://dpdk.org/patch/93395
_Functional Testing PASS_
Submitter: Thierry Herbelot <thierry.herbelot@6wind.com>
Date: Monday, May 24 2021 09:37:54
DPDK git baseline: Repo:dpdk
Branch: master
CommitID:66b3a54b9feab193a5cf8ad54606d745078587cc
93395 --> functional testing pass
Test environment and result as below:
Ubuntu 18.04
Kernel: 4.15.0-generic
Compiler: gcc 7.4
NIC: Mellanox ConnectX-4 Lx 40000 Mbps
Target: x86_64-native-linuxapp-gcc
Fail/Total: 0/4
Ubuntu 18.04
Kernel: 4.15.0-generic
Compiler: gcc 7.4
NIC: Mellanox ConnectX-4 Lx 25000 Mbps
Target: x86_64-native-linuxapp-gcc
Fail/Total: 0/4
To view detailed results, visit:
https://lab.dpdk.org/results/dashboard/patchsets/17190/
UNH-IOL DPDK Community Lab
To manage your email subscriptions, visit:
https://lab.dpdk.org/results/dashboard/preferences/subscriptions/
^ permalink raw reply [flat|nested] 9+ messages in thread
* [dpdk-test-report] |SUCCESS| pw93395 [PATCH] [v2] net/pfe: no need to check dev to be NULL Pointer
@ 2021-05-24 18:13 dpdklab
0 siblings, 0 replies; 9+ messages in thread
From: dpdklab @ 2021-05-24 18:13 UTC (permalink / raw)
To: Ali Alnubani, Test Report; +Cc: dpdk-test-reports
[-- Attachment #1: Type: text/plain, Size: 3968 bytes --]
Test-Label: iol-mellanox-Performance
Test-Status: SUCCESS
http://dpdk.org/patch/93395
_Performance Testing PASS_
Submitter: Thierry Herbelot <thierry.herbelot@6wind.com>
Date: Monday, May 24 2021 09:37:54
DPDK git baseline: Repo:dpdk
Branch: master
CommitID:66b3a54b9feab193a5cf8ad54606d745078587cc
93395 --> performance testing pass
Test environment and result as below:
Ubuntu 18.04
Kernel: 4.15.0-generic
Compiler: gcc 7.4
NIC: Mellanox ConnectX-5 100000 Mbps
Target: x86_64-native-linuxapp-gcc
Fail/Total: 0/6
Detail performance results:
+------------+---------+-------------------------------------+
| frame_size | txd/rxd | throughput difference from expected |
+============+=========+=====================================+
| 64 | 256 | -0.26676% |
+------------+---------+-------------------------------------+
| 128 | 256 | -0.37366% |
+------------+---------+-------------------------------------+
| 256 | 256 | -0.40692% |
+------------+---------+-------------------------------------+
| 512 | 256 | 0.67943% |
+------------+---------+-------------------------------------+
| 1024 | 256 | 0.41515% |
+------------+---------+-------------------------------------+
| 1518 | 256 | 0.09384% |
+------------+---------+-------------------------------------+
Ubuntu 18.04
Kernel: 4.15.0-generic
Compiler: gcc 7.4
NIC: Mellanox ConnectX-4 Lx 40000 Mbps
Target: x86_64-native-linuxapp-gcc
Fail/Total: 0/6
Detail performance results:
+------------+---------+-------------------------------------+
| frame_size | txd/rxd | throughput difference from expected |
+============+=========+=====================================+
| 64 | 256 | 0.39105% |
+------------+---------+-------------------------------------+
| 128 | 256 | -0.12879% |
+------------+---------+-------------------------------------+
| 256 | 256 | 0.34755% |
+------------+---------+-------------------------------------+
| 512 | 256 | 0.03195% |
+------------+---------+-------------------------------------+
| 1024 | 256 | -0.03132% |
+------------+---------+-------------------------------------+
| 1518 | 256 | 0.01538% |
+------------+---------+-------------------------------------+
Ubuntu 18.04
Kernel: 4.15.0-generic
Compiler: gcc 7.4
NIC: Mellanox ConnectX-4 Lx 25000 Mbps
Target: x86_64-native-linuxapp-gcc
Fail/Total: 0/6
Detail performance results:
+------------+---------+-------------------------------------+
| frame_size | txd/rxd | throughput difference from expected |
+============+=========+=====================================+
| 64 | 256 | -0.21487% |
+------------+---------+-------------------------------------+
| 128 | 256 | 0.08638% |
+------------+---------+-------------------------------------+
| 256 | 256 | -0.1288% |
+------------+---------+-------------------------------------+
| 512 | 256 | 0.27393% |
+------------+---------+-------------------------------------+
| 1024 | 256 | -0.01673% |
+------------+---------+-------------------------------------+
| 1518 | 256 | -0.19685% |
+------------+---------+-------------------------------------+
To view detailed results, visit:
https://lab.dpdk.org/results/dashboard/patchsets/17190/
UNH-IOL DPDK Community Lab
To manage your email subscriptions, visit:
https://lab.dpdk.org/results/dashboard/preferences/subscriptions/
^ permalink raw reply [flat|nested] 9+ messages in thread
* [dpdk-test-report] |SUCCESS| pw93395 [PATCH] [v2] net/pfe: no need to check dev to be NULL Pointer
@ 2021-05-24 18:01 dpdklab
0 siblings, 0 replies; 9+ messages in thread
From: dpdklab @ 2021-05-24 18:01 UTC (permalink / raw)
To: Ali Alnubani, Test Report; +Cc: dpdk-test-reports
[-- Attachment #1: Type: text/plain, Size: 2848 bytes --]
Test-Label: iol-mellanox-Performance
Test-Status: SUCCESS
http://dpdk.org/patch/93395
_Performance Testing PASS_
Submitter: Thierry Herbelot <thierry.herbelot@6wind.com>
Date: Monday, May 24 2021 09:37:54
DPDK git baseline: Repo:dpdk
Branch: master
CommitID:66b3a54b9feab193a5cf8ad54606d745078587cc
93395 --> performance testing pass
Test environment and result as below:
Ubuntu 18.04
Kernel: 4.15.0-generic
Compiler: gcc 7.4
NIC: Mellanox ConnectX-5 100000 Mbps
Target: x86_64-native-linuxapp-gcc
Fail/Total: 0/6
Detail performance results:
+------------+---------+-------------------------------------+
| frame_size | txd/rxd | throughput difference from expected |
+============+=========+=====================================+
| 64 | 256 | -0.26676% |
+------------+---------+-------------------------------------+
| 128 | 256 | -0.37366% |
+------------+---------+-------------------------------------+
| 256 | 256 | -0.40692% |
+------------+---------+-------------------------------------+
| 512 | 256 | 0.67943% |
+------------+---------+-------------------------------------+
| 1024 | 256 | 0.41515% |
+------------+---------+-------------------------------------+
| 1518 | 256 | 0.09384% |
+------------+---------+-------------------------------------+
Ubuntu 18.04
Kernel: 4.15.0-generic
Compiler: gcc 7.4
NIC: Mellanox ConnectX-4 Lx 40000 Mbps
Target: x86_64-native-linuxapp-gcc
Fail/Total: 0/6
Detail performance results:
+------------+---------+-------------------------------------+
| frame_size | txd/rxd | throughput difference from expected |
+============+=========+=====================================+
| 64 | 256 | 0.39105% |
+------------+---------+-------------------------------------+
| 128 | 256 | -0.12879% |
+------------+---------+-------------------------------------+
| 256 | 256 | 0.34755% |
+------------+---------+-------------------------------------+
| 512 | 256 | 0.03195% |
+------------+---------+-------------------------------------+
| 1024 | 256 | -0.03132% |
+------------+---------+-------------------------------------+
| 1518 | 256 | 0.01538% |
+------------+---------+-------------------------------------+
To view detailed results, visit:
https://lab.dpdk.org/results/dashboard/patchsets/17190/
UNH-IOL DPDK Community Lab
To manage your email subscriptions, visit:
https://lab.dpdk.org/results/dashboard/preferences/subscriptions/
^ permalink raw reply [flat|nested] 9+ messages in thread
* [dpdk-test-report] |SUCCESS| pw93395 [PATCH] [v2] net/pfe: no need to check dev to be NULL Pointer
@ 2021-05-24 17:48 dpdklab
0 siblings, 0 replies; 9+ messages in thread
From: dpdklab @ 2021-05-24 17:48 UTC (permalink / raw)
To: Ali Alnubani, Test Report; +Cc: dpdk-test-reports
[-- Attachment #1: Type: text/plain, Size: 1728 bytes --]
Test-Label: iol-mellanox-Performance
Test-Status: SUCCESS
http://dpdk.org/patch/93395
_Performance Testing PASS_
Submitter: Thierry Herbelot <thierry.herbelot@6wind.com>
Date: Monday, May 24 2021 09:37:54
DPDK git baseline: Repo:dpdk
Branch: master
CommitID:66b3a54b9feab193a5cf8ad54606d745078587cc
93395 --> performance testing pass
Test environment and result as below:
Ubuntu 18.04
Kernel: 4.15.0-generic
Compiler: gcc 7.4
NIC: Mellanox ConnectX-5 100000 Mbps
Target: x86_64-native-linuxapp-gcc
Fail/Total: 0/6
Detail performance results:
+------------+---------+-------------------------------------+
| frame_size | txd/rxd | throughput difference from expected |
+============+=========+=====================================+
| 64 | 256 | -0.26676% |
+------------+---------+-------------------------------------+
| 128 | 256 | -0.37366% |
+------------+---------+-------------------------------------+
| 256 | 256 | -0.40692% |
+------------+---------+-------------------------------------+
| 512 | 256 | 0.67943% |
+------------+---------+-------------------------------------+
| 1024 | 256 | 0.41515% |
+------------+---------+-------------------------------------+
| 1518 | 256 | 0.09384% |
+------------+---------+-------------------------------------+
To view detailed results, visit:
https://lab.dpdk.org/results/dashboard/patchsets/17190/
UNH-IOL DPDK Community Lab
To manage your email subscriptions, visit:
https://lab.dpdk.org/results/dashboard/preferences/subscriptions/
^ permalink raw reply [flat|nested] 9+ messages in thread
* [dpdk-test-report] |SUCCESS| pw93395 [PATCH] [v2] net/pfe: no need to check dev to be NULL Pointer
@ 2021-05-24 17:36 dpdklab
0 siblings, 0 replies; 9+ messages in thread
From: dpdklab @ 2021-05-24 17:36 UTC (permalink / raw)
To: Ali Alnubani, Test Report; +Cc: dpdk-test-reports
[-- Attachment #1: Type: text/plain, Size: 753 bytes --]
Test-Label: iol-mellanox-Functional
Test-Status: SUCCESS
http://dpdk.org/patch/93395
_Functional Testing PASS_
Submitter: Thierry Herbelot <thierry.herbelot@6wind.com>
Date: Monday, May 24 2021 09:37:54
DPDK git baseline: Repo:dpdk
Branch: master
CommitID:66b3a54b9feab193a5cf8ad54606d745078587cc
93395 --> functional testing pass
Test environment and result as below:
Ubuntu 18.04
Kernel: 4.15.0-generic
Compiler: gcc 7.4
NIC: Mellanox ConnectX-4 Lx 40000 Mbps
Target: x86_64-native-linuxapp-gcc
Fail/Total: 0/4
To view detailed results, visit:
https://lab.dpdk.org/results/dashboard/patchsets/17190/
UNH-IOL DPDK Community Lab
To manage your email subscriptions, visit:
https://lab.dpdk.org/results/dashboard/preferences/subscriptions/
^ permalink raw reply [flat|nested] 9+ messages in thread
* [dpdk-test-report] |SUCCESS| pw93395 [PATCH] [v2] net/pfe: no need to check dev to be NULL Pointer
@ 2021-05-24 11:01 dpdklab
0 siblings, 0 replies; 9+ messages in thread
From: dpdklab @ 2021-05-24 11:01 UTC (permalink / raw)
To: Test Report; +Cc: dpdklab
[-- Attachment #1: Type: text/plain, Size: 2278 bytes --]
Test-Label: iol-abi-testing
Test-Status: SUCCESS
http://dpdk.org/patch/93395
_Testing PASS_
Submitter: Thierry Herbelot <thierry.herbelot@6wind.com>
Date: Monday, May 24 2021 09:37:54
DPDK git baseline: Repo:dpdk
Branch: master
CommitID:66b3a54b9feab193a5cf8ad54606d745078587cc
93395 --> testing pass
Test environment and result as below:
+------------------+----------+
| Environment | abi_test |
+==================+==========+
| Ubuntu 18.04 ARM | PASS |
+------------------+----------+
| Ubuntu 18.04 | PASS |
+------------------+----------+
| Fedora 32 | PASS |
+------------------+----------+
| RHEL 7 | PASS |
+------------------+----------+
| RHEL8 | PASS |
+------------------+----------+
| Ubuntu 20.04 | PASS |
+------------------+----------+
| CentOS 8 | PASS |
+------------------+----------+
| Arch Linux | PASS |
+------------------+----------+
| openSUSE Leap 15 | PASS |
+------------------+----------+
| Fedora 31 | PASS |
+------------------+----------+
| CentOS Stream 8 | PASS |
+------------------+----------+
Ubuntu 18.04 ARM
Kernel: 5.4.0-53-generic
Compiler: gcc 9.3
Ubuntu 18.04
Kernel: 4.18.0-240.10.1.el8_3.x86_64
Compiler: gcc 7.5.0-3ubuntu1~18.04
Fedora 32
Kernel: 4.18.0-240.10.1.el8_3.x86_64
Compiler: gcc 10.2.1
RHEL 7
Kernel: 4.18.0-240.10.1.el8_3.x86_64
Compiler: gcc 4.8.5 20150623 (Red Hat 4.8.5-44)
RHEL8
Kernel: 4.18.0-240.10.1.el8_3.x86_64
Compiler: gcc 8.3.1 20191121 (Red Hat 8.3.1-5)
Ubuntu 20.04
Kernel: 4.18.0-240.10.1.el8_3.x86_64
Compiler: gcc 9.3.0-17ubuntu1~20.04
CentOS 8
Kernel: 4.18.0-240.10.1.el8_3.x86_64
Compiler: gcc 8.3.1 20191121 (Red Hat 8.3.1-5)
Arch Linux
Kernel: 4.18.0-240.10.1.el8_3.x86_64
Compiler: gcc 10.2.0
openSUSE Leap 15
Kernel: 4.18.0-240.10.1.el8_3.x86_64
Compiler: gcc 7.5.0
Fedora 31
Kernel: 4.18.0-240.10.1.el8_3.x86_64
Compiler: gcc 9.3.1
CentOS Stream 8
Kernel: 4.18.0-240.10.1.el8_3.x86_64
Compiler: gcc 8.4.1 20200928
To view detailed results, visit:
https://lab.dpdk.org/results/dashboard/patchsets/17190/
UNH-IOL DPDK Community Lab
To manage your email subscriptions, visit:
https://lab.dpdk.org/results/dashboard/preferences/subscriptions/
^ permalink raw reply [flat|nested] 9+ messages in thread
* [dpdk-test-report] |SUCCESS| pw93395 [PATCH v2] net/pfe: no need to check dev to be NULL Pointer
[not found] <20210524093754.21046-1-thierry.herbelot@6wind.com>
@ 2021-05-24 9:39 ` checkpatch
0 siblings, 0 replies; 9+ messages in thread
From: checkpatch @ 2021-05-24 9:39 UTC (permalink / raw)
To: test-report
Test-Label: checkpatch
Test-Status: SUCCESS
http://dpdk.org/patch/93395
_coding style OK_
^ permalink raw reply [flat|nested] 9+ messages in thread
end of thread, other threads:[~2021-05-25 15:10 UTC | newest]
Thread overview: 9+ messages (download: mbox.gz / follow: Atom feed)
-- links below jump to the message on this page --
2021-05-25 14:59 [dpdk-test-report] |SUCCESS| pw93395 [PATCH] [v2] net/pfe: no need to check dev to be NULL Pointer dpdklab
-- strict thread matches above, loose matches on Subject: below --
2021-05-25 15:10 dpdklab
2021-05-24 18:52 dpdklab
2021-05-24 18:13 dpdklab
2021-05-24 18:01 dpdklab
2021-05-24 17:48 dpdklab
2021-05-24 17:36 dpdklab
2021-05-24 11:01 dpdklab
[not found] <20210524093754.21046-1-thierry.herbelot@6wind.com>
2021-05-24 9:39 ` [dpdk-test-report] |SUCCESS| pw93395 [PATCH v2] " checkpatch
This is a public inbox, see mirroring instructions
for how to clone and mirror all data and code used for this inbox;
as well as URLs for NNTP newsgroup(s).