* [dpdk-test-report] |SUCCESS| pw93419-93420 [PATCH] [v7, 2/2] net/hns3: refactor SVE code compile method
@ 2021-05-25 19:15 dpdklab
0 siblings, 0 replies; 5+ messages in thread
From: dpdklab @ 2021-05-25 19:15 UTC (permalink / raw)
To: Ali Alnubani, Test Report; +Cc: dpdk-test-reports
[-- Attachment #1: Type: text/plain, Size: 2848 bytes --]
Test-Label: iol-mellanox-Performance
Test-Status: SUCCESS
http://dpdk.org/patch/93420
_Performance Testing PASS_
Submitter: Chengwen Feng <fengchengwen@huawei.com>
Date: Monday, May 24 2021 13:12:03
DPDK git baseline: Repo:dpdk
Branch: master
CommitID:66b3a54b9feab193a5cf8ad54606d745078587cc
93419-93420 --> performance testing pass
Test environment and result as below:
Ubuntu 18.04
Kernel: 4.15.0-generic
Compiler: gcc 7.4
NIC: Mellanox ConnectX-5 100000 Mbps
Target: x86_64-native-linuxapp-gcc
Fail/Total: 0/6
Detail performance results:
+------------+---------+-------------------------------------+
| frame_size | txd/rxd | throughput difference from expected |
+============+=========+=====================================+
| 64 | 256 | -0.15359% |
+------------+---------+-------------------------------------+
| 128 | 256 | -0.25402% |
+------------+---------+-------------------------------------+
| 256 | 256 | 0.4194% |
+------------+---------+-------------------------------------+
| 512 | 256 | 0.53288% |
+------------+---------+-------------------------------------+
| 1024 | 256 | 0.04236% |
+------------+---------+-------------------------------------+
| 1518 | 256 | 0.09384% |
+------------+---------+-------------------------------------+
Ubuntu 18.04
Kernel: 4.15.0-generic
Compiler: gcc 7.4
NIC: Mellanox ConnectX-4 Lx 25000 Mbps
Target: x86_64-native-linuxapp-gcc
Fail/Total: 0/6
Detail performance results:
+------------+---------+-------------------------------------+
| frame_size | txd/rxd | throughput difference from expected |
+============+=========+=====================================+
| 64 | 256 | -0.18659% |
+------------+---------+-------------------------------------+
| 128 | 256 | 0.01382% |
+------------+---------+-------------------------------------+
| 256 | 256 | -0.67869% |
+------------+---------+-------------------------------------+
| 512 | 256 | 0.20544% |
+------------+---------+-------------------------------------+
| 1024 | 256 | 0.16731% |
+------------+---------+-------------------------------------+
| 1518 | 256 | -0.09843% |
+------------+---------+-------------------------------------+
To view detailed results, visit:
https://lab.dpdk.org/results/dashboard/patchsets/17202/
UNH-IOL DPDK Community Lab
To manage your email subscriptions, visit:
https://lab.dpdk.org/results/dashboard/preferences/subscriptions/
^ permalink raw reply [flat|nested] 5+ messages in thread
* [dpdk-test-report] |SUCCESS| pw93419-93420 [PATCH] [v7, 2/2] net/hns3: refactor SVE code compile method
@ 2021-05-25 21:58 dpdklab
0 siblings, 0 replies; 5+ messages in thread
From: dpdklab @ 2021-05-25 21:58 UTC (permalink / raw)
To: Test Report; +Cc: dpdk-test-reports
[-- Attachment #1: Type: text/plain, Size: 1930 bytes --]
Test-Label: iol-intel-Performance
Test-Status: SUCCESS
http://dpdk.org/patch/93420
_Performance Testing PASS_
Submitter: Chengwen Feng <fengchengwen@huawei.com>
Date: Monday, May 24 2021 13:12:03
DPDK git baseline: Repo:dpdk
Branch: master
CommitID:66b3a54b9feab193a5cf8ad54606d745078587cc
93419-93420 --> performance testing pass
Test environment and result as below:
Ubuntu 18.04 ARM
Kernel: 4.15.0-132-generic
Compiler: gcc 7.5
NIC: Arm Intel Corporation Ethernet Converged Network Adapter XL710-QDA2 40000 Mbps
Target: x86_64-native-linuxapp-gcc
Fail/Total: 0/2
Detail performance results:
+------------+---------+-------------------------------------+
| frame_size | txd/rxd | throughput difference from expected |
+============+=========+=====================================+
| 64 | 512 | -0.15658% |
+------------+---------+-------------------------------------+
| 64 | 2048 | 0.0856% |
+------------+---------+-------------------------------------+
Ubuntu 18.04
Kernel: 4.15.0-generic
Compiler: gcc 7.4
NIC: Intel Corporation Ethernet Converged Network Adapter 82599ES 10000 Mbps
Target: x86_64-native-linuxapp-gcc
Fail/Total: 0/2
Detail performance results:
+------------+---------+-------------------------------------+
| frame_size | txd/rxd | throughput difference from expected |
+============+=========+=====================================+
| 64 | 512 | -0.60246% |
+------------+---------+-------------------------------------+
| 64 | 2048 | 0.67695% |
+------------+---------+-------------------------------------+
To view detailed results, visit:
https://lab.dpdk.org/results/dashboard/patchsets/17202/
UNH-IOL DPDK Community Lab
To manage your email subscriptions, visit:
https://lab.dpdk.org/results/dashboard/preferences/subscriptions/
^ permalink raw reply [flat|nested] 5+ messages in thread
* [dpdk-test-report] |SUCCESS| pw93419-93420 [PATCH] [v7, 2/2] net/hns3: refactor SVE code compile method
@ 2021-05-25 19:28 dpdklab
0 siblings, 0 replies; 5+ messages in thread
From: dpdklab @ 2021-05-25 19:28 UTC (permalink / raw)
To: Ali Alnubani, Test Report; +Cc: dpdk-test-reports
[-- Attachment #1: Type: text/plain, Size: 3968 bytes --]
Test-Label: iol-mellanox-Performance
Test-Status: SUCCESS
http://dpdk.org/patch/93420
_Performance Testing PASS_
Submitter: Chengwen Feng <fengchengwen@huawei.com>
Date: Monday, May 24 2021 13:12:03
DPDK git baseline: Repo:dpdk
Branch: master
CommitID:66b3a54b9feab193a5cf8ad54606d745078587cc
93419-93420 --> performance testing pass
Test environment and result as below:
Ubuntu 18.04
Kernel: 4.15.0-generic
Compiler: gcc 7.4
NIC: Mellanox ConnectX-5 100000 Mbps
Target: x86_64-native-linuxapp-gcc
Fail/Total: 0/6
Detail performance results:
+------------+---------+-------------------------------------+
| frame_size | txd/rxd | throughput difference from expected |
+============+=========+=====================================+
| 64 | 256 | -0.15359% |
+------------+---------+-------------------------------------+
| 128 | 256 | -0.25402% |
+------------+---------+-------------------------------------+
| 256 | 256 | 0.4194% |
+------------+---------+-------------------------------------+
| 512 | 256 | 0.53288% |
+------------+---------+-------------------------------------+
| 1024 | 256 | 0.04236% |
+------------+---------+-------------------------------------+
| 1518 | 256 | 0.09384% |
+------------+---------+-------------------------------------+
Ubuntu 18.04
Kernel: 4.15.0-generic
Compiler: gcc 7.4
NIC: Mellanox ConnectX-4 Lx 25000 Mbps
Target: x86_64-native-linuxapp-gcc
Fail/Total: 0/6
Detail performance results:
+------------+---------+-------------------------------------+
| frame_size | txd/rxd | throughput difference from expected |
+============+=========+=====================================+
| 64 | 256 | -0.18659% |
+------------+---------+-------------------------------------+
| 128 | 256 | 0.01382% |
+------------+---------+-------------------------------------+
| 256 | 256 | -0.67869% |
+------------+---------+-------------------------------------+
| 512 | 256 | 0.20544% |
+------------+---------+-------------------------------------+
| 1024 | 256 | 0.16731% |
+------------+---------+-------------------------------------+
| 1518 | 256 | -0.09843% |
+------------+---------+-------------------------------------+
Ubuntu 18.04
Kernel: 4.15.0-generic
Compiler: gcc 7.4
NIC: Mellanox ConnectX-4 Lx 40000 Mbps
Target: x86_64-native-linuxapp-gcc
Fail/Total: 0/6
Detail performance results:
+------------+---------+-------------------------------------+
| frame_size | txd/rxd | throughput difference from expected |
+============+=========+=====================================+
| 64 | 256 | 0.05709% |
+------------+---------+-------------------------------------+
| 128 | 256 | 1.00744% |
+------------+---------+-------------------------------------+
| 256 | 256 | 0.10975% |
+------------+---------+-------------------------------------+
| 512 | 256 | 0.07988% |
+------------+---------+-------------------------------------+
| 1024 | 256 | 0.0% |
+------------+---------+-------------------------------------+
| 1518 | 256 | 0.01538% |
+------------+---------+-------------------------------------+
To view detailed results, visit:
https://lab.dpdk.org/results/dashboard/patchsets/17202/
UNH-IOL DPDK Community Lab
To manage your email subscriptions, visit:
https://lab.dpdk.org/results/dashboard/preferences/subscriptions/
^ permalink raw reply [flat|nested] 5+ messages in thread
* [dpdk-test-report] |SUCCESS| pw93419-93420 [PATCH] [v7, 2/2] net/hns3: refactor SVE code compile method
@ 2021-05-25 18:24 dpdklab
0 siblings, 0 replies; 5+ messages in thread
From: dpdklab @ 2021-05-25 18:24 UTC (permalink / raw)
To: Ali Alnubani, Test Report; +Cc: dpdk-test-reports
[-- Attachment #1: Type: text/plain, Size: 1728 bytes --]
Test-Label: iol-mellanox-Performance
Test-Status: SUCCESS
http://dpdk.org/patch/93420
_Performance Testing PASS_
Submitter: Chengwen Feng <fengchengwen@huawei.com>
Date: Monday, May 24 2021 13:12:03
DPDK git baseline: Repo:dpdk
Branch: master
CommitID:66b3a54b9feab193a5cf8ad54606d745078587cc
93419-93420 --> performance testing pass
Test environment and result as below:
Ubuntu 18.04
Kernel: 4.15.0-generic
Compiler: gcc 7.4
NIC: Mellanox ConnectX-5 100000 Mbps
Target: x86_64-native-linuxapp-gcc
Fail/Total: 0/6
Detail performance results:
+------------+---------+-------------------------------------+
| frame_size | txd/rxd | throughput difference from expected |
+============+=========+=====================================+
| 64 | 256 | -0.15359% |
+------------+---------+-------------------------------------+
| 128 | 256 | -0.25402% |
+------------+---------+-------------------------------------+
| 256 | 256 | 0.4194% |
+------------+---------+-------------------------------------+
| 512 | 256 | 0.53288% |
+------------+---------+-------------------------------------+
| 1024 | 256 | 0.04236% |
+------------+---------+-------------------------------------+
| 1518 | 256 | 0.09384% |
+------------+---------+-------------------------------------+
To view detailed results, visit:
https://lab.dpdk.org/results/dashboard/patchsets/17202/
UNH-IOL DPDK Community Lab
To manage your email subscriptions, visit:
https://lab.dpdk.org/results/dashboard/preferences/subscriptions/
^ permalink raw reply [flat|nested] 5+ messages in thread
* [dpdk-test-report] |SUCCESS| pw93419-93420 [PATCH] [v7, 2/2] net/hns3: refactor SVE code compile method
@ 2021-05-24 15:00 dpdklab
0 siblings, 0 replies; 5+ messages in thread
From: dpdklab @ 2021-05-24 15:00 UTC (permalink / raw)
To: Test Report; +Cc: dpdk-test-reports
[-- Attachment #1: Type: text/plain, Size: 2278 bytes --]
Test-Label: iol-abi-testing
Test-Status: SUCCESS
http://dpdk.org/patch/93420
_Testing PASS_
Submitter: Chengwen Feng <fengchengwen@huawei.com>
Date: Monday, May 24 2021 13:12:03
DPDK git baseline: Repo:dpdk
Branch: master
CommitID:66b3a54b9feab193a5cf8ad54606d745078587cc
93419-93420 --> testing pass
Test environment and result as below:
+------------------+----------+
| Environment | abi_test |
+==================+==========+
| RHEL8 | PASS |
+------------------+----------+
| Ubuntu 18.04 | PASS |
+------------------+----------+
| Ubuntu 20.04 | PASS |
+------------------+----------+
| Arch Linux | PASS |
+------------------+----------+
| RHEL 7 | PASS |
+------------------+----------+
| CentOS 8 | PASS |
+------------------+----------+
| Ubuntu 18.04 ARM | PASS |
+------------------+----------+
| CentOS Stream 8 | PASS |
+------------------+----------+
| Fedora 31 | PASS |
+------------------+----------+
| Fedora 32 | PASS |
+------------------+----------+
| openSUSE Leap 15 | PASS |
+------------------+----------+
RHEL8
Kernel: 4.18.0-240.10.1.el8_3.x86_64
Compiler: gcc 8.3.1 20191121 (Red Hat 8.3.1-5)
Ubuntu 18.04
Kernel: 4.18.0-240.10.1.el8_3.x86_64
Compiler: gcc 7.5.0-3ubuntu1~18.04
Ubuntu 20.04
Kernel: 4.18.0-240.10.1.el8_3.x86_64
Compiler: gcc 9.3.0-17ubuntu1~20.04
Arch Linux
Kernel: 4.18.0-240.10.1.el8_3.x86_64
Compiler: gcc 10.2.0
RHEL 7
Kernel: 4.18.0-240.10.1.el8_3.x86_64
Compiler: gcc 4.8.5 20150623 (Red Hat 4.8.5-44)
CentOS 8
Kernel: 4.18.0-240.10.1.el8_3.x86_64
Compiler: gcc 8.3.1 20191121 (Red Hat 8.3.1-5)
Ubuntu 18.04 ARM
Kernel: 5.4.0-53-generic
Compiler: gcc 9.3
CentOS Stream 8
Kernel: 4.18.0-240.10.1.el8_3.x86_64
Compiler: gcc 8.4.1 20200928
Fedora 31
Kernel: 4.18.0-240.10.1.el8_3.x86_64
Compiler: gcc 9.3.1
Fedora 32
Kernel: 4.18.0-240.10.1.el8_3.x86_64
Compiler: gcc 10.2.1
openSUSE Leap 15
Kernel: 4.18.0-240.10.1.el8_3.x86_64
Compiler: gcc 7.5.0
To view detailed results, visit:
https://lab.dpdk.org/results/dashboard/patchsets/17202/
UNH-IOL DPDK Community Lab
To manage your email subscriptions, visit:
https://lab.dpdk.org/results/dashboard/preferences/subscriptions/
^ permalink raw reply [flat|nested] 5+ messages in thread
end of thread, other threads:[~2021-05-25 21:58 UTC | newest]
Thread overview: 5+ messages (download: mbox.gz / follow: Atom feed)
-- links below jump to the message on this page --
2021-05-25 19:15 [dpdk-test-report] |SUCCESS| pw93419-93420 [PATCH] [v7, 2/2] net/hns3: refactor SVE code compile method dpdklab
-- strict thread matches above, loose matches on Subject: below --
2021-05-25 21:58 dpdklab
2021-05-25 19:28 dpdklab
2021-05-25 18:24 dpdklab
2021-05-24 15:00 dpdklab
This is a public inbox, see mirroring instructions
for how to clone and mirror all data and code used for this inbox;
as well as URLs for NNTP newsgroup(s).