* [dpdk-test-report] |SUCCESS| pw93448 [PATCH] [v2] test: remove strict timing requirements from alarm and cycles tests
@ 2021-05-26 13:01 dpdklab
0 siblings, 0 replies; 7+ messages in thread
From: dpdklab @ 2021-05-26 13:01 UTC (permalink / raw)
To: Test Report; +Cc: dpdklab
[-- Attachment #1: Type: text/plain, Size: 2269 bytes --]
Test-Label: iol-abi-testing
Test-Status: SUCCESS
http://dpdk.org/patch/93448
_Testing PASS_
Submitter: Aaron Conole <aconole@redhat.com>
Date: Wednesday, May 26 2021 11:58:40
DPDK git baseline: Repo:dpdk
Branch: master
CommitID:66b3a54b9feab193a5cf8ad54606d745078587cc
93448 --> testing pass
Test environment and result as below:
+------------------+----------+
| Environment | abi_test |
+==================+==========+
| Ubuntu 18.04 ARM | PASS |
+------------------+----------+
| CentOS 8 | PASS |
+------------------+----------+
| RHEL8 | PASS |
+------------------+----------+
| Ubuntu 18.04 | PASS |
+------------------+----------+
| Ubuntu 20.04 | PASS |
+------------------+----------+
| Arch Linux | PASS |
+------------------+----------+
| CentOS Stream 8 | PASS |
+------------------+----------+
| RHEL 7 | PASS |
+------------------+----------+
| Fedora 31 | PASS |
+------------------+----------+
| openSUSE Leap 15 | PASS |
+------------------+----------+
| Fedora 32 | PASS |
+------------------+----------+
Ubuntu 18.04 ARM
Kernel: 5.4.0-53-generic
Compiler: gcc 9.3
CentOS 8
Kernel: 4.18.0-240.10.1.el8_3.x86_64
Compiler: gcc 8.3.1 20191121 (Red Hat 8.3.1-5)
RHEL8
Kernel: 4.18.0-240.10.1.el8_3.x86_64
Compiler: gcc 8.3.1 20191121 (Red Hat 8.3.1-5)
Ubuntu 18.04
Kernel: 4.18.0-240.10.1.el8_3.x86_64
Compiler: gcc 7.5.0-3ubuntu1~18.04
Ubuntu 20.04
Kernel: 4.18.0-240.10.1.el8_3.x86_64
Compiler: gcc 9.3.0-17ubuntu1~20.04
Arch Linux
Kernel: 4.18.0-240.10.1.el8_3.x86_64
Compiler: gcc 10.2.0
CentOS Stream 8
Kernel: 4.18.0-240.10.1.el8_3.x86_64
Compiler: gcc 8.4.1 20200928
RHEL 7
Kernel: 4.18.0-240.10.1.el8_3.x86_64
Compiler: gcc 4.8.5 20150623 (Red Hat 4.8.5-44)
Fedora 31
Kernel: 4.18.0-240.10.1.el8_3.x86_64
Compiler: gcc 9.3.1
openSUSE Leap 15
Kernel: 4.18.0-240.10.1.el8_3.x86_64
Compiler: gcc 7.5.0
Fedora 32
Kernel: 4.18.0-240.10.1.el8_3.x86_64
Compiler: gcc 10.2.1
To view detailed results, visit:
https://lab.dpdk.org/results/dashboard/patchsets/17220/
UNH-IOL DPDK Community Lab
To manage your email subscriptions, visit:
https://lab.dpdk.org/results/dashboard/preferences/subscriptions/
^ permalink raw reply [flat|nested] 7+ messages in thread
* [dpdk-test-report] |SUCCESS| pw93448 [PATCH] [v2] test: remove strict timing requirements from alarm and cycles tests
@ 2021-05-26 22:22 dpdklab
0 siblings, 0 replies; 7+ messages in thread
From: dpdklab @ 2021-05-26 22:22 UTC (permalink / raw)
To: Ali Alnubani, Test Report; +Cc: dpdk-test-reports
[-- Attachment #1: Type: text/plain, Size: 3959 bytes --]
Test-Label: iol-mellanox-Performance
Test-Status: SUCCESS
http://dpdk.org/patch/93448
_Performance Testing PASS_
Submitter: Aaron Conole <aconole@redhat.com>
Date: Wednesday, May 26 2021 11:58:40
DPDK git baseline: Repo:dpdk
Branch: master
CommitID:66b3a54b9feab193a5cf8ad54606d745078587cc
93448 --> performance testing pass
Test environment and result as below:
Ubuntu 18.04
Kernel: 4.15.0-generic
Compiler: gcc 7.4
NIC: Mellanox ConnectX-4 Lx 25000 Mbps
Target: x86_64-native-linuxapp-gcc
Fail/Total: 0/6
Detail performance results:
+------------+---------+-------------------------------------+
| frame_size | txd/rxd | throughput difference from expected |
+============+=========+=====================================+
| 64 | 256 | -0.43538% |
+------------+---------+-------------------------------------+
| 128 | 256 | -0.02073% |
+------------+---------+-------------------------------------+
| 256 | 256 | -0.99574% |
+------------+---------+-------------------------------------+
| 512 | 256 | 0.11984% |
+------------+---------+-------------------------------------+
| 1024 | 256 | 0.13385% |
+------------+---------+-------------------------------------+
| 1518 | 256 | -0.12303% |
+------------+---------+-------------------------------------+
Ubuntu 18.04
Kernel: 4.15.0-generic
Compiler: gcc 7.4
NIC: Mellanox ConnectX-5 100000 Mbps
Target: x86_64-native-linuxapp-gcc
Fail/Total: 0/6
Detail performance results:
+------------+---------+-------------------------------------+
| frame_size | txd/rxd | throughput difference from expected |
+============+=========+=====================================+
| 64 | 256 | -0.16976% |
+------------+---------+-------------------------------------+
| 128 | 256 | -0.29819% |
+------------+---------+-------------------------------------+
| 256 | 256 | -0.12982% |
+------------+---------+-------------------------------------+
| 512 | 256 | -0.17319% |
+------------+---------+-------------------------------------+
| 1024 | 256 | 0.32195% |
+------------+---------+-------------------------------------+
| 1518 | 256 | -0.35191% |
+------------+---------+-------------------------------------+
Ubuntu 18.04
Kernel: 4.15.0-generic
Compiler: gcc 7.4
NIC: Mellanox ConnectX-4 Lx 40000 Mbps
Target: x86_64-native-linuxapp-gcc
Fail/Total: 0/6
Detail performance results:
+------------+---------+-------------------------------------+
| frame_size | txd/rxd | throughput difference from expected |
+============+=========+=====================================+
| 64 | 256 | 0.17412% |
+------------+---------+-------------------------------------+
| 128 | 256 | 0.00859% |
+------------+---------+-------------------------------------+
| 256 | 256 | 0.26341% |
+------------+---------+-------------------------------------+
| 512 | 256 | -0.11716% |
+------------+---------+-------------------------------------+
| 1024 | 256 | -0.21925% |
+------------+---------+-------------------------------------+
| 1518 | 256 | -0.2768% |
+------------+---------+-------------------------------------+
To view detailed results, visit:
https://lab.dpdk.org/results/dashboard/patchsets/17220/
UNH-IOL DPDK Community Lab
To manage your email subscriptions, visit:
https://lab.dpdk.org/results/dashboard/preferences/subscriptions/
^ permalink raw reply [flat|nested] 7+ messages in thread
* [dpdk-test-report] |SUCCESS| pw93448 [PATCH] [v2] test: remove strict timing requirements from alarm and cycles tests
@ 2021-05-26 22:09 dpdklab
0 siblings, 0 replies; 7+ messages in thread
From: dpdklab @ 2021-05-26 22:09 UTC (permalink / raw)
To: Ali Alnubani, Test Report; +Cc: dpdk-test-reports
[-- Attachment #1: Type: text/plain, Size: 2839 bytes --]
Test-Label: iol-mellanox-Performance
Test-Status: SUCCESS
http://dpdk.org/patch/93448
_Performance Testing PASS_
Submitter: Aaron Conole <aconole@redhat.com>
Date: Wednesday, May 26 2021 11:58:40
DPDK git baseline: Repo:dpdk
Branch: master
CommitID:66b3a54b9feab193a5cf8ad54606d745078587cc
93448 --> performance testing pass
Test environment and result as below:
Ubuntu 18.04
Kernel: 4.15.0-generic
Compiler: gcc 7.4
NIC: Mellanox ConnectX-4 Lx 25000 Mbps
Target: x86_64-native-linuxapp-gcc
Fail/Total: 0/6
Detail performance results:
+------------+---------+-------------------------------------+
| frame_size | txd/rxd | throughput difference from expected |
+============+=========+=====================================+
| 64 | 256 | -0.43538% |
+------------+---------+-------------------------------------+
| 128 | 256 | -0.02073% |
+------------+---------+-------------------------------------+
| 256 | 256 | -0.99574% |
+------------+---------+-------------------------------------+
| 512 | 256 | 0.11984% |
+------------+---------+-------------------------------------+
| 1024 | 256 | 0.13385% |
+------------+---------+-------------------------------------+
| 1518 | 256 | -0.12303% |
+------------+---------+-------------------------------------+
Ubuntu 18.04
Kernel: 4.15.0-generic
Compiler: gcc 7.4
NIC: Mellanox ConnectX-5 100000 Mbps
Target: x86_64-native-linuxapp-gcc
Fail/Total: 0/6
Detail performance results:
+------------+---------+-------------------------------------+
| frame_size | txd/rxd | throughput difference from expected |
+============+=========+=====================================+
| 64 | 256 | -0.16976% |
+------------+---------+-------------------------------------+
| 128 | 256 | -0.29819% |
+------------+---------+-------------------------------------+
| 256 | 256 | -0.12982% |
+------------+---------+-------------------------------------+
| 512 | 256 | -0.17319% |
+------------+---------+-------------------------------------+
| 1024 | 256 | 0.32195% |
+------------+---------+-------------------------------------+
| 1518 | 256 | -0.35191% |
+------------+---------+-------------------------------------+
To view detailed results, visit:
https://lab.dpdk.org/results/dashboard/patchsets/17220/
UNH-IOL DPDK Community Lab
To manage your email subscriptions, visit:
https://lab.dpdk.org/results/dashboard/preferences/subscriptions/
^ permalink raw reply [flat|nested] 7+ messages in thread
* [dpdk-test-report] |SUCCESS| pw93448 [PATCH] [v2] test: remove strict timing requirements from alarm and cycles tests
@ 2021-05-26 21:56 dpdklab
0 siblings, 0 replies; 7+ messages in thread
From: dpdklab @ 2021-05-26 21:56 UTC (permalink / raw)
To: Ali Alnubani, Test Report; +Cc: dpdk-test-reports
[-- Attachment #1: Type: text/plain, Size: 1721 bytes --]
Test-Label: iol-mellanox-Performance
Test-Status: SUCCESS
http://dpdk.org/patch/93448
_Performance Testing PASS_
Submitter: Aaron Conole <aconole@redhat.com>
Date: Wednesday, May 26 2021 11:58:40
DPDK git baseline: Repo:dpdk
Branch: master
CommitID:66b3a54b9feab193a5cf8ad54606d745078587cc
93448 --> performance testing pass
Test environment and result as below:
Ubuntu 18.04
Kernel: 4.15.0-generic
Compiler: gcc 7.4
NIC: Mellanox ConnectX-4 Lx 25000 Mbps
Target: x86_64-native-linuxapp-gcc
Fail/Total: 0/6
Detail performance results:
+------------+---------+-------------------------------------+
| frame_size | txd/rxd | throughput difference from expected |
+============+=========+=====================================+
| 64 | 256 | -0.43538% |
+------------+---------+-------------------------------------+
| 128 | 256 | -0.02073% |
+------------+---------+-------------------------------------+
| 256 | 256 | -0.99574% |
+------------+---------+-------------------------------------+
| 512 | 256 | 0.11984% |
+------------+---------+-------------------------------------+
| 1024 | 256 | 0.13385% |
+------------+---------+-------------------------------------+
| 1518 | 256 | -0.12303% |
+------------+---------+-------------------------------------+
To view detailed results, visit:
https://lab.dpdk.org/results/dashboard/patchsets/17220/
UNH-IOL DPDK Community Lab
To manage your email subscriptions, visit:
https://lab.dpdk.org/results/dashboard/preferences/subscriptions/
^ permalink raw reply [flat|nested] 7+ messages in thread
* [dpdk-test-report] |SUCCESS| pw93448 [PATCH] [v2] test: remove strict timing requirements from alarm and cycles tests
@ 2021-05-26 18:20 dpdklab
0 siblings, 0 replies; 7+ messages in thread
From: dpdklab @ 2021-05-26 18:20 UTC (permalink / raw)
To: Test Report; +Cc: dpdk-test-reports
[-- Attachment #1: Type: text/plain, Size: 1909 bytes --]
Test-Label: iol-intel-Performance
Test-Status: SUCCESS
http://dpdk.org/patch/93448
_Performance Testing PASS_
Submitter: Aaron Conole <aconole@redhat.com>
Date: Wednesday, May 26 2021 11:58:40
DPDK git baseline: Repo:dpdk
Branch: master
CommitID:66b3a54b9feab193a5cf8ad54606d745078587cc
93448 --> performance testing pass
Test environment and result as below:
Ubuntu 18.04
Kernel: 4.15.0-generic
Compiler: gcc 7.4
NIC: Intel Corporation Ethernet Converged Network Adapter 82599ES 10000 Mbps
Target: x86_64-native-linuxapp-gcc
Fail/Total: 0/2
Detail performance results:
+------------+---------+-------------------------------------+
| frame_size | txd/rxd | throughput difference from expected |
+============+=========+=====================================+
| 64 | 512 | -0.8775% |
+------------+---------+-------------------------------------+
| 64 | 2048 | 0.22847% |
+------------+---------+-------------------------------------+
Ubuntu 18.04
Kernel: 4.15.0-generic
Compiler: gcc 7.4
NIC: Intel Corporation Ethernet Converged Network Adapter XL710-QDA2 40000 Mbps
Target: x86_64-native-linuxapp-gcc
Fail/Total: 0/2
Detail performance results:
+------------+---------+-------------------------------------+
| frame_size | txd/rxd | throughput difference from expected |
+============+=========+=====================================+
| 64 | 512 | 2.03857% |
+------------+---------+-------------------------------------+
| 64 | 2048 | 1.66297% |
+------------+---------+-------------------------------------+
To view detailed results, visit:
https://lab.dpdk.org/results/dashboard/patchsets/17220/
UNH-IOL DPDK Community Lab
To manage your email subscriptions, visit:
https://lab.dpdk.org/results/dashboard/preferences/subscriptions/
^ permalink raw reply [flat|nested] 7+ messages in thread
* [dpdk-test-report] |SUCCESS| pw93448 [PATCH] [v2] test: remove strict timing requirements from alarm and cycles tests
@ 2021-05-26 12:36 dpdklab
0 siblings, 0 replies; 7+ messages in thread
From: dpdklab @ 2021-05-26 12:36 UTC (permalink / raw)
To: Test Report; +Cc: dpdk-test-reports
[-- Attachment #1: Type: text/plain, Size: 1252 bytes --]
Test-Label: iol-intel-Performance
Test-Status: SUCCESS
http://dpdk.org/patch/93448
_Performance Testing PASS_
Submitter: Aaron Conole <aconole@redhat.com>
Date: Wednesday, May 26 2021 11:58:40
DPDK git baseline: Repo:dpdk
Branch: master
CommitID:66b3a54b9feab193a5cf8ad54606d745078587cc
93448 --> performance testing pass
Test environment and result as below:
Ubuntu 18.04
Kernel: 4.15.0-generic
Compiler: gcc 7.4
NIC: Intel Corporation Ethernet Converged Network Adapter 82599ES 10000 Mbps
Target: x86_64-native-linuxapp-gcc
Fail/Total: 0/2
Detail performance results:
+------------+---------+-------------------------------------+
| frame_size | txd/rxd | throughput difference from expected |
+============+=========+=====================================+
| 64 | 512 | -0.8775% |
+------------+---------+-------------------------------------+
| 64 | 2048 | 0.22847% |
+------------+---------+-------------------------------------+
To view detailed results, visit:
https://lab.dpdk.org/results/dashboard/patchsets/17220/
UNH-IOL DPDK Community Lab
To manage your email subscriptions, visit:
https://lab.dpdk.org/results/dashboard/preferences/subscriptions/
^ permalink raw reply [flat|nested] 7+ messages in thread
* [dpdk-test-report] |SUCCESS| pw93448 [PATCH v2] test: remove strict timing requirements from alarm and cycles tests
[not found] <f7tk0nlaeq7.fsf@redhat.com>
@ 2021-05-26 12:00 ` checkpatch
0 siblings, 0 replies; 7+ messages in thread
From: checkpatch @ 2021-05-26 12:00 UTC (permalink / raw)
To: test-report
Test-Label: checkpatch
Test-Status: SUCCESS
http://dpdk.org/patch/93448
_coding style OK_
^ permalink raw reply [flat|nested] 7+ messages in thread
end of thread, other threads:[~2021-05-26 22:22 UTC | newest]
Thread overview: 7+ messages (download: mbox.gz / follow: Atom feed)
-- links below jump to the message on this page --
2021-05-26 13:01 [dpdk-test-report] |SUCCESS| pw93448 [PATCH] [v2] test: remove strict timing requirements from alarm and cycles tests dpdklab
-- strict thread matches above, loose matches on Subject: below --
2021-05-26 22:22 dpdklab
2021-05-26 22:09 dpdklab
2021-05-26 21:56 dpdklab
2021-05-26 18:20 dpdklab
2021-05-26 12:36 dpdklab
[not found] <f7tk0nlaeq7.fsf@redhat.com>
2021-05-26 12:00 ` [dpdk-test-report] |SUCCESS| pw93448 [PATCH v2] " checkpatch
This is a public inbox, see mirroring instructions
for how to clone and mirror all data and code used for this inbox;
as well as URLs for NNTP newsgroup(s).