* [dpdk-test-report] |SUCCESS| pw93464-93469 [PATCH] [v1, 6/6] net/ice/base: support FDIR for GRE tunnel packet
@ 2021-05-27 15:57 dpdklab
0 siblings, 0 replies; 9+ messages in thread
From: dpdklab @ 2021-05-27 15:57 UTC (permalink / raw)
To: Ali Alnubani, Test Report; +Cc: dpdk-test-reports
[-- Attachment #1: Type: text/plain, Size: 1725 bytes --]
Test-Label: iol-mellanox-Performance
Test-Status: SUCCESS
http://dpdk.org/patch/93469
_Performance Testing PASS_
Submitter: Wenjun Wu <wenjun1.wu@intel.com>
Date: Thursday, May 27 2021 07:48:45
DPDK git baseline: Repo:dpdk
Branch: master
CommitID:66b3a54b9feab193a5cf8ad54606d745078587cc
93464-93469 --> performance testing pass
Test environment and result as below:
Ubuntu 18.04
Kernel: 4.15.0-generic
Compiler: gcc 7.4
NIC: Mellanox ConnectX-4 Lx 40000 Mbps
Target: x86_64-native-linuxapp-gcc
Fail/Total: 0/6
Detail performance results:
+------------+---------+-------------------------------------+
| frame_size | txd/rxd | throughput difference from expected |
+============+=========+=====================================+
| 64 | 256 | 0.2261% |
+------------+---------+-------------------------------------+
| 128 | 256 | 0.42465% |
+------------+---------+-------------------------------------+
| 256 | 256 | -0.18615% |
+------------+---------+-------------------------------------+
| 512 | 256 | 0.05331% |
+------------+---------+-------------------------------------+
| 1024 | 256 | -0.10456% |
+------------+---------+-------------------------------------+
| 1518 | 256 | -0.16915% |
+------------+---------+-------------------------------------+
To view detailed results, visit:
https://lab.dpdk.org/results/dashboard/patchsets/17227/
UNH-IOL DPDK Community Lab
To manage your email subscriptions, visit:
https://lab.dpdk.org/results/dashboard/preferences/subscriptions/
^ permalink raw reply [flat|nested] 9+ messages in thread
* [dpdk-test-report] |SUCCESS| pw93464-93469 [PATCH] [v1, 6/6] net/ice/base: support FDIR for GRE tunnel packet
@ 2021-05-27 16:40 dpdklab
0 siblings, 0 replies; 9+ messages in thread
From: dpdklab @ 2021-05-27 16:40 UTC (permalink / raw)
To: Ali Alnubani, Test Report; +Cc: dpdk-test-reports
[-- Attachment #1: Type: text/plain, Size: 3963 bytes --]
Test-Label: iol-mellanox-Performance
Test-Status: SUCCESS
http://dpdk.org/patch/93469
_Performance Testing PASS_
Submitter: Wenjun Wu <wenjun1.wu@intel.com>
Date: Thursday, May 27 2021 07:48:45
DPDK git baseline: Repo:dpdk
Branch: master
CommitID:66b3a54b9feab193a5cf8ad54606d745078587cc
93464-93469 --> performance testing pass
Test environment and result as below:
Ubuntu 18.04
Kernel: 4.15.0-generic
Compiler: gcc 7.4
NIC: Mellanox ConnectX-4 Lx 40000 Mbps
Target: x86_64-native-linuxapp-gcc
Fail/Total: 0/6
Detail performance results:
+------------+---------+-------------------------------------+
| frame_size | txd/rxd | throughput difference from expected |
+============+=========+=====================================+
| 64 | 256 | 0.2261% |
+------------+---------+-------------------------------------+
| 128 | 256 | 0.42465% |
+------------+---------+-------------------------------------+
| 256 | 256 | -0.18615% |
+------------+---------+-------------------------------------+
| 512 | 256 | 0.05331% |
+------------+---------+-------------------------------------+
| 1024 | 256 | -0.10456% |
+------------+---------+-------------------------------------+
| 1518 | 256 | -0.16915% |
+------------+---------+-------------------------------------+
Ubuntu 18.04
Kernel: 4.15.0-generic
Compiler: gcc 7.4
NIC: Mellanox ConnectX-5 100000 Mbps
Target: x86_64-native-linuxapp-gcc
Fail/Total: 0/6
Detail performance results:
+------------+---------+-------------------------------------+
| frame_size | txd/rxd | throughput difference from expected |
+============+=========+=====================================+
| 64 | 256 | -0.11356% |
+------------+---------+-------------------------------------+
| 128 | 256 | 0.17769% |
+------------+---------+-------------------------------------+
| 256 | 256 | -0.0349% |
+------------+---------+-------------------------------------+
| 512 | 256 | 1.30083% |
+------------+---------+-------------------------------------+
| 1024 | 256 | 3.01818% |
+------------+---------+-------------------------------------+
| 1518 | 256 | 0.02354% |
+------------+---------+-------------------------------------+
Ubuntu 18.04
Kernel: 4.15.0-generic
Compiler: gcc 7.4
NIC: Mellanox ConnectX-4 Lx 25000 Mbps
Target: x86_64-native-linuxapp-gcc
Fail/Total: 0/6
Detail performance results:
+------------+---------+-------------------------------------+
| frame_size | txd/rxd | throughput difference from expected |
+============+=========+=====================================+
| 64 | 256 | 0.29488% |
+------------+---------+-------------------------------------+
| 128 | 256 | 0.12089% |
+------------+---------+-------------------------------------+
| 256 | 256 | 0.40955% |
+------------+---------+-------------------------------------+
| 512 | 256 | -0.51186% |
+------------+---------+-------------------------------------+
| 1024 | 256 | 0.11735% |
+------------+---------+-------------------------------------+
| 1518 | 256 | -0.14771% |
+------------+---------+-------------------------------------+
To view detailed results, visit:
https://lab.dpdk.org/results/dashboard/patchsets/17227/
UNH-IOL DPDK Community Lab
To manage your email subscriptions, visit:
https://lab.dpdk.org/results/dashboard/preferences/subscriptions/
^ permalink raw reply [flat|nested] 9+ messages in thread
* [dpdk-test-report] |SUCCESS| pw93464-93469 [PATCH] [v1, 6/6] net/ice/base: support FDIR for GRE tunnel packet
@ 2021-05-27 16:35 dpdklab
0 siblings, 0 replies; 9+ messages in thread
From: dpdklab @ 2021-05-27 16:35 UTC (permalink / raw)
To: Test Report; +Cc: dpdk-test-reports
[-- Attachment #1: Type: text/plain, Size: 1913 bytes --]
Test-Label: iol-intel-Performance
Test-Status: SUCCESS
http://dpdk.org/patch/93469
_Performance Testing PASS_
Submitter: Wenjun Wu <wenjun1.wu@intel.com>
Date: Thursday, May 27 2021 07:48:45
DPDK git baseline: Repo:dpdk
Branch: master
CommitID:66b3a54b9feab193a5cf8ad54606d745078587cc
93464-93469 --> performance testing pass
Test environment and result as below:
Ubuntu 18.04
Kernel: 4.15.0-generic
Compiler: gcc 7.4
NIC: Intel Corporation Ethernet Converged Network Adapter 82599ES 10000 Mbps
Target: x86_64-native-linuxapp-gcc
Fail/Total: 0/2
Detail performance results:
+------------+---------+-------------------------------------+
| frame_size | txd/rxd | throughput difference from expected |
+============+=========+=====================================+
| 64 | 512 | 0.20672% |
+------------+---------+-------------------------------------+
| 64 | 2048 | -0.21019% |
+------------+---------+-------------------------------------+
Ubuntu 18.04
Kernel: 4.15.0-generic
Compiler: gcc 7.4
NIC: Intel Corporation Ethernet Converged Network Adapter XL710-QDA2 40000 Mbps
Target: x86_64-native-linuxapp-gcc
Fail/Total: 0/2
Detail performance results:
+------------+---------+-------------------------------------+
| frame_size | txd/rxd | throughput difference from expected |
+============+=========+=====================================+
| 64 | 512 | -0.60104% |
+------------+---------+-------------------------------------+
| 64 | 2048 | -0.01415% |
+------------+---------+-------------------------------------+
To view detailed results, visit:
https://lab.dpdk.org/results/dashboard/patchsets/17227/
UNH-IOL DPDK Community Lab
To manage your email subscriptions, visit:
https://lab.dpdk.org/results/dashboard/preferences/subscriptions/
^ permalink raw reply [flat|nested] 9+ messages in thread
* [dpdk-test-report] |SUCCESS| pw93464-93469 [PATCH] [v1, 6/6] net/ice/base: support FDIR for GRE tunnel packet
@ 2021-05-27 16:09 dpdklab
0 siblings, 0 replies; 9+ messages in thread
From: dpdklab @ 2021-05-27 16:09 UTC (permalink / raw)
To: Ali Alnubani, Test Report; +Cc: dpdk-test-reports
[-- Attachment #1: Type: text/plain, Size: 2843 bytes --]
Test-Label: iol-mellanox-Performance
Test-Status: SUCCESS
http://dpdk.org/patch/93469
_Performance Testing PASS_
Submitter: Wenjun Wu <wenjun1.wu@intel.com>
Date: Thursday, May 27 2021 07:48:45
DPDK git baseline: Repo:dpdk
Branch: master
CommitID:66b3a54b9feab193a5cf8ad54606d745078587cc
93464-93469 --> performance testing pass
Test environment and result as below:
Ubuntu 18.04
Kernel: 4.15.0-generic
Compiler: gcc 7.4
NIC: Mellanox ConnectX-4 Lx 40000 Mbps
Target: x86_64-native-linuxapp-gcc
Fail/Total: 0/6
Detail performance results:
+------------+---------+-------------------------------------+
| frame_size | txd/rxd | throughput difference from expected |
+============+=========+=====================================+
| 64 | 256 | 0.2261% |
+------------+---------+-------------------------------------+
| 128 | 256 | 0.42465% |
+------------+---------+-------------------------------------+
| 256 | 256 | -0.18615% |
+------------+---------+-------------------------------------+
| 512 | 256 | 0.05331% |
+------------+---------+-------------------------------------+
| 1024 | 256 | -0.10456% |
+------------+---------+-------------------------------------+
| 1518 | 256 | -0.16915% |
+------------+---------+-------------------------------------+
Ubuntu 18.04
Kernel: 4.15.0-generic
Compiler: gcc 7.4
NIC: Mellanox ConnectX-5 100000 Mbps
Target: x86_64-native-linuxapp-gcc
Fail/Total: 0/6
Detail performance results:
+------------+---------+-------------------------------------+
| frame_size | txd/rxd | throughput difference from expected |
+============+=========+=====================================+
| 64 | 256 | -0.11356% |
+------------+---------+-------------------------------------+
| 128 | 256 | 0.17769% |
+------------+---------+-------------------------------------+
| 256 | 256 | -0.0349% |
+------------+---------+-------------------------------------+
| 512 | 256 | 1.30083% |
+------------+---------+-------------------------------------+
| 1024 | 256 | 3.01818% |
+------------+---------+-------------------------------------+
| 1518 | 256 | 0.02354% |
+------------+---------+-------------------------------------+
To view detailed results, visit:
https://lab.dpdk.org/results/dashboard/patchsets/17227/
UNH-IOL DPDK Community Lab
To manage your email subscriptions, visit:
https://lab.dpdk.org/results/dashboard/preferences/subscriptions/
^ permalink raw reply [flat|nested] 9+ messages in thread
* [dpdk-test-report] |SUCCESS| pw93464-93469 [PATCH] [v1, 6/6] net/ice/base: support FDIR for GRE tunnel packet
@ 2021-05-27 15:36 dpdklab
0 siblings, 0 replies; 9+ messages in thread
From: dpdklab @ 2021-05-27 15:36 UTC (permalink / raw)
To: Test Report; +Cc: dpdk-test-reports
[-- Attachment #1: Type: text/plain, Size: 1256 bytes --]
Test-Label: iol-intel-Performance
Test-Status: SUCCESS
http://dpdk.org/patch/93469
_Performance Testing PASS_
Submitter: Wenjun Wu <wenjun1.wu@intel.com>
Date: Thursday, May 27 2021 07:48:45
DPDK git baseline: Repo:dpdk
Branch: master
CommitID:66b3a54b9feab193a5cf8ad54606d745078587cc
93464-93469 --> performance testing pass
Test environment and result as below:
Ubuntu 18.04
Kernel: 4.15.0-generic
Compiler: gcc 7.4
NIC: Intel Corporation Ethernet Converged Network Adapter 82599ES 10000 Mbps
Target: x86_64-native-linuxapp-gcc
Fail/Total: 0/2
Detail performance results:
+------------+---------+-------------------------------------+
| frame_size | txd/rxd | throughput difference from expected |
+============+=========+=====================================+
| 64 | 512 | 0.20672% |
+------------+---------+-------------------------------------+
| 64 | 2048 | -0.21019% |
+------------+---------+-------------------------------------+
To view detailed results, visit:
https://lab.dpdk.org/results/dashboard/patchsets/17227/
UNH-IOL DPDK Community Lab
To manage your email subscriptions, visit:
https://lab.dpdk.org/results/dashboard/preferences/subscriptions/
^ permalink raw reply [flat|nested] 9+ messages in thread
* [dpdk-test-report] |SUCCESS| pw93464-93469 [PATCH] [v1, 6/6] net/ice/base: support FDIR for GRE tunnel packet
@ 2021-05-27 14:49 dpdklab
0 siblings, 0 replies; 9+ messages in thread
From: dpdklab @ 2021-05-27 14:49 UTC (permalink / raw)
To: Test Report; +Cc: dpdklab
[-- Attachment #1: Type: text/plain, Size: 2446 bytes --]
Test-Label: iol-abi-testing
Test-Status: SUCCESS
http://dpdk.org/patch/93469
_Testing PASS_
Submitter: Wenjun Wu <wenjun1.wu@intel.com>
Date: Thursday, May 27 2021 07:48:45
DPDK git baseline: Repo:dpdk
Branch: master
CommitID:66b3a54b9feab193a5cf8ad54606d745078587cc
93464-93469 --> testing pass
Test environment and result as below:
+------------------+----------+
| Environment | abi_test |
+==================+==========+
| Ubuntu 18.04 ARM | PASS |
+------------------+----------+
| RHEL8 | PASS |
+------------------+----------+
| Ubuntu 18.04 | PASS |
+------------------+----------+
| RHEL 7 | PASS |
+------------------+----------+
| Arch Linux | PASS |
+------------------+----------+
| CentOS 8 | PASS |
+------------------+----------+
| Ubuntu 20.04 | PASS |
+------------------+----------+
| Fedora 32 | PASS |
+------------------+----------+
| openSUSE Leap 15 | PASS |
+------------------+----------+
| Fedora 31 | PASS |
+------------------+----------+
| Ubuntu20.04 | PASS |
+------------------+----------+
| CentOS Stream 8 | PASS |
+------------------+----------+
Ubuntu 18.04 ARM
Kernel: 5.4.0-53-generic
Compiler: gcc 9.3
RHEL8
Kernel: 4.18.0-240.10.1.el8_3.x86_64
Compiler: gcc 8.3.1 20191121 (Red Hat 8.3.1-5)
Ubuntu 18.04
Kernel: 4.18.0-240.10.1.el8_3.x86_64
Compiler: gcc 7.5.0-3ubuntu1~18.04
RHEL 7
Kernel: 4.18.0-240.10.1.el8_3.x86_64
Compiler: gcc 4.8.5 20150623 (Red Hat 4.8.5-44)
Arch Linux
Kernel: 4.18.0-240.10.1.el8_3.x86_64
Compiler: gcc 10.2.0
CentOS 8
Kernel: 4.18.0-240.10.1.el8_3.x86_64
Compiler: gcc 8.3.1 20191121 (Red Hat 8.3.1-5)
Ubuntu 20.04
Kernel: 4.18.0-240.10.1.el8_3.x86_64
Compiler: gcc 9.3.0-17ubuntu1~20.04
Fedora 32
Kernel: 4.18.0-240.10.1.el8_3.x86_64
Compiler: gcc 10.2.1
openSUSE Leap 15
Kernel: 4.18.0-240.10.1.el8_3.x86_64
Compiler: gcc 7.5.0
Fedora 31
Kernel: 4.18.0-240.10.1.el8_3.x86_64
Compiler: gcc 9.3.1
Ubuntu20.04
Kernel: 5.4.0-72-generic
Compiler: aarch64-linux-gnu-gcc (Ubuntu 9.3.0-17ubuntu1~20.04) 9.3.0
CentOS Stream 8
Kernel: 4.18.0-240.10.1.el8_3.x86_64
Compiler: gcc 8.4.1 20200928
To view detailed results, visit:
https://lab.dpdk.org/results/dashboard/patchsets/17227/
UNH-IOL DPDK Community Lab
To manage your email subscriptions, visit:
https://lab.dpdk.org/results/dashboard/preferences/subscriptions/
^ permalink raw reply [flat|nested] 9+ messages in thread
* [dpdk-test-report] |SUCCESS| pw93464-93469 [PATCH] [v1, 6/6] net/ice/base: support FDIR for GRE tunnel packet
@ 2021-05-27 9:15 dpdklab
0 siblings, 0 replies; 9+ messages in thread
From: dpdklab @ 2021-05-27 9:15 UTC (permalink / raw)
To: Test Report; +Cc: dpdk-test-reports
[-- Attachment #1: Type: text/plain, Size: 2446 bytes --]
Test-Label: iol-abi-testing
Test-Status: SUCCESS
http://dpdk.org/patch/93469
_Testing PASS_
Submitter: Wenjun Wu <wenjun1.wu@intel.com>
Date: Thursday, May 27 2021 07:48:45
DPDK git baseline: Repo:dpdk
Branch: master
CommitID:66b3a54b9feab193a5cf8ad54606d745078587cc
93464-93469 --> testing pass
Test environment and result as below:
+------------------+----------+
| Environment | abi_test |
+==================+==========+
| Ubuntu 18.04 ARM | PASS |
+------------------+----------+
| Ubuntu 20.04 | PASS |
+------------------+----------+
| Ubuntu 18.04 | PASS |
+------------------+----------+
| RHEL 7 | PASS |
+------------------+----------+
| Arch Linux | PASS |
+------------------+----------+
| RHEL8 | PASS |
+------------------+----------+
| CentOS 8 | PASS |
+------------------+----------+
| Fedora 32 | PASS |
+------------------+----------+
| CentOS Stream 8 | PASS |
+------------------+----------+
| openSUSE Leap 15 | PASS |
+------------------+----------+
| Ubuntu20.04 | PASS |
+------------------+----------+
| Fedora 31 | PASS |
+------------------+----------+
Ubuntu 18.04 ARM
Kernel: 5.4.0-53-generic
Compiler: gcc 9.3
Ubuntu 20.04
Kernel: 4.18.0-240.10.1.el8_3.x86_64
Compiler: gcc 9.3.0-17ubuntu1~20.04
Ubuntu 18.04
Kernel: 4.18.0-240.10.1.el8_3.x86_64
Compiler: gcc 7.5.0-3ubuntu1~18.04
RHEL 7
Kernel: 4.18.0-240.10.1.el8_3.x86_64
Compiler: gcc 4.8.5 20150623 (Red Hat 4.8.5-44)
Arch Linux
Kernel: 4.18.0-240.10.1.el8_3.x86_64
Compiler: gcc 10.2.0
RHEL8
Kernel: 4.18.0-240.10.1.el8_3.x86_64
Compiler: gcc 8.3.1 20191121 (Red Hat 8.3.1-5)
CentOS 8
Kernel: 4.18.0-240.10.1.el8_3.x86_64
Compiler: gcc 8.3.1 20191121 (Red Hat 8.3.1-5)
Fedora 32
Kernel: 4.18.0-240.10.1.el8_3.x86_64
Compiler: gcc 10.2.1
CentOS Stream 8
Kernel: 4.18.0-240.10.1.el8_3.x86_64
Compiler: gcc 8.4.1 20200928
openSUSE Leap 15
Kernel: 4.18.0-240.10.1.el8_3.x86_64
Compiler: gcc 7.5.0
Ubuntu20.04
Kernel: 5.4.0-72-generic
Compiler: aarch64-linux-gnu-gcc (Ubuntu 9.3.0-17ubuntu1~20.04) 9.3.0
Fedora 31
Kernel: 4.18.0-240.10.1.el8_3.x86_64
Compiler: gcc 9.3.1
To view detailed results, visit:
https://lab.dpdk.org/results/dashboard/patchsets/17227/
UNH-IOL DPDK Community Lab
To manage your email subscriptions, visit:
https://lab.dpdk.org/results/dashboard/preferences/subscriptions/
^ permalink raw reply [flat|nested] 9+ messages in thread
* [dpdk-test-report] |SUCCESS| pw93464-93469 [PATCH] [v1, 6/6] net/ice/base: support FDIR for GRE tunnel packet
@ 2021-05-27 8:49 dpdklab
0 siblings, 0 replies; 9+ messages in thread
From: dpdklab @ 2021-05-27 8:49 UTC (permalink / raw)
To: Test Report; +Cc: dpdk-test-reports
[-- Attachment #1: Type: text/plain, Size: 1913 bytes --]
Test-Label: iol-intel-Performance
Test-Status: SUCCESS
http://dpdk.org/patch/93469
_Performance Testing PASS_
Submitter: Wenjun Wu <wenjun1.wu@intel.com>
Date: Thursday, May 27 2021 07:48:45
DPDK git baseline: Repo:dpdk
Branch: master
CommitID:66b3a54b9feab193a5cf8ad54606d745078587cc
93464-93469 --> performance testing pass
Test environment and result as below:
Ubuntu 18.04
Kernel: 4.15.0-generic
Compiler: gcc 7.4
NIC: Intel Corporation Ethernet Converged Network Adapter 82599ES 10000 Mbps
Target: x86_64-native-linuxapp-gcc
Fail/Total: 0/2
Detail performance results:
+------------+---------+-------------------------------------+
| frame_size | txd/rxd | throughput difference from expected |
+============+=========+=====================================+
| 64 | 512 | 0.20012% |
+------------+---------+-------------------------------------+
| 64 | 2048 | -0.62777% |
+------------+---------+-------------------------------------+
Ubuntu 18.04
Kernel: 4.15.0-generic
Compiler: gcc 7.4
NIC: Intel Corporation Ethernet Converged Network Adapter XL710-QDA2 40000 Mbps
Target: x86_64-native-linuxapp-gcc
Fail/Total: 0/2
Detail performance results:
+------------+---------+-------------------------------------+
| frame_size | txd/rxd | throughput difference from expected |
+============+=========+=====================================+
| 64 | 512 | -1.81439% |
+------------+---------+-------------------------------------+
| 64 | 2048 | 0.39623% |
+------------+---------+-------------------------------------+
To view detailed results, visit:
https://lab.dpdk.org/results/dashboard/patchsets/17227/
UNH-IOL DPDK Community Lab
To manage your email subscriptions, visit:
https://lab.dpdk.org/results/dashboard/preferences/subscriptions/
^ permalink raw reply [flat|nested] 9+ messages in thread
* [dpdk-test-report] |SUCCESS| pw93464-93469 [PATCH] [v1, 6/6] net/ice/base: support FDIR for GRE tunnel packet
@ 2021-05-27 8:38 dpdklab
0 siblings, 0 replies; 9+ messages in thread
From: dpdklab @ 2021-05-27 8:38 UTC (permalink / raw)
To: Test Report; +Cc: dpdk-test-reports
[-- Attachment #1: Type: text/plain, Size: 1256 bytes --]
Test-Label: iol-intel-Performance
Test-Status: SUCCESS
http://dpdk.org/patch/93469
_Performance Testing PASS_
Submitter: Wenjun Wu <wenjun1.wu@intel.com>
Date: Thursday, May 27 2021 07:48:45
DPDK git baseline: Repo:dpdk
Branch: master
CommitID:66b3a54b9feab193a5cf8ad54606d745078587cc
93464-93469 --> performance testing pass
Test environment and result as below:
Ubuntu 18.04
Kernel: 4.15.0-generic
Compiler: gcc 7.4
NIC: Intel Corporation Ethernet Converged Network Adapter 82599ES 10000 Mbps
Target: x86_64-native-linuxapp-gcc
Fail/Total: 0/2
Detail performance results:
+------------+---------+-------------------------------------+
| frame_size | txd/rxd | throughput difference from expected |
+============+=========+=====================================+
| 64 | 512 | 0.20012% |
+------------+---------+-------------------------------------+
| 64 | 2048 | -0.62777% |
+------------+---------+-------------------------------------+
To view detailed results, visit:
https://lab.dpdk.org/results/dashboard/patchsets/17227/
UNH-IOL DPDK Community Lab
To manage your email subscriptions, visit:
https://lab.dpdk.org/results/dashboard/preferences/subscriptions/
^ permalink raw reply [flat|nested] 9+ messages in thread
end of thread, other threads:[~2021-05-27 16:40 UTC | newest]
Thread overview: 9+ messages (download: mbox.gz / follow: Atom feed)
-- links below jump to the message on this page --
2021-05-27 15:57 [dpdk-test-report] |SUCCESS| pw93464-93469 [PATCH] [v1, 6/6] net/ice/base: support FDIR for GRE tunnel packet dpdklab
-- strict thread matches above, loose matches on Subject: below --
2021-05-27 16:40 dpdklab
2021-05-27 16:35 dpdklab
2021-05-27 16:09 dpdklab
2021-05-27 15:36 dpdklab
2021-05-27 14:49 dpdklab
2021-05-27 9:15 dpdklab
2021-05-27 8:49 dpdklab
2021-05-27 8:38 dpdklab
This is a public inbox, see mirroring instructions
for how to clone and mirror all data and code used for this inbox;
as well as URLs for NNTP newsgroup(s).