Test-Label: checkpatch Test-Status: SUCCESS http://dpdk.org/patch/93949 _coding style OK_
[-- Attachment #1: Type: text/plain, Size: 1269 bytes --] Test-Label: iol-intel-Performance Test-Status: SUCCESS http://dpdk.org/patch/93949 _Performance Testing PASS_ Submitter: Michael Pfeiffer <michael.pfeiffer@tu-ilmenau.de> Date: Monday, June 07 2021 06:53:25 DPDK git baseline: Repo:dpdk Branch: master CommitID:64307fad7d2b6af3be5e19833e404312f01f6ce5 93949 --> performance testing pass Test environment and result as below: Ubuntu 18.04 Kernel: 4.15.0-generic Compiler: gcc 7.4 NIC: Intel Corporation Ethernet Converged Network Adapter XL710-QDA2 40000 Mbps Target: x86_64-native-linuxapp-gcc Fail/Total: 0/2 Detail performance results: +------------+---------+-------------------------------------+ | frame_size | txd/rxd | throughput difference from expected | +============+=========+=====================================+ | 64 | 512 | 0.10554% | +------------+---------+-------------------------------------+ | 64 | 2048 | -0.23529% | +------------+---------+-------------------------------------+ To view detailed results, visit: https://lab.dpdk.org/results/dashboard/patchsets/17323/ UNH-IOL DPDK Community Lab To manage your email subscriptions, visit: https://lab.dpdk.org/results/dashboard/preferences/subscriptions/
[-- Attachment #1: Type: text/plain, Size: 1923 bytes --] Test-Label: iol-intel-Performance Test-Status: SUCCESS http://dpdk.org/patch/93949 _Performance Testing PASS_ Submitter: Michael Pfeiffer <michael.pfeiffer@tu-ilmenau.de> Date: Monday, June 07 2021 06:53:25 DPDK git baseline: Repo:dpdk Branch: master CommitID:64307fad7d2b6af3be5e19833e404312f01f6ce5 93949 --> performance testing pass Test environment and result as below: Ubuntu 18.04 Kernel: 4.15.0-generic Compiler: gcc 7.4 NIC: Intel Corporation Ethernet Converged Network Adapter XL710-QDA2 40000 Mbps Target: x86_64-native-linuxapp-gcc Fail/Total: 0/2 Detail performance results: +------------+---------+-------------------------------------+ | frame_size | txd/rxd | throughput difference from expected | +============+=========+=====================================+ | 64 | 512 | 0.10554% | +------------+---------+-------------------------------------+ | 64 | 2048 | -0.23529% | +------------+---------+-------------------------------------+ Ubuntu 18.04 Kernel: 4.15.0-generic Compiler: gcc 7.4 NIC: Intel Corporation Ethernet Converged Network Adapter 82599ES 10000 Mbps Target: x86_64-native-linuxapp-gcc Fail/Total: 0/2 Detail performance results: +------------+---------+-------------------------------------+ | frame_size | txd/rxd | throughput difference from expected | +============+=========+=====================================+ | 64 | 512 | -0.35967% | +------------+---------+-------------------------------------+ | 64 | 2048 | -0.57104% | +------------+---------+-------------------------------------+ To view detailed results, visit: https://lab.dpdk.org/results/dashboard/patchsets/17323/ UNH-IOL DPDK Community Lab To manage your email subscriptions, visit: https://lab.dpdk.org/results/dashboard/preferences/subscriptions/
[-- Attachment #1: Type: text/plain, Size: 796 bytes --] Test-Label: iol-intel-Functional Test-Status: SUCCESS http://dpdk.org/patch/93949 _Functional Testing PASS_ Submitter: Michael Pfeiffer <michael.pfeiffer@tu-ilmenau.de> Date: Monday, June 07 2021 06:53:25 DPDK git baseline: Repo:dpdk Branch: master CommitID:64307fad7d2b6af3be5e19833e404312f01f6ce5 93949 --> functional testing pass Test environment and result as below: Ubuntu 18.04 Kernel: 4.15.0-generic Compiler: gcc 7.4 NIC: Intel Corporation Ethernet Converged Network Adapter XL710-QDA2 40000 Mbps Target: x86_64-native-linuxapp-gcc Fail/Total: 0/2 To view detailed results, visit: https://lab.dpdk.org/results/dashboard/patchsets/17323/ UNH-IOL DPDK Community Lab To manage your email subscriptions, visit: https://lab.dpdk.org/results/dashboard/preferences/subscriptions/
[-- Attachment #1: Type: text/plain, Size: 980 bytes --] Test-Label: iol-intel-Functional Test-Status: SUCCESS http://dpdk.org/patch/93949 _Functional Testing PASS_ Submitter: Michael Pfeiffer <michael.pfeiffer@tu-ilmenau.de> Date: Monday, June 07 2021 06:53:25 DPDK git baseline: Repo:dpdk Branch: master CommitID:64307fad7d2b6af3be5e19833e404312f01f6ce5 93949 --> functional testing pass Test environment and result as below: Ubuntu 18.04 Kernel: 4.15.0-generic Compiler: gcc 7.4 NIC: Intel Corporation Ethernet Converged Network Adapter XL710-QDA2 40000 Mbps Target: x86_64-native-linuxapp-gcc Fail/Total: 0/2 Ubuntu 18.04 Kernel: 4.15.0-generic Compiler: gcc 7.4 NIC: Intel Corporation Ethernet Converged Network Adapter 82599ES 10000 Mbps Target: x86_64-native-linuxapp-gcc Fail/Total: 0/5 To view detailed results, visit: https://lab.dpdk.org/results/dashboard/patchsets/17323/ UNH-IOL DPDK Community Lab To manage your email subscriptions, visit: https://lab.dpdk.org/results/dashboard/preferences/subscriptions/
[-- Attachment #1: Type: text/plain, Size: 2918 bytes --] Test-Label: iol-abi-testing Test-Status: SUCCESS http://dpdk.org/patch/93949 _Testing PASS_ Submitter: Michael Pfeiffer <michael.pfeiffer@tu-ilmenau.de> Date: Monday, June 07 2021 06:53:25 DPDK git baseline: Repo:dpdk Branch: master CommitID:64307fad7d2b6af3be5e19833e404312f01f6ce5 93949 --> testing pass Test environment and result as below: +------------------+----------+ | Environment | abi_test | +==================+==========+ | Ubuntu 18.04 ARM | PASS | +------------------+----------+ | Arch Linux | PASS | +------------------+----------+ | RHEL 7 | PASS | +------------------+----------+ | Ubuntu 18.04 | PASS | +------------------+----------+ | CentOS 8 | PASS | +------------------+----------+ | RHEL8 | PASS | +------------------+----------+ | openSUSE Leap 15 | PASS | +------------------+----------+ | Ubuntu 20.04 | PASS | +------------------+----------+ | CentOS Stream 8 | PASS | +------------------+----------+ | Ubuntu20.04 | PASS | +------------------+----------+ | Fedora 32 | PASS | +------------------+----------+ | Fedora 34 | PASS | +------------------+----------+ | Fedora 33 | PASS | +------------------+----------+ | Fedora 31 | PASS | +------------------+----------+ | Fedora 34 clang | PASS | +------------------+----------+ Ubuntu 18.04 ARM Kernel: 5.4.0-53-generic Compiler: gcc 9.3 Arch Linux Kernel: 4.18.0-240.10.1.el8_3.x86_64 Compiler: gcc 10.2.0 RHEL 7 Kernel: 4.18.0-240.10.1.el8_3.x86_64 Compiler: gcc 4.8.5 20150623 (Red Hat 4.8.5-44) Ubuntu 18.04 Kernel: 4.18.0-240.10.1.el8_3.x86_64 Compiler: gcc 7.5.0-3ubuntu1~18.04 CentOS 8 Kernel: 4.18.0-240.10.1.el8_3.x86_64 Compiler: gcc 8.3.1 20191121 (Red Hat 8.3.1-5) RHEL8 Kernel: 4.18.0-240.10.1.el8_3.x86_64 Compiler: gcc 8.3.1 20191121 (Red Hat 8.3.1-5) openSUSE Leap 15 Kernel: 4.18.0-240.10.1.el8_3.x86_64 Compiler: gcc 7.5.0 Ubuntu 20.04 Kernel: 4.18.0-240.10.1.el8_3.x86_64 Compiler: gcc 9.3.0-17ubuntu1~20.04 CentOS Stream 8 Kernel: 4.18.0-240.10.1.el8_3.x86_64 Compiler: gcc 8.4.1 20200928 Ubuntu20.04 Kernel: 5.4.0-72-generic Compiler: aarch64-linux-gnu-gcc (Ubuntu 9.3.0-17ubuntu1~20.04) 9.3.0 Fedora 32 Kernel: 4.18.0-240.10.1.el8_3.x86_64 Compiler: gcc 10.2.1 Fedora 34 Kernel: 5.4.0-72-generic Compiler: gcc 11.1.1 20210428 (Red Hat 11.1.1-1) Fedora 33 Kernel: 5.4.0-72-generic Compiler: gcc 10.3.1 20210422 (Red Hat 10.3.1-1) Fedora 31 Kernel: 4.18.0-240.10.1.el8_3.x86_64 Compiler: gcc 9.3.1 Fedora 34 clang Kernel: 5.4.0-72-generic Compiler: clang 12.0.0 (Fedora 12.0.0-0.3.rc1.fc34) To view detailed results, visit: https://lab.dpdk.org/results/dashboard/patchsets/17323/ UNH-IOL DPDK Community Lab To manage your email subscriptions, visit: https://lab.dpdk.org/results/dashboard/preferences/subscriptions/