* [dpdk-test-report] |SUCCESS| pw94019 [PATCH] [v4] eal: arm: fix out of tree build
@ 2021-06-08 11:38 dpdklab
0 siblings, 0 replies; 6+ messages in thread
From: dpdklab @ 2021-06-08 11:38 UTC (permalink / raw)
To: Test Report; +Cc: dpdklab
[-- Attachment #1: Type: text/plain, Size: 2919 bytes --]
Test-Label: iol-abi-testing
Test-Status: SUCCESS
http://dpdk.org/patch/94019
_Testing PASS_
Submitter: Michael Pfeiffer <michael.pfeiffer@tu-ilmenau.de>
Date: Tuesday, June 08 2021 10:29:01
DPDK git baseline: Repo:dpdk
Branch: master
CommitID:64307fad7d2b6af3be5e19833e404312f01f6ce5
94019 --> testing pass
Test environment and result as below:
+------------------+----------+
| Environment | abi_test |
+==================+==========+
| Ubuntu 18.04 ARM | PASS |
+------------------+----------+
| RHEL 7 | PASS |
+------------------+----------+
| Ubuntu 18.04 | PASS |
+------------------+----------+
| CentOS 8 | PASS |
+------------------+----------+
| RHEL8 | PASS |
+------------------+----------+
| Arch Linux | PASS |
+------------------+----------+
| Fedora 32 | PASS |
+------------------+----------+
| CentOS Stream 8 | PASS |
+------------------+----------+
| Ubuntu 20.04 | PASS |
+------------------+----------+
| Ubuntu20.04 | PASS |
+------------------+----------+
| openSUSE Leap 15 | PASS |
+------------------+----------+
| Fedora 34 | PASS |
+------------------+----------+
| Fedora 31 | PASS |
+------------------+----------+
| Fedora 34 clang | PASS |
+------------------+----------+
| Fedora 33 | PASS |
+------------------+----------+
Ubuntu 18.04 ARM
Kernel: 5.4.0-53-generic
Compiler: gcc 9.3
RHEL 7
Kernel: 4.18.0-240.10.1.el8_3.x86_64
Compiler: gcc 4.8.5 20150623 (Red Hat 4.8.5-44)
Ubuntu 18.04
Kernel: 4.18.0-240.10.1.el8_3.x86_64
Compiler: gcc 7.5.0-3ubuntu1~18.04
CentOS 8
Kernel: 4.18.0-240.10.1.el8_3.x86_64
Compiler: gcc 8.3.1 20191121 (Red Hat 8.3.1-5)
RHEL8
Kernel: 4.18.0-240.10.1.el8_3.x86_64
Compiler: gcc 8.3.1 20191121 (Red Hat 8.3.1-5)
Arch Linux
Kernel: 4.18.0-240.10.1.el8_3.x86_64
Compiler: gcc 10.2.0
Fedora 32
Kernel: 4.18.0-240.10.1.el8_3.x86_64
Compiler: gcc 10.2.1
CentOS Stream 8
Kernel: 4.18.0-240.10.1.el8_3.x86_64
Compiler: gcc 8.4.1 20200928
Ubuntu 20.04
Kernel: 4.18.0-240.10.1.el8_3.x86_64
Compiler: gcc 9.3.0-17ubuntu1~20.04
Ubuntu20.04
Kernel: 5.4.0-72-generic
Compiler: aarch64-linux-gnu-gcc (Ubuntu 9.3.0-17ubuntu1~20.04) 9.3.0
openSUSE Leap 15
Kernel: 4.18.0-240.10.1.el8_3.x86_64
Compiler: gcc 7.5.0
Fedora 34
Kernel: 5.4.0-72-generic
Compiler: gcc 11.1.1 20210428 (Red Hat 11.1.1-1)
Fedora 31
Kernel: 4.18.0-240.10.1.el8_3.x86_64
Compiler: gcc 9.3.1
Fedora 34 clang
Kernel: 5.4.0-72-generic
Compiler: clang 12.0.0 (Fedora 12.0.0-0.3.rc1.fc34)
Fedora 33
Kernel: 5.4.0-72-generic
Compiler: gcc 10.3.1 20210422 (Red Hat 10.3.1-1)
To view detailed results, visit:
https://lab.dpdk.org/results/dashboard/patchsets/17326/
UNH-IOL DPDK Community Lab
To manage your email subscriptions, visit:
https://lab.dpdk.org/results/dashboard/preferences/subscriptions/
^ permalink raw reply [flat|nested] 6+ messages in thread
* [dpdk-test-report] |SUCCESS| pw94019 [PATCH] [v4] eal: arm: fix out of tree build
@ 2021-06-08 11:02 dpdklab
0 siblings, 0 replies; 6+ messages in thread
From: dpdklab @ 2021-06-08 11:02 UTC (permalink / raw)
To: Test Report; +Cc: dpdk-test-reports
[-- Attachment #1: Type: text/plain, Size: 1924 bytes --]
Test-Label: iol-intel-Performance
Test-Status: SUCCESS
http://dpdk.org/patch/94019
_Performance Testing PASS_
Submitter: Michael Pfeiffer <michael.pfeiffer@tu-ilmenau.de>
Date: Tuesday, June 08 2021 10:29:01
DPDK git baseline: Repo:dpdk
Branch: master
CommitID:64307fad7d2b6af3be5e19833e404312f01f6ce5
94019 --> performance testing pass
Test environment and result as below:
Ubuntu 18.04
Kernel: 4.15.0-generic
Compiler: gcc 7.4
NIC: Intel Corporation Ethernet Converged Network Adapter XL710-QDA2 40000 Mbps
Target: x86_64-native-linuxapp-gcc
Fail/Total: 0/2
Detail performance results:
+------------+---------+-------------------------------------+
| frame_size | txd/rxd | throughput difference from expected |
+============+=========+=====================================+
| 64 | 512 | -0.36374% |
+------------+---------+-------------------------------------+
| 64 | 2048 | -0.2047% |
+------------+---------+-------------------------------------+
Ubuntu 18.04
Kernel: 4.15.0-generic
Compiler: gcc 7.4
NIC: Intel Corporation Ethernet Converged Network Adapter 82599ES 10000 Mbps
Target: x86_64-native-linuxapp-gcc
Fail/Total: 0/2
Detail performance results:
+------------+---------+-------------------------------------+
| frame_size | txd/rxd | throughput difference from expected |
+============+=========+=====================================+
| 64 | 512 | -0.03728% |
+------------+---------+-------------------------------------+
| 64 | 2048 | -0.56825% |
+------------+---------+-------------------------------------+
To view detailed results, visit:
https://lab.dpdk.org/results/dashboard/patchsets/17326/
UNH-IOL DPDK Community Lab
To manage your email subscriptions, visit:
https://lab.dpdk.org/results/dashboard/preferences/subscriptions/
^ permalink raw reply [flat|nested] 6+ messages in thread
* [dpdk-test-report] |SUCCESS| pw94019 [PATCH] [v4] eal: arm: fix out of tree build
@ 2021-06-08 11:00 dpdklab
0 siblings, 0 replies; 6+ messages in thread
From: dpdklab @ 2021-06-08 11:00 UTC (permalink / raw)
To: Test Report; +Cc: dpdk-test-reports
[-- Attachment #1: Type: text/plain, Size: 1270 bytes --]
Test-Label: iol-intel-Performance
Test-Status: SUCCESS
http://dpdk.org/patch/94019
_Performance Testing PASS_
Submitter: Michael Pfeiffer <michael.pfeiffer@tu-ilmenau.de>
Date: Tuesday, June 08 2021 10:29:01
DPDK git baseline: Repo:dpdk
Branch: master
CommitID:64307fad7d2b6af3be5e19833e404312f01f6ce5
94019 --> performance testing pass
Test environment and result as below:
Ubuntu 18.04
Kernel: 4.15.0-generic
Compiler: gcc 7.4
NIC: Intel Corporation Ethernet Converged Network Adapter XL710-QDA2 40000 Mbps
Target: x86_64-native-linuxapp-gcc
Fail/Total: 0/2
Detail performance results:
+------------+---------+-------------------------------------+
| frame_size | txd/rxd | throughput difference from expected |
+============+=========+=====================================+
| 64 | 512 | -0.36374% |
+------------+---------+-------------------------------------+
| 64 | 2048 | -0.2047% |
+------------+---------+-------------------------------------+
To view detailed results, visit:
https://lab.dpdk.org/results/dashboard/patchsets/17326/
UNH-IOL DPDK Community Lab
To manage your email subscriptions, visit:
https://lab.dpdk.org/results/dashboard/preferences/subscriptions/
^ permalink raw reply [flat|nested] 6+ messages in thread
* [dpdk-test-report] |SUCCESS| pw94019 [PATCH] [v4] eal: arm: fix out of tree build
@ 2021-06-08 10:55 dpdklab
0 siblings, 0 replies; 6+ messages in thread
From: dpdklab @ 2021-06-08 10:55 UTC (permalink / raw)
To: Test Report; +Cc: dpdk-test-reports
[-- Attachment #1: Type: text/plain, Size: 981 bytes --]
Test-Label: iol-intel-Functional
Test-Status: SUCCESS
http://dpdk.org/patch/94019
_Functional Testing PASS_
Submitter: Michael Pfeiffer <michael.pfeiffer@tu-ilmenau.de>
Date: Tuesday, June 08 2021 10:29:01
DPDK git baseline: Repo:dpdk
Branch: master
CommitID:64307fad7d2b6af3be5e19833e404312f01f6ce5
94019 --> functional testing pass
Test environment and result as below:
Ubuntu 18.04
Kernel: 4.15.0-generic
Compiler: gcc 7.4
NIC: Intel Corporation Ethernet Converged Network Adapter XL710-QDA2 40000 Mbps
Target: x86_64-native-linuxapp-gcc
Fail/Total: 0/2
Ubuntu 18.04
Kernel: 4.15.0-generic
Compiler: gcc 7.4
NIC: Intel Corporation Ethernet Converged Network Adapter 82599ES 10000 Mbps
Target: x86_64-native-linuxapp-gcc
Fail/Total: 0/5
To view detailed results, visit:
https://lab.dpdk.org/results/dashboard/patchsets/17326/
UNH-IOL DPDK Community Lab
To manage your email subscriptions, visit:
https://lab.dpdk.org/results/dashboard/preferences/subscriptions/
^ permalink raw reply [flat|nested] 6+ messages in thread
* [dpdk-test-report] |SUCCESS| pw94019 [PATCH] [v4] eal: arm: fix out of tree build
@ 2021-06-08 10:49 dpdklab
0 siblings, 0 replies; 6+ messages in thread
From: dpdklab @ 2021-06-08 10:49 UTC (permalink / raw)
To: Test Report; +Cc: dpdk-test-reports
[-- Attachment #1: Type: text/plain, Size: 797 bytes --]
Test-Label: iol-intel-Functional
Test-Status: SUCCESS
http://dpdk.org/patch/94019
_Functional Testing PASS_
Submitter: Michael Pfeiffer <michael.pfeiffer@tu-ilmenau.de>
Date: Tuesday, June 08 2021 10:29:01
DPDK git baseline: Repo:dpdk
Branch: master
CommitID:64307fad7d2b6af3be5e19833e404312f01f6ce5
94019 --> functional testing pass
Test environment and result as below:
Ubuntu 18.04
Kernel: 4.15.0-generic
Compiler: gcc 7.4
NIC: Intel Corporation Ethernet Converged Network Adapter XL710-QDA2 40000 Mbps
Target: x86_64-native-linuxapp-gcc
Fail/Total: 0/2
To view detailed results, visit:
https://lab.dpdk.org/results/dashboard/patchsets/17326/
UNH-IOL DPDK Community Lab
To manage your email subscriptions, visit:
https://lab.dpdk.org/results/dashboard/preferences/subscriptions/
^ permalink raw reply [flat|nested] 6+ messages in thread
* [dpdk-test-report] |SUCCESS| pw94019 [PATCH v4] eal: arm: fix out of tree build
[not found] <20210608102901.156032-1-michael.pfeiffer@tu-ilmenau.de>
@ 2021-06-08 10:29 ` checkpatch
0 siblings, 0 replies; 6+ messages in thread
From: checkpatch @ 2021-06-08 10:29 UTC (permalink / raw)
To: test-report
Test-Label: checkpatch
Test-Status: SUCCESS
http://dpdk.org/patch/94019
_coding style OK_
^ permalink raw reply [flat|nested] 6+ messages in thread
end of thread, other threads:[~2021-06-08 11:38 UTC | newest]
Thread overview: 6+ messages (download: mbox.gz / follow: Atom feed)
-- links below jump to the message on this page --
2021-06-08 11:38 [dpdk-test-report] |SUCCESS| pw94019 [PATCH] [v4] eal: arm: fix out of tree build dpdklab
-- strict thread matches above, loose matches on Subject: below --
2021-06-08 11:02 dpdklab
2021-06-08 11:00 dpdklab
2021-06-08 10:55 dpdklab
2021-06-08 10:49 dpdklab
[not found] <20210608102901.156032-1-michael.pfeiffer@tu-ilmenau.de>
2021-06-08 10:29 ` [dpdk-test-report] |SUCCESS| pw94019 [PATCH v4] " checkpatch
This is a public inbox, see mirroring instructions
for how to clone and mirror all data and code used for this inbox;
as well as URLs for NNTP newsgroup(s).