automatic DPDK test reports
 help / color / mirror / Atom feed
* [dpdk-test-report] |SUCCESS| pw94066 [PATCH] [v1] net/ice: fix RSS for L2 packet
@ 2021-06-10  4:55 dpdklab
  0 siblings, 0 replies; 5+ messages in thread
From: dpdklab @ 2021-06-10  4:55 UTC (permalink / raw)
  To: Test Report; +Cc: dpdk-test-reports

[-- Attachment #1: Type: text/plain, Size: 2891 bytes --]

Test-Label: iol-abi-testing
Test-Status: SUCCESS
http://dpdk.org/patch/94066

_Testing PASS_

Submitter: Wenjun Wu <wenjun1.wu@intel.com>
Date: Thursday, June 10 2021 02:30:19 
DPDK git baseline: Repo:dpdk
  Branch: master
  CommitID:469d5c02159ddf0746ddbb9822c034556422515f

94066 --> testing pass

Test environment and result as below:

+------------------+----------+
|   Environment    | abi_test |
+==================+==========+
| Ubuntu 18.04 ARM | PASS     |
+------------------+----------+
| Ubuntu 18.04     | PASS     |
+------------------+----------+
| RHEL 7           | PASS     |
+------------------+----------+
| Arch Linux       | PASS     |
+------------------+----------+
| RHEL8            | PASS     |
+------------------+----------+
| Fedora 32        | PASS     |
+------------------+----------+
| openSUSE Leap 15 | PASS     |
+------------------+----------+
| Ubuntu 20.04     | PASS     |
+------------------+----------+
| CentOS 8         | PASS     |
+------------------+----------+
| Fedora 34 clang  | PASS     |
+------------------+----------+
| Ubuntu20.04      | PASS     |
+------------------+----------+
| CentOS Stream 8  | PASS     |
+------------------+----------+
| Fedora 33        | PASS     |
+------------------+----------+
| Fedora 34        | PASS     |
+------------------+----------+
| Fedora 31        | PASS     |
+------------------+----------+


Ubuntu 18.04 ARM
	Kernel: 5.4.0-53-generic
	Compiler: gcc 9.3

Ubuntu 18.04
	Kernel: 4.18.0-240.10.1.el8_3.x86_64
	Compiler: gcc 7.5.0-3ubuntu1~18.04

RHEL 7
	Kernel: 4.18.0-240.10.1.el8_3.x86_64
	Compiler: gcc 4.8.5 20150623 (Red Hat 4.8.5-44)

Arch Linux
	Kernel: 5.4.0-73-generic
	Compiler: gcc 11.1.0

RHEL8
	Kernel: 4.18.0-240.10.1.el8_3.x86_64
	Compiler: gcc 8.3.1 20191121 (Red Hat 8.3.1-5)

Fedora 32
	Kernel: 4.18.0-240.10.1.el8_3.x86_64
	Compiler: gcc 10.2.1

openSUSE Leap 15
	Kernel: 4.18.0-240.10.1.el8_3.x86_64
	Compiler: gcc 7.5.0

Ubuntu 20.04
	Kernel: 4.18.0-240.10.1.el8_3.x86_64
	Compiler: gcc 9.3.0-17ubuntu1~20.04

CentOS 8
	Kernel: 4.18.0-240.10.1.el8_3.x86_64
	Compiler: gcc 8.3.1 20191121 (Red Hat 8.3.1-5)

Fedora 34 clang
	Kernel: 5.4.0-72-generic
	Compiler: clang 12.0.0 (Fedora 12.0.0-0.3.rc1.fc34)

Ubuntu20.04
	Kernel: 5.4.0-72-generic
	Compiler: aarch64-linux-gnu-gcc (Ubuntu 9.3.0-17ubuntu1~20.04) 9.3.0

CentOS Stream 8
	Kernel: 4.18.0-240.10.1.el8_3.x86_64
	Compiler: gcc 8.4.1 20200928

Fedora 33
	Kernel: 5.4.0-72-generic
	Compiler: gcc 10.3.1 20210422 (Red Hat 10.3.1-1)

Fedora 34
	Kernel: 5.4.0-72-generic
	Compiler: gcc 11.1.1 20210428 (Red Hat 11.1.1-1)

Fedora 31
	Kernel: 4.18.0-240.10.1.el8_3.x86_64
	Compiler: gcc 9.3.1

To view detailed results, visit:
https://lab.dpdk.org/results/dashboard/patchsets/17344/

UNH-IOL DPDK Community Lab

To manage your email subscriptions, visit: 
https://lab.dpdk.org/results/dashboard/preferences/subscriptions/

^ permalink raw reply	[flat|nested] 5+ messages in thread
* [dpdk-test-report] |SUCCESS| pw94066 [PATCH] [v1] net/ice: fix RSS for L2 packet
@ 2021-06-10  3:51 dpdklab
  0 siblings, 0 replies; 5+ messages in thread
From: dpdklab @ 2021-06-10  3:51 UTC (permalink / raw)
  To: Test Report; +Cc: dpdk-test-reports

[-- Attachment #1: Type: text/plain, Size: 965 bytes --]

Test-Label: iol-intel-Functional
Test-Status: SUCCESS
http://dpdk.org/patch/94066

_Functional Testing PASS_

Submitter: Wenjun Wu <wenjun1.wu@intel.com>
Date: Thursday, June 10 2021 02:30:19 
DPDK git baseline: Repo:dpdk
  Branch: master
  CommitID:469d5c02159ddf0746ddbb9822c034556422515f

94066 --> functional testing pass

Test environment and result as below:

Ubuntu 18.04
Kernel: 4.15.0-generic
Compiler: gcc 7.4
NIC: Intel Corporation Ethernet Converged Network Adapter XL710-QDA2 40000 Mbps
Target: x86_64-native-linuxapp-gcc
Fail/Total: 0/2


Ubuntu 18.04
Kernel: 4.15.0-generic
Compiler: gcc 7.4
NIC: Intel Corporation Ethernet Converged Network Adapter 82599ES 10000 Mbps
Target: x86_64-native-linuxapp-gcc
Fail/Total: 0/5


To view detailed results, visit:
https://lab.dpdk.org/results/dashboard/patchsets/17344/

UNH-IOL DPDK Community Lab

To manage your email subscriptions, visit: 
https://lab.dpdk.org/results/dashboard/preferences/subscriptions/

^ permalink raw reply	[flat|nested] 5+ messages in thread
* [dpdk-test-report] |SUCCESS| pw94066 [PATCH] [v1] net/ice: fix RSS for L2 packet
@ 2021-06-10  3:47 dpdklab
  0 siblings, 0 replies; 5+ messages in thread
From: dpdklab @ 2021-06-10  3:47 UTC (permalink / raw)
  To: Test Report; +Cc: dpdk-test-reports

[-- Attachment #1: Type: text/plain, Size: 781 bytes --]

Test-Label: iol-intel-Functional
Test-Status: SUCCESS
http://dpdk.org/patch/94066

_Functional Testing PASS_

Submitter: Wenjun Wu <wenjun1.wu@intel.com>
Date: Thursday, June 10 2021 02:30:19 
DPDK git baseline: Repo:dpdk
  Branch: master
  CommitID:469d5c02159ddf0746ddbb9822c034556422515f

94066 --> functional testing pass

Test environment and result as below:

Ubuntu 18.04
Kernel: 4.15.0-generic
Compiler: gcc 7.4
NIC: Intel Corporation Ethernet Converged Network Adapter XL710-QDA2 40000 Mbps
Target: x86_64-native-linuxapp-gcc
Fail/Total: 0/2


To view detailed results, visit:
https://lab.dpdk.org/results/dashboard/patchsets/17344/

UNH-IOL DPDK Community Lab

To manage your email subscriptions, visit: 
https://lab.dpdk.org/results/dashboard/preferences/subscriptions/

^ permalink raw reply	[flat|nested] 5+ messages in thread
* [dpdk-test-report] |SUCCESS| pw94066 [PATCH] [v1] net/ice: fix RSS for L2 packet
@ 2021-06-10  3:43 dpdklab
  0 siblings, 0 replies; 5+ messages in thread
From: dpdklab @ 2021-06-10  3:43 UTC (permalink / raw)
  To: Test Report; +Cc: dpdk-test-reports

[-- Attachment #1: Type: text/plain, Size: 1908 bytes --]

Test-Label: iol-intel-Performance
Test-Status: SUCCESS
http://dpdk.org/patch/94066

_Performance Testing PASS_

Submitter: Wenjun Wu <wenjun1.wu@intel.com>
Date: Thursday, June 10 2021 02:30:19 
DPDK git baseline: Repo:dpdk
  Branch: master
  CommitID:469d5c02159ddf0746ddbb9822c034556422515f

94066 --> performance testing pass

Test environment and result as below:

Ubuntu 18.04
Kernel: 4.15.0-generic
Compiler: gcc 7.4
NIC: Intel Corporation Ethernet Converged Network Adapter 82599ES 10000 Mbps
Target: x86_64-native-linuxapp-gcc
Fail/Total: 0/2

Detail performance results: 
+------------+---------+-------------------------------------+
| frame_size | txd/rxd | throughput difference from expected |
+============+=========+=====================================+
| 64         | 512     | 0.07921%                            |
+------------+---------+-------------------------------------+
| 64         | 2048    | 0.14615%                            |
+------------+---------+-------------------------------------+

Ubuntu 18.04
Kernel: 4.15.0-generic
Compiler: gcc 7.4
NIC: Intel Corporation Ethernet Converged Network Adapter XL710-QDA2 40000 Mbps
Target: x86_64-native-linuxapp-gcc
Fail/Total: 0/2

Detail performance results: 
+------------+---------+-------------------------------------+
| frame_size | txd/rxd | throughput difference from expected |
+============+=========+=====================================+
| 64         | 512     | -0.87047%                           |
+------------+---------+-------------------------------------+
| 64         | 2048    | 0.02349%                            |
+------------+---------+-------------------------------------+

To view detailed results, visit:
https://lab.dpdk.org/results/dashboard/patchsets/17344/

UNH-IOL DPDK Community Lab

To manage your email subscriptions, visit: 
https://lab.dpdk.org/results/dashboard/preferences/subscriptions/

^ permalink raw reply	[flat|nested] 5+ messages in thread
* [dpdk-test-report] |SUCCESS| pw94066 [PATCH] [v1] net/ice: fix RSS for L2 packet
@ 2021-06-10  3:40 dpdklab
  0 siblings, 0 replies; 5+ messages in thread
From: dpdklab @ 2021-06-10  3:40 UTC (permalink / raw)
  To: Test Report; +Cc: dpdk-test-reports

[-- Attachment #1: Type: text/plain, Size: 1251 bytes --]

Test-Label: iol-intel-Performance
Test-Status: SUCCESS
http://dpdk.org/patch/94066

_Performance Testing PASS_

Submitter: Wenjun Wu <wenjun1.wu@intel.com>
Date: Thursday, June 10 2021 02:30:19 
DPDK git baseline: Repo:dpdk
  Branch: master
  CommitID:469d5c02159ddf0746ddbb9822c034556422515f

94066 --> performance testing pass

Test environment and result as below:

Ubuntu 18.04
Kernel: 4.15.0-generic
Compiler: gcc 7.4
NIC: Intel Corporation Ethernet Converged Network Adapter 82599ES 10000 Mbps
Target: x86_64-native-linuxapp-gcc
Fail/Total: 0/2

Detail performance results: 
+------------+---------+-------------------------------------+
| frame_size | txd/rxd | throughput difference from expected |
+============+=========+=====================================+
| 64         | 512     | 0.07921%                            |
+------------+---------+-------------------------------------+
| 64         | 2048    | 0.14615%                            |
+------------+---------+-------------------------------------+

To view detailed results, visit:
https://lab.dpdk.org/results/dashboard/patchsets/17344/

UNH-IOL DPDK Community Lab

To manage your email subscriptions, visit: 
https://lab.dpdk.org/results/dashboard/preferences/subscriptions/

^ permalink raw reply	[flat|nested] 5+ messages in thread

end of thread, other threads:[~2021-06-10  4:55 UTC | newest]

Thread overview: 5+ messages (download: mbox.gz / follow: Atom feed)
-- links below jump to the message on this page --
2021-06-10  4:55 [dpdk-test-report] |SUCCESS| pw94066 [PATCH] [v1] net/ice: fix RSS for L2 packet dpdklab
  -- strict thread matches above, loose matches on Subject: below --
2021-06-10  3:51 dpdklab
2021-06-10  3:47 dpdklab
2021-06-10  3:43 dpdklab
2021-06-10  3:40 dpdklab

automatic DPDK test reports

This inbox may be cloned and mirrored by anyone:

	git clone --mirror https://inbox.dpdk.org/test-report/0 test-report/git/0.git

	# If you have public-inbox 1.1+ installed, you may
	# initialize and index your mirror using the following commands:
	public-inbox-init -V2 test-report test-report/ https://inbox.dpdk.org/test-report \
		test-report@dpdk.org
	public-inbox-index test-report

Example config snippet for mirrors.
Newsgroup available over NNTP:
	nntp://inbox.dpdk.org/inbox.dpdk.test-report


AGPL code for this site: git clone https://public-inbox.org/public-inbox.git