automatic DPDK test reports
 help / color / mirror / Atom feed
* [dpdk-test-report] |SUCCESS| pw94081 [PATCH] eal: allow hugetlbfs sub-directories
       [not found] <20210610210521.830303-1-john.levon@nutanix.com>
@ 2021-06-10 21:09 ` checkpatch
  2021-06-10 23:00 ` [dpdk-test-report] |SUCCESS| pw94081 [dpdk-dev] " 0-day Robot
  1 sibling, 0 replies; 6+ messages in thread
From: checkpatch @ 2021-06-10 21:09 UTC (permalink / raw)
  To: test-report

Test-Label: checkpatch
Test-Status: SUCCESS
http://dpdk.org/patch/94081

_coding style OK_



^ permalink raw reply	[flat|nested] 6+ messages in thread

* [dpdk-test-report] |SUCCESS| pw94081 [dpdk-dev] [PATCH] eal: allow hugetlbfs sub-directories
       [not found] <20210610210521.830303-1-john.levon@nutanix.com>
  2021-06-10 21:09 ` [dpdk-test-report] |SUCCESS| pw94081 [PATCH] eal: allow hugetlbfs sub-directories checkpatch
@ 2021-06-10 23:00 ` 0-day Robot
  1 sibling, 0 replies; 6+ messages in thread
From: 0-day Robot @ 2021-06-10 23:00 UTC (permalink / raw)
  To: test-report; +Cc: robot

From: robot@bytheb.org

Test-Label: github-robot
Test-Status: SUCCESS
http://patchwork.dpdk.org/patch/94081/

_github build: passed_
Build URL: https://github.com/ovsrobot/dpdk/actions/runs/926629782

^ permalink raw reply	[flat|nested] 6+ messages in thread

* [dpdk-test-report] |SUCCESS| pw94081 [PATCH] eal: allow hugetlbfs sub-directories
@ 2021-06-11 17:53 dpdklab
  0 siblings, 0 replies; 6+ messages in thread
From: dpdklab @ 2021-06-11 17:53 UTC (permalink / raw)
  To: Test Report; +Cc: dpdk-test-reports

[-- Attachment #1: Type: text/plain, Size: 1911 bytes --]

Test-Label: iol-intel-Performance
Test-Status: SUCCESS
http://dpdk.org/patch/94081

_Performance Testing PASS_

Submitter: John Levon <john.levon@nutanix.com>
Date: Thursday, June 10 2021 21:05:21 
DPDK git baseline: Repo:dpdk
  Branch: master
  CommitID:469d5c02159ddf0746ddbb9822c034556422515f

94081 --> performance testing pass

Test environment and result as below:

Ubuntu 18.04
Kernel: 4.15.0-generic
Compiler: gcc 7.4
NIC: Intel Corporation Ethernet Converged Network Adapter 82599ES 10000 Mbps
Target: x86_64-native-linuxapp-gcc
Fail/Total: 0/2

Detail performance results: 
+------------+---------+-------------------------------------+
| frame_size | txd/rxd | throughput difference from expected |
+============+=========+=====================================+
| 64         | 512     | 0.32123%                            |
+------------+---------+-------------------------------------+
| 64         | 2048    | 0.28667%                            |
+------------+---------+-------------------------------------+

Ubuntu 18.04
Kernel: 4.15.0-generic
Compiler: gcc 7.4
NIC: Intel Corporation Ethernet Converged Network Adapter XL710-QDA2 40000 Mbps
Target: x86_64-native-linuxapp-gcc
Fail/Total: 0/2

Detail performance results: 
+------------+---------+-------------------------------------+
| frame_size | txd/rxd | throughput difference from expected |
+============+=========+=====================================+
| 64         | 512     | -1.12452%                           |
+------------+---------+-------------------------------------+
| 64         | 2048    | -0.06813%                           |
+------------+---------+-------------------------------------+

To view detailed results, visit:
https://lab.dpdk.org/results/dashboard/patchsets/17352/

UNH-IOL DPDK Community Lab

To manage your email subscriptions, visit: 
https://lab.dpdk.org/results/dashboard/preferences/subscriptions/

^ permalink raw reply	[flat|nested] 6+ messages in thread

* [dpdk-test-report] |SUCCESS| pw94081 [PATCH] eal: allow hugetlbfs sub-directories
@ 2021-06-10 23:32 dpdklab
  0 siblings, 0 replies; 6+ messages in thread
From: dpdklab @ 2021-06-10 23:32 UTC (permalink / raw)
  To: Test Report; +Cc: dpdklab

[-- Attachment #1: Type: text/plain, Size: 2894 bytes --]

Test-Label: iol-abi-testing
Test-Status: SUCCESS
http://dpdk.org/patch/94081

_Testing PASS_

Submitter: John Levon <john.levon@nutanix.com>
Date: Thursday, June 10 2021 21:05:21 
DPDK git baseline: Repo:dpdk
  Branch: master
  CommitID:469d5c02159ddf0746ddbb9822c034556422515f

94081 --> testing pass

Test environment and result as below:

+------------------+----------+
|   Environment    | abi_test |
+==================+==========+
| Ubuntu 18.04 ARM | PASS     |
+------------------+----------+
| RHEL 7           | PASS     |
+------------------+----------+
| CentOS Stream 8  | PASS     |
+------------------+----------+
| Ubuntu 20.04     | PASS     |
+------------------+----------+
| Ubuntu 18.04     | PASS     |
+------------------+----------+
| Arch Linux       | PASS     |
+------------------+----------+
| RHEL8            | PASS     |
+------------------+----------+
| Ubuntu20.04      | PASS     |
+------------------+----------+
| Fedora 33        | PASS     |
+------------------+----------+
| Fedora 32        | PASS     |
+------------------+----------+
| CentOS 8         | PASS     |
+------------------+----------+
| openSUSE Leap 15 | PASS     |
+------------------+----------+
| Fedora 34        | PASS     |
+------------------+----------+
| Fedora 31        | PASS     |
+------------------+----------+
| Fedora 34 clang  | PASS     |
+------------------+----------+


Ubuntu 18.04 ARM
	Kernel: 5.4.0-53-generic
	Compiler: gcc 9.3

RHEL 7
	Kernel: 4.18.0-240.10.1.el8_3.x86_64
	Compiler: gcc 4.8.5 20150623 (Red Hat 4.8.5-44)

CentOS Stream 8
	Kernel: 4.18.0-240.10.1.el8_3.x86_64
	Compiler: gcc 8.4.1 20200928

Ubuntu 20.04
	Kernel: 4.18.0-240.10.1.el8_3.x86_64
	Compiler: gcc 9.3.0-17ubuntu1~20.04

Ubuntu 18.04
	Kernel: 4.18.0-240.10.1.el8_3.x86_64
	Compiler: gcc 7.5.0-3ubuntu1~18.04

Arch Linux
	Kernel: 5.4.0-73-generic
	Compiler: gcc 11.1.0

RHEL8
	Kernel: 4.18.0-240.10.1.el8_3.x86_64
	Compiler: gcc 8.3.1 20191121 (Red Hat 8.3.1-5)

Ubuntu20.04
	Kernel: 5.4.0-72-generic
	Compiler: aarch64-linux-gnu-gcc (Ubuntu 9.3.0-17ubuntu1~20.04) 9.3.0

Fedora 33
	Kernel: 5.4.0-72-generic
	Compiler: gcc 10.3.1 20210422 (Red Hat 10.3.1-1)

Fedora 32
	Kernel: 4.18.0-240.10.1.el8_3.x86_64
	Compiler: gcc 10.2.1

CentOS 8
	Kernel: 4.18.0-240.10.1.el8_3.x86_64
	Compiler: gcc 8.3.1 20191121 (Red Hat 8.3.1-5)

openSUSE Leap 15
	Kernel: 4.18.0-240.10.1.el8_3.x86_64
	Compiler: gcc 7.5.0

Fedora 34
	Kernel: 5.4.0-72-generic
	Compiler: gcc 11.1.1 20210428 (Red Hat 11.1.1-1)

Fedora 31
	Kernel: 4.18.0-240.10.1.el8_3.x86_64
	Compiler: gcc 9.3.1

Fedora 34 clang
	Kernel: 5.4.0-72-generic
	Compiler: clang 12.0.0 (Fedora 12.0.0-0.3.rc1.fc34)

To view detailed results, visit:
https://lab.dpdk.org/results/dashboard/patchsets/17352/

UNH-IOL DPDK Community Lab

To manage your email subscriptions, visit: 
https://lab.dpdk.org/results/dashboard/preferences/subscriptions/

^ permalink raw reply	[flat|nested] 6+ messages in thread

* [dpdk-test-report] |SUCCESS| pw94081 [PATCH] eal: allow hugetlbfs sub-directories
@ 2021-06-10 21:47 dpdklab
  0 siblings, 0 replies; 6+ messages in thread
From: dpdklab @ 2021-06-10 21:47 UTC (permalink / raw)
  To: Test Report; +Cc: dpdk-test-reports

[-- Attachment #1: Type: text/plain, Size: 1254 bytes --]

Test-Label: iol-intel-Performance
Test-Status: SUCCESS
http://dpdk.org/patch/94081

_Performance Testing PASS_

Submitter: John Levon <john.levon@nutanix.com>
Date: Thursday, June 10 2021 21:05:21 
DPDK git baseline: Repo:dpdk
  Branch: master
  CommitID:469d5c02159ddf0746ddbb9822c034556422515f

94081 --> performance testing pass

Test environment and result as below:

Ubuntu 18.04
Kernel: 4.15.0-generic
Compiler: gcc 7.4
NIC: Intel Corporation Ethernet Converged Network Adapter 82599ES 10000 Mbps
Target: x86_64-native-linuxapp-gcc
Fail/Total: 0/2

Detail performance results: 
+------------+---------+-------------------------------------+
| frame_size | txd/rxd | throughput difference from expected |
+============+=========+=====================================+
| 64         | 512     | 0.32123%                            |
+------------+---------+-------------------------------------+
| 64         | 2048    | 0.28667%                            |
+------------+---------+-------------------------------------+

To view detailed results, visit:
https://lab.dpdk.org/results/dashboard/patchsets/17352/

UNH-IOL DPDK Community Lab

To manage your email subscriptions, visit: 
https://lab.dpdk.org/results/dashboard/preferences/subscriptions/

^ permalink raw reply	[flat|nested] 6+ messages in thread

* [dpdk-test-report] |SUCCESS| pw94081 [PATCH] eal: allow hugetlbfs sub-directories
@ 2021-06-10 21:40 dpdklab
  0 siblings, 0 replies; 6+ messages in thread
From: dpdklab @ 2021-06-10 21:40 UTC (permalink / raw)
  To: Test Report; +Cc: dpdk-test-reports

[-- Attachment #1: Type: text/plain, Size: 781 bytes --]

Test-Label: iol-intel-Functional
Test-Status: SUCCESS
http://dpdk.org/patch/94081

_Functional Testing PASS_

Submitter: John Levon <john.levon@nutanix.com>
Date: Thursday, June 10 2021 21:05:21 
DPDK git baseline: Repo:dpdk
  Branch: master
  CommitID:469d5c02159ddf0746ddbb9822c034556422515f

94081 --> functional testing pass

Test environment and result as below:

Ubuntu 18.04
Kernel: 4.15.0-generic
Compiler: gcc 7.4
NIC: Intel Corporation Ethernet Converged Network Adapter 82599ES 10000 Mbps
Target: x86_64-native-linuxapp-gcc
Fail/Total: 0/5


To view detailed results, visit:
https://lab.dpdk.org/results/dashboard/patchsets/17352/

UNH-IOL DPDK Community Lab

To manage your email subscriptions, visit: 
https://lab.dpdk.org/results/dashboard/preferences/subscriptions/

^ permalink raw reply	[flat|nested] 6+ messages in thread

end of thread, other threads:[~2021-06-11 17:53 UTC | newest]

Thread overview: 6+ messages (download: mbox.gz / follow: Atom feed)
-- links below jump to the message on this page --
     [not found] <20210610210521.830303-1-john.levon@nutanix.com>
2021-06-10 21:09 ` [dpdk-test-report] |SUCCESS| pw94081 [PATCH] eal: allow hugetlbfs sub-directories checkpatch
2021-06-10 23:00 ` [dpdk-test-report] |SUCCESS| pw94081 [dpdk-dev] " 0-day Robot
2021-06-11 17:53 [dpdk-test-report] |SUCCESS| pw94081 " dpdklab
  -- strict thread matches above, loose matches on Subject: below --
2021-06-10 23:32 dpdklab
2021-06-10 21:47 dpdklab
2021-06-10 21:40 dpdklab

automatic DPDK test reports

This inbox may be cloned and mirrored by anyone:

	git clone --mirror https://inbox.dpdk.org/test-report/0 test-report/git/0.git

	# If you have public-inbox 1.1+ installed, you may
	# initialize and index your mirror using the following commands:
	public-inbox-init -V2 test-report test-report/ https://inbox.dpdk.org/test-report \
		test-report@dpdk.org
	public-inbox-index test-report

Example config snippet for mirrors.
Newsgroup available over NNTP:
	nntp://inbox.dpdk.org/inbox.dpdk.test-report


AGPL code for this site: git clone https://public-inbox.org/public-inbox.git