* [dpdk-test-report] |SUCCESS| pw94088 [PATCH] [v2] eal/arm: remove irrelevant code
@ 2021-06-11 15:22 dpdklab
0 siblings, 0 replies; 4+ messages in thread
From: dpdklab @ 2021-06-11 15:22 UTC (permalink / raw)
To: Test Report; +Cc: dpdk-test-reports
[-- Attachment #1: Type: text/plain, Size: 1252 bytes --]
Test-Label: iol-intel-Performance
Test-Status: SUCCESS
http://dpdk.org/patch/94088
_Performance Testing PASS_
Submitter: Ruifeng Wang <ruifeng.wang@arm.com>
Date: Friday, June 11 2021 14:42:18
DPDK git baseline: Repo:dpdk
Branch: master
CommitID:469d5c02159ddf0746ddbb9822c034556422515f
94088 --> performance testing pass
Test environment and result as below:
Ubuntu 18.04
Kernel: 4.15.0-generic
Compiler: gcc 7.4
NIC: Intel Corporation Ethernet Converged Network Adapter 82599ES 10000 Mbps
Target: x86_64-native-linuxapp-gcc
Fail/Total: 0/2
Detail performance results:
+------------+---------+-------------------------------------+
| frame_size | txd/rxd | throughput difference from expected |
+============+=========+=====================================+
| 64 | 512 | 0.07041% |
+------------+---------+-------------------------------------+
| 64 | 2048 | 0.15177% |
+------------+---------+-------------------------------------+
To view detailed results, visit:
https://lab.dpdk.org/results/dashboard/patchsets/17357/
UNH-IOL DPDK Community Lab
To manage your email subscriptions, visit:
https://lab.dpdk.org/results/dashboard/preferences/subscriptions/
^ permalink raw reply [flat|nested] 4+ messages in thread
* [dpdk-test-report] |SUCCESS| pw94088 [PATCH] [v2] eal/arm: remove irrelevant code
@ 2021-06-11 16:10 dpdklab
0 siblings, 0 replies; 4+ messages in thread
From: dpdklab @ 2021-06-11 16:10 UTC (permalink / raw)
To: Test Report; +Cc: dpdk-test-reports
[-- Attachment #1: Type: text/plain, Size: 1909 bytes --]
Test-Label: iol-intel-Performance
Test-Status: SUCCESS
http://dpdk.org/patch/94088
_Performance Testing PASS_
Submitter: Ruifeng Wang <ruifeng.wang@arm.com>
Date: Friday, June 11 2021 14:42:18
DPDK git baseline: Repo:dpdk
Branch: master
CommitID:469d5c02159ddf0746ddbb9822c034556422515f
94088 --> performance testing pass
Test environment and result as below:
Ubuntu 18.04
Kernel: 4.15.0-generic
Compiler: gcc 7.4
NIC: Intel Corporation Ethernet Converged Network Adapter 82599ES 10000 Mbps
Target: x86_64-native-linuxapp-gcc
Fail/Total: 0/2
Detail performance results:
+------------+---------+-------------------------------------+
| frame_size | txd/rxd | throughput difference from expected |
+============+=========+=====================================+
| 64 | 512 | 0.07041% |
+------------+---------+-------------------------------------+
| 64 | 2048 | 0.15177% |
+------------+---------+-------------------------------------+
Ubuntu 18.04
Kernel: 4.15.0-generic
Compiler: gcc 7.4
NIC: Intel Corporation Ethernet Converged Network Adapter XL710-QDA2 40000 Mbps
Target: x86_64-native-linuxapp-gcc
Fail/Total: 0/2
Detail performance results:
+------------+---------+-------------------------------------+
| frame_size | txd/rxd | throughput difference from expected |
+============+=========+=====================================+
| 64 | 512 | 0.42216% |
+------------+---------+-------------------------------------+
| 64 | 2048 | -0.1903% |
+------------+---------+-------------------------------------+
To view detailed results, visit:
https://lab.dpdk.org/results/dashboard/patchsets/17357/
UNH-IOL DPDK Community Lab
To manage your email subscriptions, visit:
https://lab.dpdk.org/results/dashboard/preferences/subscriptions/
^ permalink raw reply [flat|nested] 4+ messages in thread
* [dpdk-test-report] |SUCCESS| pw94088 [PATCH] [v2] eal/arm: remove irrelevant code
@ 2021-06-11 15:57 dpdklab
0 siblings, 0 replies; 4+ messages in thread
From: dpdklab @ 2021-06-11 15:57 UTC (permalink / raw)
To: Test Report; +Cc: dpdk-test-reports
[-- Attachment #1: Type: text/plain, Size: 2892 bytes --]
Test-Label: iol-abi-testing
Test-Status: SUCCESS
http://dpdk.org/patch/94088
_Testing PASS_
Submitter: Ruifeng Wang <ruifeng.wang@arm.com>
Date: Friday, June 11 2021 14:42:18
DPDK git baseline: Repo:dpdk
Branch: master
CommitID:469d5c02159ddf0746ddbb9822c034556422515f
94088 --> testing pass
Test environment and result as below:
+------------------+----------+
| Environment | abi_test |
+==================+==========+
| Ubuntu 18.04 ARM | PASS |
+------------------+----------+
| Arch Linux | PASS |
+------------------+----------+
| RHEL 7 | PASS |
+------------------+----------+
| RHEL8 | PASS |
+------------------+----------+
| CentOS 8 | PASS |
+------------------+----------+
| openSUSE Leap 15 | PASS |
+------------------+----------+
| Ubuntu 18.04 | PASS |
+------------------+----------+
| Fedora 34 | PASS |
+------------------+----------+
| Fedora 33 | PASS |
+------------------+----------+
| Ubuntu 20.04 | PASS |
+------------------+----------+
| CentOS Stream 8 | PASS |
+------------------+----------+
| Ubuntu20.04 | PASS |
+------------------+----------+
| Fedora 32 | PASS |
+------------------+----------+
| Fedora 34 clang | PASS |
+------------------+----------+
| Fedora 31 | PASS |
+------------------+----------+
Ubuntu 18.04 ARM
Kernel: 5.4.0-53-generic
Compiler: gcc 9.3
Arch Linux
Kernel: 5.4.0-73-generic
Compiler: gcc 11.1.0
RHEL 7
Kernel: 4.18.0-240.10.1.el8_3.x86_64
Compiler: gcc 4.8.5 20150623 (Red Hat 4.8.5-44)
RHEL8
Kernel: 4.18.0-240.10.1.el8_3.x86_64
Compiler: gcc 8.3.1 20191121 (Red Hat 8.3.1-5)
CentOS 8
Kernel: 4.18.0-240.10.1.el8_3.x86_64
Compiler: gcc 8.3.1 20191121 (Red Hat 8.3.1-5)
openSUSE Leap 15
Kernel: 4.18.0-240.10.1.el8_3.x86_64
Compiler: gcc 7.5.0
Ubuntu 18.04
Kernel: 4.18.0-240.10.1.el8_3.x86_64
Compiler: gcc 7.5.0-3ubuntu1~18.04
Fedora 34
Kernel: 5.4.0-72-generic
Compiler: gcc 11.1.1 20210428 (Red Hat 11.1.1-1)
Fedora 33
Kernel: 5.4.0-72-generic
Compiler: gcc 10.3.1 20210422 (Red Hat 10.3.1-1)
Ubuntu 20.04
Kernel: 4.18.0-240.10.1.el8_3.x86_64
Compiler: gcc 9.3.0-17ubuntu1~20.04
CentOS Stream 8
Kernel: 4.18.0-240.10.1.el8_3.x86_64
Compiler: gcc 8.4.1 20200928
Ubuntu20.04
Kernel: 5.4.0-72-generic
Compiler: aarch64-linux-gnu-gcc (Ubuntu 9.3.0-17ubuntu1~20.04) 9.3.0
Fedora 32
Kernel: 4.18.0-240.10.1.el8_3.x86_64
Compiler: gcc 10.2.1
Fedora 34 clang
Kernel: 5.4.0-72-generic
Compiler: clang 12.0.0 (Fedora 12.0.0-0.3.rc1.fc34)
Fedora 31
Kernel: 4.18.0-240.10.1.el8_3.x86_64
Compiler: gcc 9.3.1
To view detailed results, visit:
https://lab.dpdk.org/results/dashboard/patchsets/17357/
UNH-IOL DPDK Community Lab
To manage your email subscriptions, visit:
https://lab.dpdk.org/results/dashboard/preferences/subscriptions/
^ permalink raw reply [flat|nested] 4+ messages in thread
[parent not found: <20210611144219.322428-1-ruifeng.wang@arm.com>]
end of thread, other threads:[~2021-06-11 16:10 UTC | newest]
Thread overview: 4+ messages (download: mbox.gz / follow: Atom feed)
-- links below jump to the message on this page --
2021-06-11 15:22 [dpdk-test-report] |SUCCESS| pw94088 [PATCH] [v2] eal/arm: remove irrelevant code dpdklab
-- strict thread matches above, loose matches on Subject: below --
2021-06-11 16:10 dpdklab
2021-06-11 15:57 dpdklab
[not found] <20210611144219.322428-1-ruifeng.wang@arm.com>
2021-06-11 14:44 ` [dpdk-test-report] |SUCCESS| pw94088 [PATCH v2] " checkpatch
This is a public inbox, see mirroring instructions
for how to clone and mirror all data and code used for this inbox;
as well as URLs for NNTP newsgroup(s).