[-- Attachment #1: Type: text/plain, Size: 794 bytes --] Test-Label: iol-intel-Functional Test-Status: SUCCESS http://dpdk.org/patch/94354 _Functional Testing PASS_ Submitter: Thierry Herbelot <thierry.herbelot@6wind.com> Date: Thursday, June 17 2021 11:44:19 DPDK git baseline: Repo:dpdk Branch: master CommitID:08c16b212d036faedc74ae6ad3d159594a8836b9 94354 --> functional testing pass Test environment and result as below: Ubuntu 18.04 Kernel: 4.15.0-generic Compiler: gcc 7.4 NIC: Intel Corporation Ethernet Converged Network Adapter XL710-QDA2 40000 Mbps Target: x86_64-native-linuxapp-gcc Fail/Total: 0/2 To view detailed results, visit: https://lab.dpdk.org/results/dashboard/patchsets/17426/ UNH-IOL DPDK Community Lab To manage your email subscriptions, visit: https://lab.dpdk.org/results/dashboard/preferences/subscriptions/
[-- Attachment #1: Type: text/plain, Size: 1267 bytes --] Test-Label: iol-intel-Performance Test-Status: SUCCESS http://dpdk.org/patch/94354 _Performance Testing PASS_ Submitter: Thierry Herbelot <thierry.herbelot@6wind.com> Date: Thursday, June 17 2021 11:44:19 DPDK git baseline: Repo:dpdk Branch: master CommitID:08c16b212d036faedc74ae6ad3d159594a8836b9 94354 --> performance testing pass Test environment and result as below: Ubuntu 18.04 Kernel: 4.15.0-generic Compiler: gcc 7.4 NIC: Intel Corporation Ethernet Converged Network Adapter XL710-QDA2 40000 Mbps Target: x86_64-native-linuxapp-gcc Fail/Total: 0/2 Detail performance results: +------------+---------+-------------------------------------+ | frame_size | txd/rxd | throughput difference from expected | +============+=========+=====================================+ | 64 | 512 | -0.05308% | +------------+---------+-------------------------------------+ | 64 | 2048 | 1.17829% | +------------+---------+-------------------------------------+ To view detailed results, visit: https://lab.dpdk.org/results/dashboard/patchsets/17426/ UNH-IOL DPDK Community Lab To manage your email subscriptions, visit: https://lab.dpdk.org/results/dashboard/preferences/subscriptions/
[-- Attachment #1: Type: text/plain, Size: 978 bytes --] Test-Label: iol-intel-Functional Test-Status: SUCCESS http://dpdk.org/patch/94354 _Functional Testing PASS_ Submitter: Thierry Herbelot <thierry.herbelot@6wind.com> Date: Thursday, June 17 2021 11:44:19 DPDK git baseline: Repo:dpdk Branch: master CommitID:08c16b212d036faedc74ae6ad3d159594a8836b9 94354 --> functional testing pass Test environment and result as below: Ubuntu 18.04 Kernel: 4.15.0-generic Compiler: gcc 7.4 NIC: Intel Corporation Ethernet Converged Network Adapter XL710-QDA2 40000 Mbps Target: x86_64-native-linuxapp-gcc Fail/Total: 0/2 Ubuntu 18.04 Kernel: 4.15.0-generic Compiler: gcc 7.4 NIC: Intel Corporation Ethernet Converged Network Adapter 82599ES 10000 Mbps Target: x86_64-native-linuxapp-gcc Fail/Total: 0/5 To view detailed results, visit: https://lab.dpdk.org/results/dashboard/patchsets/17426/ UNH-IOL DPDK Community Lab To manage your email subscriptions, visit: https://lab.dpdk.org/results/dashboard/preferences/subscriptions/
[-- Attachment #1: Type: text/plain, Size: 1921 bytes --] Test-Label: iol-intel-Performance Test-Status: SUCCESS http://dpdk.org/patch/94354 _Performance Testing PASS_ Submitter: Thierry Herbelot <thierry.herbelot@6wind.com> Date: Thursday, June 17 2021 11:44:19 DPDK git baseline: Repo:dpdk Branch: master CommitID:08c16b212d036faedc74ae6ad3d159594a8836b9 94354 --> performance testing pass Test environment and result as below: Ubuntu 18.04 Kernel: 4.15.0-generic Compiler: gcc 7.4 NIC: Intel Corporation Ethernet Converged Network Adapter XL710-QDA2 40000 Mbps Target: x86_64-native-linuxapp-gcc Fail/Total: 0/2 Detail performance results: +------------+---------+-------------------------------------+ | frame_size | txd/rxd | throughput difference from expected | +============+=========+=====================================+ | 64 | 512 | -0.05308% | +------------+---------+-------------------------------------+ | 64 | 2048 | 1.17829% | +------------+---------+-------------------------------------+ Ubuntu 18.04 Kernel: 4.15.0-generic Compiler: gcc 7.4 NIC: Intel Corporation Ethernet Converged Network Adapter 82599ES 10000 Mbps Target: x86_64-native-linuxapp-gcc Fail/Total: 0/2 Detail performance results: +------------+---------+-------------------------------------+ | frame_size | txd/rxd | throughput difference from expected | +============+=========+=====================================+ | 64 | 512 | -0.06991% | +------------+---------+-------------------------------------+ | 64 | 2048 | 0.83434% | +------------+---------+-------------------------------------+ To view detailed results, visit: https://lab.dpdk.org/results/dashboard/patchsets/17426/ UNH-IOL DPDK Community Lab To manage your email subscriptions, visit: https://lab.dpdk.org/results/dashboard/preferences/subscriptions/
[-- Attachment #1: Type: text/plain, Size: 3669 bytes --] Test-Label: iol-abi-testing Test-Status: SUCCESS http://dpdk.org/patch/94354 _Testing PASS_ Submitter: Thierry Herbelot <thierry.herbelot@6wind.com> Date: Thursday, June 17 2021 11:44:19 DPDK git baseline: Repo:dpdk Branch: master CommitID:08c16b212d036faedc74ae6ad3d159594a8836b9 94354 --> testing pass Test environment and result as below: +------------------------------------+----------+ | Environment | abi_test | +====================================+==========+ | Ubuntu 18.04 ARM | PASS | +------------------------------------+----------+ | FreeBSD 13 | PASS | +------------------------------------+----------+ | Ubuntu 18.04 | PASS | +------------------------------------+----------+ | RHEL 7 | PASS | +------------------------------------+----------+ | RHEL8 | PASS | +------------------------------------+----------+ | CentOS 8 | PASS | +------------------------------------+----------+ | Ubuntu 20.04 | PASS | +------------------------------------+----------+ | Arch Linux | PASS | +------------------------------------+----------+ | Ubuntu 20.04 ARM cross-compilation | PASS | +------------------------------------+----------+ | Fedora 32 | PASS | +------------------------------------+----------+ | Fedora 33 | PASS | +------------------------------------+----------+ | CentOS Stream 8 | PASS | +------------------------------------+----------+ | Fedora 31 | PASS | +------------------------------------+----------+ | openSUSE Leap 15 | PASS | +------------------------------------+----------+ | Fedora 34 clang | PASS | +------------------------------------+----------+ | Fedora 34 | PASS | +------------------------------------+----------+ Ubuntu 18.04 ARM Kernel: 5.4.0-53-generic Compiler: gcc 9.3 FreeBSD 13 Kernel: 13.0 Compiler: gcc 10.2.0 Ubuntu 18.04 Kernel: 4.18.0-240.10.1.el8_3.x86_64 Compiler: gcc 7.5.0-3ubuntu1~18.04 RHEL 7 Kernel: 4.18.0-240.10.1.el8_3.x86_64 Compiler: gcc 4.8.5 20150623 (Red Hat 4.8.5-44) RHEL8 Kernel: 4.18.0-240.10.1.el8_3.x86_64 Compiler: gcc 8.3.1 20191121 (Red Hat 8.3.1-5) CentOS 8 Kernel: 4.18.0-240.10.1.el8_3.x86_64 Compiler: gcc 8.3.1 20191121 (Red Hat 8.3.1-5) Ubuntu 20.04 Kernel: 4.18.0-240.10.1.el8_3.x86_64 Compiler: gcc 9.3.0-17ubuntu1~20.04 Arch Linux Kernel: 5.4.0-73-generic Compiler: gcc 11.1.0 Ubuntu 20.04 ARM cross-compilation Kernel: 5.4.0-72-generic Compiler: aarch64-linux-gnu-gcc (Ubuntu 9.3.0-17ubuntu1~20.04) 9.3.0 Fedora 32 Kernel: 4.18.0-240.10.1.el8_3.x86_64 Compiler: gcc 10.2.1 Fedora 33 Kernel: 5.4.0-72-generic Compiler: gcc 10.3.1 20210422 (Red Hat 10.3.1-1) CentOS Stream 8 Kernel: 4.18.0-240.10.1.el8_3.x86_64 Compiler: gcc 8.4.1 20200928 Fedora 31 Kernel: 4.18.0-240.10.1.el8_3.x86_64 Compiler: gcc 9.3.1 openSUSE Leap 15 Kernel: 4.18.0-240.10.1.el8_3.x86_64 Compiler: gcc 7.5.0 Fedora 34 clang Kernel: 5.4.0-72-generic Compiler: clang 12.0.0 (Fedora 12.0.0-0.3.rc1.fc34) Fedora 34 Kernel: 5.4.0-72-generic Compiler: gcc 11.1.1 20210428 (Red Hat 11.1.1-1) To view detailed results, visit: https://lab.dpdk.org/results/dashboard/patchsets/17426/ UNH-IOL DPDK Community Lab To manage your email subscriptions, visit: https://lab.dpdk.org/results/dashboard/preferences/subscriptions/
[-- Attachment #1: Type: text/plain, Size: 6720 bytes --] Test-Label: iol-testing Test-Status: SUCCESS http://dpdk.org/patch/94354 _Testing PASS_ Submitter: Thierry Herbelot <thierry.herbelot@6wind.com> Date: Thursday, June 17 2021 11:44:19 DPDK git baseline: Repo:dpdk Branch: master CommitID:08c16b212d036faedc74ae6ad3d159594a8836b9 94354 --> testing pass Test environment and result as below: +------------------------------------+----------------------+--------------------+-------------------+----------------+ | Environment | dpdk_mingw64_compile | dpdk_meson_compile | dpdk_compile_spdk | dpdk_unit_test | +====================================+======================+====================+===================+================+ | Windows Server 2019 | PASS | PASS | SKIPPED | SKIPPED | +------------------------------------+----------------------+--------------------+-------------------+----------------+ | FreeBSD 13 | SKIPPED | PASS | SKIPPED | SKIPPED | +------------------------------------+----------------------+--------------------+-------------------+----------------+ | Ubuntu 18.04 ARM | SKIPPED | PASS | SKIPPED | SKIPPED | +------------------------------------+----------------------+--------------------+-------------------+----------------+ | FreeBSD 11.2 | SKIPPED | PASS | SKIPPED | SKIPPED | +------------------------------------+----------------------+--------------------+-------------------+----------------+ | Fedora 31 | SKIPPED | PASS | SKIPPED | PASS | +------------------------------------+----------------------+--------------------+-------------------+----------------+ | Ubuntu 18.04 | SKIPPED | PASS | PASS | PASS | +------------------------------------+----------------------+--------------------+-------------------+----------------+ | openSUSE Leap 15 | SKIPPED | PASS | SKIPPED | PASS | +------------------------------------+----------------------+--------------------+-------------------+----------------+ | Fedora 32 | SKIPPED | PASS | SKIPPED | PASS | +------------------------------------+----------------------+--------------------+-------------------+----------------+ | Arch Linux | SKIPPED | PASS | SKIPPED | PASS | +------------------------------------+----------------------+--------------------+-------------------+----------------+ | RHEL8 | SKIPPED | PASS | SKIPPED | PASS | +------------------------------------+----------------------+--------------------+-------------------+----------------+ | RHEL 7 | SKIPPED | PASS | SKIPPED | PASS | +------------------------------------+----------------------+--------------------+-------------------+----------------+ | CentOS 8 | SKIPPED | PASS | SKIPPED | PASS | +------------------------------------+----------------------+--------------------+-------------------+----------------+ | CentOS Stream 8 | SKIPPED | PASS | SKIPPED | PASS | +------------------------------------+----------------------+--------------------+-------------------+----------------+ | Ubuntu 20.04 | SKIPPED | PASS | SKIPPED | PASS | +------------------------------------+----------------------+--------------------+-------------------+----------------+ | Fedora 34 | SKIPPED | PASS | SKIPPED | PASS | +------------------------------------+----------------------+--------------------+-------------------+----------------+ | Fedora 33 | SKIPPED | PASS | SKIPPED | PASS | +------------------------------------+----------------------+--------------------+-------------------+----------------+ | Ubuntu 20.04 ARM cross-compilation | SKIPPED | PASS | SKIPPED | SKIPPED | +------------------------------------+----------------------+--------------------+-------------------+----------------+ | Fedora 34 clang | SKIPPED | PASS | SKIPPED | PASS | +------------------------------------+----------------------+--------------------+-------------------+----------------+ Windows Server 2019 Kernel: 10.0 Compiler: clang 9.0 and gcc 8.1.0 (MinGW) FreeBSD 13 Kernel: 13.0 Compiler: gcc 10.2.0 Ubuntu 18.04 ARM Kernel: 5.4.0-53-generic Compiler: gcc 9.3 FreeBSD 11.2 Kernel: 11.2 Compiler: gcc 8.3 Fedora 31 Kernel: 4.18.0-240.10.1.el8_3.x86_64 Compiler: gcc 9.3.1 Ubuntu 18.04 Kernel: 4.18.0-240.10.1.el8_3.x86_64 Compiler: gcc 7.5.0-3ubuntu1~18.04 openSUSE Leap 15 Kernel: 4.18.0-240.10.1.el8_3.x86_64 Compiler: gcc 7.5.0 Fedora 32 Kernel: 4.18.0-240.10.1.el8_3.x86_64 Compiler: gcc 10.2.1 Arch Linux Kernel: 5.4.0-73-generic Compiler: gcc 11.1.0 RHEL8 Kernel: 4.18.0-240.10.1.el8_3.x86_64 Compiler: gcc 8.3.1 20191121 (Red Hat 8.3.1-5) RHEL 7 Kernel: 4.18.0-240.10.1.el8_3.x86_64 Compiler: gcc 4.8.5 20150623 (Red Hat 4.8.5-44) CentOS 8 Kernel: 4.18.0-240.10.1.el8_3.x86_64 Compiler: gcc 8.3.1 20191121 (Red Hat 8.3.1-5) CentOS Stream 8 Kernel: 4.18.0-240.10.1.el8_3.x86_64 Compiler: gcc 8.4.1 20200928 Ubuntu 20.04 Kernel: 4.18.0-240.10.1.el8_3.x86_64 Compiler: gcc 9.3.0-17ubuntu1~20.04 Fedora 34 Kernel: 5.4.0-72-generic Compiler: gcc 11.1.1 20210428 (Red Hat 11.1.1-1) Fedora 33 Kernel: 5.4.0-72-generic Compiler: gcc 10.3.1 20210422 (Red Hat 10.3.1-1) Ubuntu 20.04 ARM cross-compilation Kernel: 5.4.0-72-generic Compiler: aarch64-linux-gnu-gcc (Ubuntu 9.3.0-17ubuntu1~20.04) 9.3.0 Fedora 34 clang Kernel: 5.4.0-72-generic Compiler: clang 12.0.0 (Fedora 12.0.0-0.3.rc1.fc34) To view detailed results, visit: https://lab.dpdk.org/results/dashboard/patchsets/17426/ UNH-IOL DPDK Community Lab To manage your email subscriptions, visit: https://lab.dpdk.org/results/dashboard/preferences/subscriptions/
[-- Attachment #1: Type: text/plain, Size: 2590 bytes --] Test-Label: iol-intel-Performance Test-Status: SUCCESS http://dpdk.org/patch/94354 _Performance Testing PASS_ Submitter: Thierry Herbelot <thierry.herbelot@6wind.com> Date: Thursday, June 17 2021 11:44:19 DPDK git baseline: Repo:dpdk Branch: master CommitID:08c16b212d036faedc74ae6ad3d159594a8836b9 94354 --> performance testing pass Test environment and result as below: Ubuntu 18.04 Kernel: 4.15.0-generic Compiler: gcc 7.4 NIC: Intel Corporation Ethernet Converged Network Adapter XL710-QDA2 40000 Mbps Target: x86_64-native-linuxapp-gcc Fail/Total: 0/2 Detail performance results: +------------+---------+-------------------------------------+ | frame_size | txd/rxd | throughput difference from expected | +============+=========+=====================================+ | 64 | 512 | -0.05308% | +------------+---------+-------------------------------------+ | 64 | 2048 | 1.17829% | +------------+---------+-------------------------------------+ Ubuntu 18.04 Kernel: 4.15.0-generic Compiler: gcc 7.4 NIC: Intel Corporation Ethernet Converged Network Adapter 82599ES 10000 Mbps Target: x86_64-native-linuxapp-gcc Fail/Total: 0/2 Detail performance results: +------------+---------+-------------------------------------+ | frame_size | txd/rxd | throughput difference from expected | +============+=========+=====================================+ | 64 | 512 | -0.06991% | +------------+---------+-------------------------------------+ | 64 | 2048 | 0.83434% | +------------+---------+-------------------------------------+ Ubuntu 18.04 ARM Kernel: 4.15.0-132-generic Compiler: gcc 7.5 NIC: Arm Intel Corporation Ethernet Converged Network Adapter XL710-QDA2 40000 Mbps Target: x86_64-native-linuxapp-gcc Fail/Total: 0/2 Detail performance results: +------------+---------+-------------------------------------+ | frame_size | txd/rxd | throughput difference from expected | +============+=========+=====================================+ | 64 | 512 | 0.0% | +------------+---------+-------------------------------------+ | 64 | 2048 | 0.01427% | +------------+---------+-------------------------------------+ To view detailed results, visit: https://lab.dpdk.org/results/dashboard/patchsets/17426/ UNH-IOL DPDK Community Lab To manage your email subscriptions, visit: https://lab.dpdk.org/results/dashboard/preferences/subscriptions/