From: dpdklab@iol.unh.edu
To: Test Report <test-report@dpdk.org>
Cc: dpdklab@iol.unh.edu
Subject: |SUCCESS| pw105129 [PATCH] [1/1] mem: check allocation in dynamic hugepage init
Date: Tue, 14 Dec 2021 14:07:11 +0000 (UTC) [thread overview]
Message-ID: <20211214140711.6D198601BC@dpdk-ubuntu.dpdklab.iol.unh.edu> (raw)
[-- Attachment #1: Type: text/plain, Size: 2140 bytes --]
Test-Label: iol-aarch64-compile-testing
Test-Status: SUCCESS
http://dpdk.org/patch/105129
_Testing PASS_
Submitter: Yunjian Wang <wangyunjian@huawei.com>
Date: Tuesday, December 14 2021 13:30:25
DPDK git baseline: Repo:dpdk
Branch: master
CommitID:042f5a355a57b31a9f87824173a9d427b21abdb8
105129 --> testing pass
Test environment and result as below:
+----------------------------------------+--------------------+
| Environment | dpdk_meson_compile |
+========================================+====================+
| Ubuntu 20.04 ARM GCC Cross Compile | PASS |
+----------------------------------------+--------------------+
| Ubuntu 20.04 ARM GCC Native | PASS |
+----------------------------------------+--------------------+
| Ubuntu 20.04 ARM SVE | PASS |
+----------------------------------------+--------------------+
| Ubuntu 20.04 ARM Clang Native | PASS |
+----------------------------------------+--------------------+
| Ubuntu 20.04 aarch32 GCC Cross Compile | PASS |
+----------------------------------------+--------------------+
| Ubuntu 20.04 ARM Clang Cross Compile | PASS |
+----------------------------------------+--------------------+
Ubuntu 20.04 ARM GCC Cross Compile
Kernel: 5.4.0-72-generic
Compiler: aarch64-linux-gnu-gcc (Ubuntu 9.3.0-17ubuntu1~20.04) 9.3.0
Ubuntu 20.04 ARM GCC Native
Kernel: 5.4.0-53-generic
Compiler: gcc 9.3
Ubuntu 20.04 ARM SVE
Kernel: 5.4.0-80-generic
Compiler: gcc 10.3.0 (Ubuntu 10.3.0-1ubuntu1~20.04)
Ubuntu 20.04 ARM Clang Native
Kernel: 5.4.0-53-generic
Compiler: clang 10.0.0-4ubuntu1
Ubuntu 20.04 aarch32 GCC Cross Compile
Kernel: 5.4.0-72-generic
Compiler: gcc 9.3.0
Ubuntu 20.04 ARM Clang Cross Compile
Kernel: 5.4.0-72-generic
Compiler: clang version 10.0.0-4ubuntu1
To view detailed results, visit:
https://lab.dpdk.org/results/dashboard/patchsets/20498/
UNH-IOL DPDK Community Lab
To manage your email subscriptions, visit:
https://lab.dpdk.org/results/dashboard/preferences/subscriptions/
next reply other threads:[~2021-12-14 14:07 UTC|newest]
Thread overview: 14+ messages / expand[flat|nested] mbox.gz Atom feed top
2021-12-14 14:07 dpdklab [this message]
-- strict thread matches above, loose matches on Subject: below --
2021-12-14 14:18 dpdklab
2021-12-14 14:14 dpdklab
2021-12-14 14:13 dpdklab
2021-12-14 14:13 dpdklab
2021-12-14 14:11 dpdklab
2021-12-14 14:10 dpdklab
2021-12-14 14:09 dpdklab
2021-12-14 14:09 dpdklab
2021-12-14 14:06 dpdklab
2021-12-14 14:03 dpdklab
2021-12-14 14:00 dpdklab
2021-12-14 13:57 dpdklab
[not found] <3d5cb5cba8ee4ae1d1de5eba1d009eaffbb49062.1639488393.git.wangyunjian@huawei.com>
2021-12-14 13:31 ` |SUCCESS| pw105129 [PATCH 1/1] " checkpatch
Reply instructions:
You may reply publicly to this message via plain-text email
using any one of the following methods:
* Save the following mbox file, import it into your mail client,
and reply-to-all from there: mbox
Avoid top-posting and favor interleaved quoting:
https://en.wikipedia.org/wiki/Posting_style#Interleaved_style
* Reply using the --to, --cc, and --in-reply-to
switches of git-send-email(1):
git send-email \
--in-reply-to=20211214140711.6D198601BC@dpdk-ubuntu.dpdklab.iol.unh.edu \
--to=dpdklab@iol.unh.edu \
--cc=test-report@dpdk.org \
/path/to/YOUR_REPLY
https://kernel.org/pub/software/scm/git/docs/git-send-email.html
* If your mail client supports setting the In-Reply-To header
via mailto: links, try the mailto: link
Be sure your reply has a Subject: header at the top and a blank line
before the message body.
This is a public inbox, see mirroring instructions
for how to clone and mirror all data and code used for this inbox;
as well as URLs for NNTP newsgroup(s).