From: dpdklab@iol.unh.edu
To: Test Report <test-report@dpdk.org>
Cc: dpdklab@iol.unh.edu, Xueming Li <xuemingl@nvidia.com>,
Christian Ehrhardt <christian.ehrhardt@canonical.com>,
Kevin Traynor <ktraynor@redhat.com>,
Luca Boccassi <bluca@debian.org>
Subject: |SUCCESS| [GIT MASTER] 576842a59ab35979dc102535f59061fa3d6ea16b
Date: Sun, 20 Mar 2022 05:22:52 +0000 (UTC) [thread overview]
Message-ID: <20220320052252.45267601C4@dpdk-ubuntu.dpdklab.iol.unh.edu> (raw)
[-- Attachment #1: Type: text/plain, Size: 1223 bytes --]
_Testing PASS_
Branch: tags/v20.11
576842a59ab35979dc102535f59061fa3d6ea16b --> testing pass
Test environment and result as below:
+-------------------------------+--------------+----------------+
| Environment | lpm_autotest | dpdk_unit_test |
+===============================+==============+================+
| Ubuntu 20.04 ARM SVE | PASS | SKIPPED |
+-------------------------------+--------------+----------------+
| Ubuntu 20.04 ARM GCC Native | SKIPPED | PASS |
+-------------------------------+--------------+----------------+
| Ubuntu 20.04 ARM Clang Native | SKIPPED | PASS |
+-------------------------------+--------------+----------------+
Ubuntu 20.04 ARM SVE
Kernel: 5.4.0-80-generic
Compiler: gcc 10.3.0 (Ubuntu 10.3.0-1ubuntu1~20.04)
Ubuntu 20.04 ARM GCC Native
Kernel: 5.4.0-53-generic
Compiler: gcc 9.3
Ubuntu 20.04 ARM Clang Native
Kernel: 5.4.0-53-generic
Compiler: clang 10.0.0-4ubuntu1
To view detailed results, visit:
https://lab.dpdk.org/results/dashboard/tarballs/19193/
UNH-IOL DPDK Community Lab
To manage your email subscriptions, visit:
https://lab.dpdk.org/results/dashboard/preferences/subscriptions/
next reply other threads:[~2022-03-20 5:22 UTC|newest]
Thread overview: 124+ messages / expand[flat|nested] mbox.gz Atom feed top
2022-03-20 5:22 dpdklab [this message]
-- strict thread matches above, loose matches on Subject: below --
2022-03-31 9:16 dpdklab
2022-03-31 7:52 dpdklab
2022-03-31 5:37 dpdklab
2022-03-31 5:14 dpdklab
2022-03-31 5:08 dpdklab
2022-03-31 5:04 dpdklab
2022-03-31 4:56 dpdklab
2022-03-31 4:51 dpdklab
2022-03-31 4:51 dpdklab
2022-03-31 4:50 dpdklab
2022-03-30 10:53 dpdklab
2022-03-30 8:53 dpdklab
2022-03-30 7:16 dpdklab
2022-03-30 7:15 dpdklab
2022-03-30 5:27 dpdklab
2022-03-30 5:20 dpdklab
2022-03-30 5:11 dpdklab
2022-03-30 5:04 dpdklab
2022-03-30 4:54 dpdklab
2022-03-30 4:49 dpdklab
2022-03-29 8:04 dpdklab
2022-03-29 8:03 dpdklab
2022-03-29 7:20 dpdklab
2022-03-29 7:20 dpdklab
2022-03-29 5:05 dpdklab
2022-03-29 5:01 dpdklab
2022-03-29 4:54 dpdklab
2022-03-29 4:48 dpdklab
2022-03-29 4:47 dpdklab
2022-03-29 4:47 dpdklab
2022-03-28 9:09 dpdklab
2022-03-28 7:23 dpdklab
2022-03-28 5:48 dpdklab
2022-03-28 5:00 dpdklab
2022-03-28 5:00 dpdklab
2022-03-28 4:54 dpdklab
2022-03-28 4:48 dpdklab
2022-03-28 4:47 dpdklab
2022-03-27 9:02 dpdklab
2022-03-27 5:44 dpdklab
2022-03-27 5:41 dpdklab
2022-03-27 5:06 dpdklab
2022-03-27 5:02 dpdklab
2022-03-27 5:01 dpdklab
2022-03-27 4:55 dpdklab
2022-03-27 4:55 dpdklab
2022-03-27 4:49 dpdklab
2022-03-27 4:49 dpdklab
2022-03-26 10:25 dpdklab
2022-03-26 7:17 dpdklab
2022-03-26 6:52 dpdklab
2022-03-26 6:05 dpdklab
2022-03-26 5:05 dpdklab
2022-03-26 5:02 dpdklab
2022-03-26 4:59 dpdklab
2022-03-26 4:54 dpdklab
2022-03-26 4:50 dpdklab
2022-03-26 4:47 dpdklab
2022-03-25 9:18 dpdklab
2022-03-25 7:20 dpdklab
2022-03-25 5:36 dpdklab
2022-03-25 5:06 dpdklab
2022-03-25 5:05 dpdklab
2022-03-25 5:02 dpdklab
2022-03-25 4:59 dpdklab
2022-03-25 4:55 dpdklab
2022-03-25 4:49 dpdklab
2022-03-25 4:48 dpdklab
2022-03-24 6:22 dpdklab
2022-03-24 5:24 dpdklab
2022-03-24 5:21 dpdklab
2022-03-24 5:10 dpdklab
2022-03-24 5:05 dpdklab
2022-03-24 5:01 dpdklab
2022-03-24 4:59 dpdklab
2022-03-24 4:55 dpdklab
2022-03-24 4:55 dpdklab
2022-03-24 4:50 dpdklab
2022-03-23 5:29 dpdklab
2022-03-23 5:24 dpdklab
2022-03-23 5:15 dpdklab
2022-03-23 5:05 dpdklab
2022-03-23 5:01 dpdklab
2022-03-23 4:54 dpdklab
2022-03-23 4:48 dpdklab
2022-03-23 4:48 dpdklab
2022-03-23 4:47 dpdklab
2022-03-22 5:27 dpdklab
2022-03-22 5:08 dpdklab
2022-03-22 5:06 dpdklab
2022-03-22 5:04 dpdklab
2022-03-22 5:00 dpdklab
2022-03-22 4:58 dpdklab
2022-03-22 4:54 dpdklab
2022-03-22 4:53 dpdklab
2022-03-22 4:48 dpdklab
2022-03-21 5:21 dpdklab
2022-03-21 5:21 dpdklab
2022-03-21 5:05 dpdklab
2022-03-21 5:04 dpdklab
2022-03-21 5:00 dpdklab
2022-03-21 4:58 dpdklab
2022-03-21 4:53 dpdklab
2022-03-21 4:48 dpdklab
2022-03-21 4:46 dpdklab
2022-03-20 6:31 dpdklab
2022-03-20 5:28 dpdklab
2022-03-20 5:08 dpdklab
2022-03-20 5:05 dpdklab
2022-03-20 5:01 dpdklab
2022-03-20 4:59 dpdklab
2022-03-20 4:54 dpdklab
2022-03-20 4:49 dpdklab
2022-03-20 4:47 dpdklab
2022-03-19 8:50 dpdklab
2022-03-19 6:01 dpdklab
2022-03-19 5:19 dpdklab
2022-03-19 5:06 dpdklab
2022-03-19 5:02 dpdklab
2022-03-19 4:59 dpdklab
2022-03-19 4:57 dpdklab
2022-03-19 4:52 dpdklab
2022-03-19 4:49 dpdklab
Reply instructions:
You may reply publicly to this message via plain-text email
using any one of the following methods:
* Save the following mbox file, import it into your mail client,
and reply-to-all from there: mbox
Avoid top-posting and favor interleaved quoting:
https://en.wikipedia.org/wiki/Posting_style#Interleaved_style
* Reply using the --to, --cc, and --in-reply-to
switches of git-send-email(1):
git send-email \
--in-reply-to=20220320052252.45267601C4@dpdk-ubuntu.dpdklab.iol.unh.edu \
--to=dpdklab@iol.unh.edu \
--cc=bluca@debian.org \
--cc=christian.ehrhardt@canonical.com \
--cc=ktraynor@redhat.com \
--cc=test-report@dpdk.org \
--cc=xuemingl@nvidia.com \
/path/to/YOUR_REPLY
https://kernel.org/pub/software/scm/git/docs/git-send-email.html
* If your mail client supports setting the In-Reply-To header
via mailto: links, try the mailto: link
Be sure your reply has a Subject: header at the top and a blank line
before the message body.
This is a public inbox, see mirroring instructions
for how to clone and mirror all data and code used for this inbox;
as well as URLs for NNTP newsgroup(s).