* |SUCCESS| [GIT MASTER] 49598842332071f3e04a490c8f035d35f743740a
@ 2022-05-10 11:26 dpdklab
0 siblings, 0 replies; 8+ messages in thread
From: dpdklab @ 2022-05-10 11:26 UTC (permalink / raw)
To: Test Report; +Cc: dpdk-test-reports
[-- Attachment #1: Type: text/plain, Size: 1581 bytes --]
_Performance Testing PASS_
Branch: dpdk-next-eventdev
49598842332071f3e04a490c8f035d35f743740a --> performance testing pass
Test environment and result as below:
Ubuntu 20.04
Kernel: 4.15.0-generic
Compiler: gcc 7.4
NIC: Intel Corporation Ethernet Converged Network Adapter XL710-QDA2 40000 Mbps
Target: x86_64-native-linuxapp-gcc
Fail/Total: 0/4
Detail performance results:
+----------+-------------+---------+------------+------------------------------+
| num_cpus | num_threads | txd/rxd | frame_size | throughput difference from |
| | | | | expected |
+==========+=============+=========+============+==============================+
| 1 | 2 | 512 | 64 | -0.6% |
+----------+-------------+---------+------------+------------------------------+
| 1 | 2 | 2048 | 64 | -3.7% |
+----------+-------------+---------+------------+------------------------------+
| 1 | 1 | 512 | 64 | 5.7% |
+----------+-------------+---------+------------+------------------------------+
| 1 | 1 | 2048 | 64 | 0.1% |
+----------+-------------+---------+------------+------------------------------+
To view detailed results, visit:
https://lab.dpdk.org/results/dashboard/tarballs/19744/
UNH-IOL DPDK Community Lab
To manage your email subscriptions, visit:
https://lab.dpdk.org/results/dashboard/preferences/subscriptions/
^ permalink raw reply [flat|nested] 8+ messages in thread
* |SUCCESS| [GIT MASTER] 49598842332071f3e04a490c8f035d35f743740a
@ 2022-05-10 11:41 dpdklab
0 siblings, 0 replies; 8+ messages in thread
From: dpdklab @ 2022-05-10 11:41 UTC (permalink / raw)
To: Test Report; +Cc: dpdk-test-reports
[-- Attachment #1: Type: text/plain, Size: 961 bytes --]
_Functional Testing PASS_
Branch: dpdk-next-eventdev
49598842332071f3e04a490c8f035d35f743740a --> functional testing pass
Test environment and result as below:
Ubuntu 20.04 ARM
Kernel: 4.15.0-132-generic
Compiler: gcc 7.5
NIC: Arm Intel Corporation Ethernet Converged Network Adapter XL710-QDA2 40000 Mbps
Target: x86_64-native-linuxapp-gcc
Fail/Total: 0/2
Ubuntu 20.04
Kernel: 4.15.0-generic
Compiler: gcc 7.4
NIC: Intel Corporation Ethernet Converged Network Adapter XL710-QDA2 40000 Mbps
Target: x86_64-native-linuxapp-gcc
Fail/Total: 0/2
Ubuntu 20.04
Kernel: 4.15.0-generic
Compiler: gcc 7.4
NIC: Intel Corporation Ethernet Converged Network Adapter 82599ES 10000 Mbps
Target: x86_64-native-linuxapp-gcc
Fail/Total: 0/2
To view detailed results, visit:
https://lab.dpdk.org/results/dashboard/tarballs/19744/
UNH-IOL DPDK Community Lab
To manage your email subscriptions, visit:
https://lab.dpdk.org/results/dashboard/preferences/subscriptions/
^ permalink raw reply [flat|nested] 8+ messages in thread
* |SUCCESS| [GIT MASTER] 49598842332071f3e04a490c8f035d35f743740a
@ 2022-05-10 11:38 dpdklab
0 siblings, 0 replies; 8+ messages in thread
From: dpdklab @ 2022-05-10 11:38 UTC (permalink / raw)
To: Test Report; +Cc: dpdk-test-reports
[-- Attachment #1: Type: text/plain, Size: 777 bytes --]
_Functional Testing PASS_
Branch: dpdk-next-eventdev
49598842332071f3e04a490c8f035d35f743740a --> functional testing pass
Test environment and result as below:
Ubuntu 20.04 ARM
Kernel: 4.15.0-132-generic
Compiler: gcc 7.5
NIC: Arm Intel Corporation Ethernet Converged Network Adapter XL710-QDA2 40000 Mbps
Target: x86_64-native-linuxapp-gcc
Fail/Total: 0/2
Ubuntu 20.04
Kernel: 4.15.0-generic
Compiler: gcc 7.4
NIC: Intel Corporation Ethernet Converged Network Adapter XL710-QDA2 40000 Mbps
Target: x86_64-native-linuxapp-gcc
Fail/Total: 0/2
To view detailed results, visit:
https://lab.dpdk.org/results/dashboard/tarballs/19744/
UNH-IOL DPDK Community Lab
To manage your email subscriptions, visit:
https://lab.dpdk.org/results/dashboard/preferences/subscriptions/
^ permalink raw reply [flat|nested] 8+ messages in thread
* |SUCCESS| [GIT MASTER] 49598842332071f3e04a490c8f035d35f743740a
@ 2022-05-10 11:29 dpdklab
0 siblings, 0 replies; 8+ messages in thread
From: dpdklab @ 2022-05-10 11:29 UTC (permalink / raw)
To: Test Report; +Cc: dpdklab
[-- Attachment #1: Type: text/plain, Size: 920 bytes --]
_Testing PASS_
Branch: dpdk-next-eventdev
49598842332071f3e04a490c8f035d35f743740a --> testing pass
Test environment and result as below:
+-------------------------------+--------------------+
| Environment | dpdk_meson_compile |
+===============================+====================+
| Ubuntu 20.04 ARM GCC Native | PASS |
+-------------------------------+--------------------+
| Ubuntu 20.04 ARM Clang Native | PASS |
+-------------------------------+--------------------+
Ubuntu 20.04 ARM GCC Native
Kernel: 5.4.0-53-generic
Compiler: gcc 9.3
Ubuntu 20.04 ARM Clang Native
Kernel: 5.4.0-53-generic
Compiler: clang 10.0.0-4ubuntu1
To view detailed results, visit:
https://lab.dpdk.org/results/dashboard/tarballs/19744/
UNH-IOL DPDK Community Lab
To manage your email subscriptions, visit:
https://lab.dpdk.org/results/dashboard/preferences/subscriptions/
^ permalink raw reply [flat|nested] 8+ messages in thread
* |SUCCESS| [GIT MASTER] 49598842332071f3e04a490c8f035d35f743740a
@ 2022-05-10 11:29 dpdklab
0 siblings, 0 replies; 8+ messages in thread
From: dpdklab @ 2022-05-10 11:29 UTC (permalink / raw)
To: Test Report; +Cc: dpdk-test-reports
[-- Attachment #1: Type: text/plain, Size: 3090 bytes --]
_Performance Testing PASS_
Branch: dpdk-next-eventdev
49598842332071f3e04a490c8f035d35f743740a --> performance testing pass
Test environment and result as below:
Ubuntu 20.04
Kernel: 4.15.0-generic
Compiler: gcc 7.4
NIC: Intel Corporation Ethernet Converged Network Adapter XL710-QDA2 40000 Mbps
Target: x86_64-native-linuxapp-gcc
Fail/Total: 0/4
Detail performance results:
+----------+-------------+---------+------------+------------------------------+
| num_cpus | num_threads | txd/rxd | frame_size | throughput difference from |
| | | | | expected |
+==========+=============+=========+============+==============================+
| 1 | 2 | 512 | 64 | -0.6% |
+----------+-------------+---------+------------+------------------------------+
| 1 | 2 | 2048 | 64 | -3.7% |
+----------+-------------+---------+------------+------------------------------+
| 1 | 1 | 512 | 64 | 5.7% |
+----------+-------------+---------+------------+------------------------------+
| 1 | 1 | 2048 | 64 | 0.1% |
+----------+-------------+---------+------------+------------------------------+
Ubuntu 20.04
Kernel: 4.15.0-generic
Compiler: gcc 7.4
NIC: Intel Corporation Ethernet Converged Network Adapter 82599ES 10000 Mbps
Target: x86_64-native-linuxapp-gcc
Fail/Total: 0/6
Detail performance results:
+----------+-------------+---------+------------+------------------------------+
| num_cpus | num_threads | txd/rxd | frame_size | throughput difference from |
| | | | | expected |
+==========+=============+=========+============+==============================+
| 1 | 2 | 128 | 64 | 0.0% |
+----------+-------------+---------+------------+------------------------------+
| 1 | 2 | 512 | 64 | -0.1% |
+----------+-------------+---------+------------+------------------------------+
| 1 | 2 | 2048 | 64 | 0.0% |
+----------+-------------+---------+------------+------------------------------+
| 1 | 1 | 128 | 64 | 0.1% |
+----------+-------------+---------+------------+------------------------------+
| 1 | 1 | 512 | 64 | 0.5% |
+----------+-------------+---------+------------+------------------------------+
| 1 | 1 | 2048 | 64 | -0.1% |
+----------+-------------+---------+------------+------------------------------+
To view detailed results, visit:
https://lab.dpdk.org/results/dashboard/tarballs/19744/
UNH-IOL DPDK Community Lab
To manage your email subscriptions, visit:
https://lab.dpdk.org/results/dashboard/preferences/subscriptions/
^ permalink raw reply [flat|nested] 8+ messages in thread
* |SUCCESS| [GIT MASTER] 49598842332071f3e04a490c8f035d35f743740a
@ 2022-05-10 11:29 dpdklab
0 siblings, 0 replies; 8+ messages in thread
From: dpdklab @ 2022-05-10 11:29 UTC (permalink / raw)
To: Test Report; +Cc: dpdklab
[-- Attachment #1: Type: text/plain, Size: 892 bytes --]
_Testing PASS_
Branch: dpdk-next-eventdev
49598842332071f3e04a490c8f035d35f743740a --> testing pass
Test environment and result as below:
+-------------------------------+----------------+
| Environment | dpdk_unit_test |
+===============================+================+
| Ubuntu 20.04 ARM GCC Native | PASS |
+-------------------------------+----------------+
| Ubuntu 20.04 ARM Clang Native | PASS |
+-------------------------------+----------------+
Ubuntu 20.04 ARM GCC Native
Kernel: 5.4.0-53-generic
Compiler: gcc 9.3
Ubuntu 20.04 ARM Clang Native
Kernel: 5.4.0-53-generic
Compiler: clang 10.0.0-4ubuntu1
To view detailed results, visit:
https://lab.dpdk.org/results/dashboard/tarballs/19744/
UNH-IOL DPDK Community Lab
To manage your email subscriptions, visit:
https://lab.dpdk.org/results/dashboard/preferences/subscriptions/
^ permalink raw reply [flat|nested] 8+ messages in thread
* |SUCCESS| [GIT MASTER] 49598842332071f3e04a490c8f035d35f743740a
@ 2022-05-10 11:25 dpdklab
0 siblings, 0 replies; 8+ messages in thread
From: dpdklab @ 2022-05-10 11:25 UTC (permalink / raw)
To: Ali Alnubani, Test Report; +Cc: dpdk-test-reports
[-- Attachment #1: Type: text/plain, Size: 1862 bytes --]
_Performance Testing PASS_
Branch: dpdk-next-eventdev
49598842332071f3e04a490c8f035d35f743740a --> performance testing pass
Test environment and result as below:
Ubuntu 20.04
Kernel: 4.15.0-generic
Compiler: gcc 7.4
NIC: Mellanox ConnectX-5 100000 Mbps
Target: x86_64-native-linuxapp-gcc
Fail/Total: 0/6
Detail performance results:
+------------+---------+----------+-------------+------------------------------+
| frame_size | txd/rxd | num_cpus | num_threads | throughput difference from |
| | | | | expected |
+============+=========+==========+=============+==============================+
| 64 | 256 | 1 | 1 | 0.2% |
+------------+---------+----------+-------------+------------------------------+
| 128 | 256 | 1 | 1 | -0.2% |
+------------+---------+----------+-------------+------------------------------+
| 1024 | 256 | 1 | 1 | -0.2% |
+------------+---------+----------+-------------+------------------------------+
| 256 | 256 | 1 | 1 | 0.2% |
+------------+---------+----------+-------------+------------------------------+
| 1518 | 256 | 1 | 1 | 0.1% |
+------------+---------+----------+-------------+------------------------------+
| 512 | 256 | 1 | 1 | -0.3% |
+------------+---------+----------+-------------+------------------------------+
To view detailed results, visit:
https://lab.dpdk.org/results/dashboard/tarballs/19744/
UNH-IOL DPDK Community Lab
To manage your email subscriptions, visit:
https://lab.dpdk.org/results/dashboard/preferences/subscriptions/
^ permalink raw reply [flat|nested] 8+ messages in thread
* |SUCCESS| [GIT MASTER] 49598842332071f3e04a490c8f035d35f743740a
@ 2022-05-10 11:21 dpdklab
0 siblings, 0 replies; 8+ messages in thread
From: dpdklab @ 2022-05-10 11:21 UTC (permalink / raw)
To: Test Report; +Cc: dpdk-test-reports
[-- Attachment #1: Type: text/plain, Size: 590 bytes --]
_Functional Testing PASS_
Branch: dpdk-next-eventdev
49598842332071f3e04a490c8f035d35f743740a --> functional testing pass
Test environment and result as below:
Ubuntu 20.04 ARM
Kernel: 4.15.0-132-generic
Compiler: gcc 7.5
NIC: Arm Intel Corporation Ethernet Converged Network Adapter XL710-QDA2 40000 Mbps
Target: x86_64-native-linuxapp-gcc
Fail/Total: 0/2
To view detailed results, visit:
https://lab.dpdk.org/results/dashboard/tarballs/19744/
UNH-IOL DPDK Community Lab
To manage your email subscriptions, visit:
https://lab.dpdk.org/results/dashboard/preferences/subscriptions/
^ permalink raw reply [flat|nested] 8+ messages in thread
end of thread, other threads:[~2022-05-10 11:41 UTC | newest]
Thread overview: 8+ messages (download: mbox.gz / follow: Atom feed)
-- links below jump to the message on this page --
2022-05-10 11:26 |SUCCESS| [GIT MASTER] 49598842332071f3e04a490c8f035d35f743740a dpdklab
-- strict thread matches above, loose matches on Subject: below --
2022-05-10 11:41 dpdklab
2022-05-10 11:38 dpdklab
2022-05-10 11:29 dpdklab
2022-05-10 11:29 dpdklab
2022-05-10 11:29 dpdklab
2022-05-10 11:25 dpdklab
2022-05-10 11:21 dpdklab
This is a public inbox, see mirroring instructions
for how to clone and mirror all data and code used for this inbox;
as well as URLs for NNTP newsgroup(s).