* |SUCCESS| pw112896-112897 [PATCH] [v3, 2/2] net/cnxk: support ops to update precolor VLAN table
@ 2022-06-16 15:00 dpdklab
0 siblings, 0 replies; 7+ messages in thread
From: dpdklab @ 2022-06-16 15:00 UTC (permalink / raw)
To: Test Report; +Cc: dpdk-test-reports, David Marchand, Thomas Monjalon
[-- Attachment #1: Type: text/plain, Size: 993 bytes --]
Test-Label: iol-intel-Functional
Test-Status: SUCCESS
http://dpdk.org/patch/112897
_Functional Testing PASS_
Submitter: Sunil Kumar Kori <skori@marvell.com>
Date: Thursday, June 16 2022 11:54:02
DPDK git baseline: Repo:dpdk
Branch: master
CommitID:7342e612052ae3ec875ae018548324d29abfa9c2
112896-112897 --> functional testing pass
Test environment and result as below:
Ubuntu 20.04 ARM
Kernel: 4.15.0-132-generic
Compiler: gcc 7.5
NIC: Arm Intel Corporation Ethernet Converged Network Adapter XL710-QDA2 40000 Mbps
Target: x86_64-native-linuxapp-gcc
Fail/Total: 0/2
Ubuntu 20.04
Kernel: 4.15.0-generic
Compiler: gcc 7.4
NIC: Intel Corporation Ethernet Converged Network Adapter XL710-QDA2 40000 Mbps
Target: x86_64-native-linuxapp-gcc
Fail/Total: 0/2
To view detailed results, visit:
https://lab.dpdk.org/results/dashboard/patchsets/22649/
UNH-IOL DPDK Community Lab
To manage your email subscriptions, visit:
https://lab.dpdk.org/results/dashboard/preferences/subscriptions/
^ permalink raw reply [flat|nested] 7+ messages in thread
* |SUCCESS| pw112896-112897 [PATCH] [v3, 2/2] net/cnxk: support ops to update precolor VLAN table
@ 2022-06-25 9:12 dpdklab
0 siblings, 0 replies; 7+ messages in thread
From: dpdklab @ 2022-06-25 9:12 UTC (permalink / raw)
To: Test Report; +Cc: dpdklab, David Marchand, Thomas Monjalon
[-- Attachment #1: Type: text/plain, Size: 3080 bytes --]
Test-Label: iol-abi-testing
Test-Status: SUCCESS
http://dpdk.org/patch/112897
_Testing PASS_
Submitter: Sunil Kumar Kori <skori@marvell.com>
Date: Thursday, June 16 2022 11:54:02
DPDK git baseline: Repo:dpdk
Branch: master
CommitID:7342e612052ae3ec875ae018548324d29abfa9c2
112896-112897 --> testing pass
Test environment and result as below:
+-----------------------------+----------+
| Environment | abi_test |
+=============================+==========+
| RHEL 7 | PASS |
+-----------------------------+----------+
| CentOS Stream 8 | PASS |
+-----------------------------+----------+
| openSUSE Leap 15 | PASS |
+-----------------------------+----------+
| Fedora 34 | PASS |
+-----------------------------+----------+
| Fedora 33 | PASS |
+-----------------------------+----------+
| Arch Linux | PASS |
+-----------------------------+----------+
| Fedora 32 | PASS |
+-----------------------------+----------+
| Ubuntu 20.04 | PASS |
+-----------------------------+----------+
| Fedora 31 | PASS |
+-----------------------------+----------+
| Ubuntu 20.04 ARM GCC Native | PASS |
+-----------------------------+----------+
| Fedora 34 clang | PASS |
+-----------------------------+----------+
| Alpine | PASS |
+-----------------------------+----------+
| Ubuntu 18.04 | PASS |
+-----------------------------+----------+
| RHEL8 | PASS |
+-----------------------------+----------+
RHEL 7
Kernel: 4.18.0-240.10.1.el8_3.x86_64
Compiler: gcc 4.8.5 20150623 (Red Hat 4.8.5-44)
CentOS Stream 8
Kernel: 4.18.0-240.10.1.el8_3.x86_64
Compiler: gcc 8.4.1 20200928
openSUSE Leap 15
Kernel: 4.18.0-240.10.1.el8_3.x86_64
Compiler: gcc 7.5.0
Fedora 34
Kernel: 5.4.0-72-generic
Compiler: gcc 11.1.1 20210428 (Red Hat 11.1.1-1)
Fedora 33
Kernel: 5.4.0-72-generic
Compiler: gcc 10.3.1 20210422 (Red Hat 10.3.1-1)
Arch Linux
Kernel: 5.4.0-73-generic
Compiler: gcc 11.1.0
Fedora 32
Kernel: 4.18.0-240.10.1.el8_3.x86_64
Compiler: gcc 10.2.1
Ubuntu 20.04
Kernel: 4.18.0-240.10.1.el8_3.x86_64
Compiler: gcc 9.3.0-17ubuntu1~20.04
Fedora 31
Kernel: 4.18.0-240.10.1.el8_3.x86_64
Compiler: gcc 9.3.1
Ubuntu 20.04 ARM GCC Native
Kernel: 5.4.0-53-generic
Compiler: gcc 9.3
Fedora 34 clang
Kernel: 5.4.0-72-generic
Compiler: clang 12.0.0 (Fedora 12.0.0-0.3.rc1.fc34)
Alpine
Kernel: 5.4.0-73-generic
Compiler: gcc (Alpine 10.3.1_git20210424) 10.3.1 20210424
Ubuntu 18.04
Kernel: 4.18.0-240.10.1.el8_3.x86_64
Compiler: gcc 7.5.0-3ubuntu1~18.04
RHEL8
Kernel: 4.18.0-240.10.1.el8_3.x86_64
Compiler: gcc 8.3.1 20191121 (Red Hat 8.3.1-5)
To view detailed results, visit:
https://lab.dpdk.org/results/dashboard/patchsets/22649/
UNH-IOL DPDK Community Lab
To manage your email subscriptions, visit:
https://lab.dpdk.org/results/dashboard/preferences/subscriptions/
^ permalink raw reply [flat|nested] 7+ messages in thread
* |SUCCESS| pw112896-112897 [PATCH] [v3, 2/2] net/cnxk: support ops to update precolor VLAN table
@ 2022-06-16 16:35 dpdklab
0 siblings, 0 replies; 7+ messages in thread
From: dpdklab @ 2022-06-16 16:35 UTC (permalink / raw)
To: Test Report; +Cc: dpdk-test-reports, David Marchand, Thomas Monjalon
[-- Attachment #1: Type: text/plain, Size: 1177 bytes --]
Test-Label: iol-intel-Functional
Test-Status: SUCCESS
http://dpdk.org/patch/112897
_Functional Testing PASS_
Submitter: Sunil Kumar Kori <skori@marvell.com>
Date: Thursday, June 16 2022 11:54:02
DPDK git baseline: Repo:dpdk
Branch: master
CommitID:7342e612052ae3ec875ae018548324d29abfa9c2
112896-112897 --> functional testing pass
Test environment and result as below:
Ubuntu 20.04 ARM
Kernel: 4.15.0-132-generic
Compiler: gcc 7.5
NIC: Arm Intel Corporation Ethernet Converged Network Adapter XL710-QDA2 40000 Mbps
Target: x86_64-native-linuxapp-gcc
Fail/Total: 0/2
Ubuntu 20.04
Kernel: 4.15.0-generic
Compiler: gcc 7.4
NIC: Intel Corporation Ethernet Converged Network Adapter XL710-QDA2 40000 Mbps
Target: x86_64-native-linuxapp-gcc
Fail/Total: 0/2
Ubuntu 20.04
Kernel: 4.15.0-generic
Compiler: gcc 7.4
NIC: Intel Corporation Ethernet Converged Network Adapter 82599ES 10000 Mbps
Target: x86_64-native-linuxapp-gcc
Fail/Total: 0/2
To view detailed results, visit:
https://lab.dpdk.org/results/dashboard/patchsets/22649/
UNH-IOL DPDK Community Lab
To manage your email subscriptions, visit:
https://lab.dpdk.org/results/dashboard/preferences/subscriptions/
^ permalink raw reply [flat|nested] 7+ messages in thread
* |SUCCESS| pw112896-112897 [PATCH] [v3, 2/2] net/cnxk: support ops to update precolor VLAN table
@ 2022-06-16 16:25 dpdklab
0 siblings, 0 replies; 7+ messages in thread
From: dpdklab @ 2022-06-16 16:25 UTC (permalink / raw)
To: Test Report; +Cc: dpdk-test-reports, David Marchand, Thomas Monjalon
[-- Attachment #1: Type: text/plain, Size: 3307 bytes --]
Test-Label: iol-intel-Performance
Test-Status: SUCCESS
http://dpdk.org/patch/112897
_Performance Testing PASS_
Submitter: Sunil Kumar Kori <skori@marvell.com>
Date: Thursday, June 16 2022 11:54:02
DPDK git baseline: Repo:dpdk
Branch: master
CommitID:7342e612052ae3ec875ae018548324d29abfa9c2
112896-112897 --> performance testing pass
Test environment and result as below:
Ubuntu 20.04
Kernel: 4.15.0-generic
Compiler: gcc 7.4
NIC: Intel Corporation Ethernet Converged Network Adapter XL710-QDA2 40000 Mbps
Target: x86_64-native-linuxapp-gcc
Fail/Total: 0/4
Detail performance results:
+----------+-------------+---------+------------+------------------------------+
| num_cpus | num_threads | txd/rxd | frame_size | throughput difference from |
| | | | | expected |
+==========+=============+=========+============+==============================+
| 1 | 2 | 512 | 64 | 0.3% |
+----------+-------------+---------+------------+------------------------------+
| 1 | 2 | 2048 | 64 | 2.1% |
+----------+-------------+---------+------------+------------------------------+
| 1 | 1 | 512 | 64 | -3.4% |
+----------+-------------+---------+------------+------------------------------+
| 1 | 1 | 2048 | 64 | -0.0% |
+----------+-------------+---------+------------+------------------------------+
Ubuntu 20.04
Kernel: 4.15.0-generic
Compiler: gcc 7.4
NIC: Intel Corporation Ethernet Converged Network Adapter 82599ES 10000 Mbps
Target: x86_64-native-linuxapp-gcc
Fail/Total: 0/6
Detail performance results:
+----------+-------------+---------+------------+------------------------------+
| num_cpus | num_threads | txd/rxd | frame_size | throughput difference from |
| | | | | expected |
+==========+=============+=========+============+==============================+
| 1 | 2 | 128 | 64 | 0.2% |
+----------+-------------+---------+------------+------------------------------+
| 1 | 2 | 512 | 64 | -0.2% |
+----------+-------------+---------+------------+------------------------------+
| 1 | 2 | 2048 | 64 | 0.2% |
+----------+-------------+---------+------------+------------------------------+
| 1 | 1 | 128 | 64 | -0.3% |
+----------+-------------+---------+------------+------------------------------+
| 1 | 1 | 512 | 64 | -0.6% |
+----------+-------------+---------+------------+------------------------------+
| 1 | 1 | 2048 | 64 | 0.7% |
+----------+-------------+---------+------------+------------------------------+
To view detailed results, visit:
https://lab.dpdk.org/results/dashboard/patchsets/22649/
UNH-IOL DPDK Community Lab
To manage your email subscriptions, visit:
https://lab.dpdk.org/results/dashboard/preferences/subscriptions/
^ permalink raw reply [flat|nested] 7+ messages in thread
* |SUCCESS| pw112896-112897 [PATCH] [v3, 2/2] net/cnxk: support ops to update precolor VLAN table
@ 2022-06-16 15:17 dpdklab
0 siblings, 0 replies; 7+ messages in thread
From: dpdklab @ 2022-06-16 15:17 UTC (permalink / raw)
To: Test Report; +Cc: dpdk-test-reports, David Marchand, Thomas Monjalon
[-- Attachment #1: Type: text/plain, Size: 1798 bytes --]
Test-Label: iol-intel-Performance
Test-Status: SUCCESS
http://dpdk.org/patch/112897
_Performance Testing PASS_
Submitter: Sunil Kumar Kori <skori@marvell.com>
Date: Thursday, June 16 2022 11:54:02
DPDK git baseline: Repo:dpdk
Branch: master
CommitID:7342e612052ae3ec875ae018548324d29abfa9c2
112896-112897 --> performance testing pass
Test environment and result as below:
Ubuntu 20.04
Kernel: 4.15.0-generic
Compiler: gcc 7.4
NIC: Intel Corporation Ethernet Converged Network Adapter XL710-QDA2 40000 Mbps
Target: x86_64-native-linuxapp-gcc
Fail/Total: 0/4
Detail performance results:
+----------+-------------+---------+------------+------------------------------+
| num_cpus | num_threads | txd/rxd | frame_size | throughput difference from |
| | | | | expected |
+==========+=============+=========+============+==============================+
| 1 | 2 | 512 | 64 | 0.3% |
+----------+-------------+---------+------------+------------------------------+
| 1 | 2 | 2048 | 64 | 2.1% |
+----------+-------------+---------+------------+------------------------------+
| 1 | 1 | 512 | 64 | -3.4% |
+----------+-------------+---------+------------+------------------------------+
| 1 | 1 | 2048 | 64 | -0.0% |
+----------+-------------+---------+------------+------------------------------+
To view detailed results, visit:
https://lab.dpdk.org/results/dashboard/patchsets/22649/
UNH-IOL DPDK Community Lab
To manage your email subscriptions, visit:
https://lab.dpdk.org/results/dashboard/preferences/subscriptions/
^ permalink raw reply [flat|nested] 7+ messages in thread
* |SUCCESS| pw112896-112897 [PATCH] [v3, 2/2] net/cnxk: support ops to update precolor VLAN table
@ 2022-06-16 12:28 dpdklab
0 siblings, 0 replies; 7+ messages in thread
From: dpdklab @ 2022-06-16 12:28 UTC (permalink / raw)
To: Ali Alnubani, Test Report
Cc: dpdk-test-reports, David Marchand, Thomas Monjalon
[-- Attachment #1: Type: text/plain, Size: 2082 bytes --]
Test-Label: iol-mellanox-Performance
Test-Status: SUCCESS
http://dpdk.org/patch/112897
_Performance Testing PASS_
Submitter: Sunil Kumar Kori <skori@marvell.com>
Date: Thursday, June 16 2022 11:54:02
DPDK git baseline: Repo:dpdk
Branch: master
CommitID:7342e612052ae3ec875ae018548324d29abfa9c2
112896-112897 --> performance testing pass
Test environment and result as below:
Ubuntu 20.04
Kernel: 4.15.0-generic
Compiler: gcc 7.4
NIC: Mellanox ConnectX-5 100000 Mbps
Target: x86_64-native-linuxapp-gcc
Fail/Total: 0/6
Detail performance results:
+------------+---------+----------+-------------+------------------------------+
| frame_size | txd/rxd | num_cpus | num_threads | throughput difference from |
| | | | | expected |
+============+=========+==========+=============+==============================+
| 64 | 256 | 1 | 1 | -0.1% |
+------------+---------+----------+-------------+------------------------------+
| 128 | 256 | 1 | 1 | -0.1% |
+------------+---------+----------+-------------+------------------------------+
| 1024 | 256 | 1 | 1 | 0.0% |
+------------+---------+----------+-------------+------------------------------+
| 256 | 256 | 1 | 1 | -0.2% |
+------------+---------+----------+-------------+------------------------------+
| 1518 | 256 | 1 | 1 | 0.3% |
+------------+---------+----------+-------------+------------------------------+
| 512 | 256 | 1 | 1 | 0.0% |
+------------+---------+----------+-------------+------------------------------+
To view detailed results, visit:
https://lab.dpdk.org/results/dashboard/patchsets/22649/
UNH-IOL DPDK Community Lab
To manage your email subscriptions, visit:
https://lab.dpdk.org/results/dashboard/preferences/subscriptions/
^ permalink raw reply [flat|nested] 7+ messages in thread
* |SUCCESS| pw112896-112897 [PATCH] [v3, 2/2] net/cnxk: support ops to update precolor VLAN table
@ 2022-06-16 12:18 dpdklab
0 siblings, 0 replies; 7+ messages in thread
From: dpdklab @ 2022-06-16 12:18 UTC (permalink / raw)
To: Test Report; +Cc: dpdk-test-reports, David Marchand, Thomas Monjalon
[-- Attachment #1: Type: text/plain, Size: 806 bytes --]
Test-Label: iol-intel-Functional
Test-Status: SUCCESS
http://dpdk.org/patch/112897
_Functional Testing PASS_
Submitter: Sunil Kumar Kori <skori@marvell.com>
Date: Thursday, June 16 2022 11:54:02
DPDK git baseline: Repo:dpdk
Branch: master
CommitID:7342e612052ae3ec875ae018548324d29abfa9c2
112896-112897 --> functional testing pass
Test environment and result as below:
Ubuntu 20.04 ARM
Kernel: 4.15.0-132-generic
Compiler: gcc 7.5
NIC: Arm Intel Corporation Ethernet Converged Network Adapter XL710-QDA2 40000 Mbps
Target: x86_64-native-linuxapp-gcc
Fail/Total: 0/2
To view detailed results, visit:
https://lab.dpdk.org/results/dashboard/patchsets/22649/
UNH-IOL DPDK Community Lab
To manage your email subscriptions, visit:
https://lab.dpdk.org/results/dashboard/preferences/subscriptions/
^ permalink raw reply [flat|nested] 7+ messages in thread
end of thread, other threads:[~2022-06-25 9:12 UTC | newest]
Thread overview: 7+ messages (download: mbox.gz / follow: Atom feed)
-- links below jump to the message on this page --
2022-06-16 15:00 |SUCCESS| pw112896-112897 [PATCH] [v3, 2/2] net/cnxk: support ops to update precolor VLAN table dpdklab
-- strict thread matches above, loose matches on Subject: below --
2022-06-25 9:12 dpdklab
2022-06-16 16:35 dpdklab
2022-06-16 16:25 dpdklab
2022-06-16 15:17 dpdklab
2022-06-16 12:28 dpdklab
2022-06-16 12:18 dpdklab
This is a public inbox, see mirroring instructions
for how to clone and mirror all data and code used for this inbox;
as well as URLs for NNTP newsgroup(s).