* |SUCCESS| pw115841-115867 [PATCH] [v5,27/27] dev: hide device object
@ 2022-09-05 9:26 dpdklab
0 siblings, 0 replies; 8+ messages in thread
From: dpdklab @ 2022-09-05 9:26 UTC (permalink / raw)
To: Test Report; +Cc: dpdklab, David Marchand, Thomas Monjalon
[-- Attachment #1: Type: text/plain, Size: 1459 bytes --]
Test-Label: iol-aarch64-unit-testing
Test-Status: SUCCESS
http://dpdk.org/patch/115867
_Testing PASS_
Submitter: David Marchand <david.marchand@redhat.com>
Date: Monday, September 05 2022 08:39:33
DPDK git baseline: Repo:dpdk
Branch: master
CommitID:4aee6110bb10b0225fa9562f2e48af233a9058a1
115841-115867 --> testing pass
Test environment and result as below:
+-------------------------------+----------------+--------------+
| Environment | dpdk_unit_test | lpm_autotest |
+===============================+================+==============+
| Ubuntu 20.04 ARM Clang Native | PASS | SKIPPED |
+-------------------------------+----------------+--------------+
| Ubuntu 20.04 ARM GCC Native | PASS | SKIPPED |
+-------------------------------+----------------+--------------+
| Ubuntu 20.04 ARM SVE | SKIPPED | PASS |
+-------------------------------+----------------+--------------+
Ubuntu 20.04 ARM Clang Native
Kernel: 5.4.0-53-generic
Compiler: clang 10.0.0-4ubuntu1
Ubuntu 20.04 ARM GCC Native
Kernel: 5.4.0-53-generic
Compiler: gcc 9.3
Ubuntu 20.04 ARM SVE
Kernel: 5.4.0-80-generic
Compiler: gcc 10.3.0 (Ubuntu 10.3.0-1ubuntu1~20.04)
To view detailed results, visit:
https://lab.dpdk.org/results/dashboard/patchsets/23408/
UNH-IOL DPDK Community Lab
To manage your email subscriptions, visit:
https://lab.dpdk.org/results/dashboard/preferences/subscriptions/
^ permalink raw reply [flat|nested] 8+ messages in thread
* |SUCCESS| pw115841-115867 [PATCH] [v5,27/27] dev: hide device object
@ 2022-09-05 10:06 dpdklab
0 siblings, 0 replies; 8+ messages in thread
From: dpdklab @ 2022-09-05 10:06 UTC (permalink / raw)
To: Test Report; +Cc: dpdklab, David Marchand, Thomas Monjalon
[-- Attachment #1: Type: text/plain, Size: 2152 bytes --]
Test-Label: iol-aarch64-compile-testing
Test-Status: SUCCESS
http://dpdk.org/patch/115867
_Testing PASS_
Submitter: David Marchand <david.marchand@redhat.com>
Date: Monday, September 05 2022 08:39:33
DPDK git baseline: Repo:dpdk
Branch: master
CommitID:4aee6110bb10b0225fa9562f2e48af233a9058a1
115841-115867 --> testing pass
Test environment and result as below:
+----------------------------------------+--------------------+
| Environment | dpdk_meson_compile |
+========================================+====================+
| Ubuntu 20.04 ARM Clang Native | PASS |
+----------------------------------------+--------------------+
| Ubuntu 20.04 aarch32 GCC Cross Compile | PASS |
+----------------------------------------+--------------------+
| Ubuntu 20.04 ARM GCC Native | PASS |
+----------------------------------------+--------------------+
| Ubuntu 20.04 ARM Clang Cross Compile | PASS |
+----------------------------------------+--------------------+
| Ubuntu 20.04 ARM GCC Cross Compile | PASS |
+----------------------------------------+--------------------+
| Ubuntu 20.04 ARM SVE | PASS |
+----------------------------------------+--------------------+
Ubuntu 20.04 ARM Clang Native
Kernel: 5.4.0-53-generic
Compiler: clang 10.0.0-4ubuntu1
Ubuntu 20.04 aarch32 GCC Cross Compile
Kernel: 5.4.0-72-generic
Compiler: gcc 9.3.0
Ubuntu 20.04 ARM GCC Native
Kernel: 5.4.0-53-generic
Compiler: gcc 9.3
Ubuntu 20.04 ARM Clang Cross Compile
Kernel: 5.4.0-72-generic
Compiler: clang version 10.0.0-4ubuntu1
Ubuntu 20.04 ARM GCC Cross Compile
Kernel: 5.4.0-72-generic
Compiler: aarch64-linux-gnu-gcc (Ubuntu 9.3.0-17ubuntu1~20.04) 9.3.0
Ubuntu 20.04 ARM SVE
Kernel: 5.4.0-80-generic
Compiler: gcc 10.3.0 (Ubuntu 10.3.0-1ubuntu1~20.04)
To view detailed results, visit:
https://lab.dpdk.org/results/dashboard/patchsets/23408/
UNH-IOL DPDK Community Lab
To manage your email subscriptions, visit:
https://lab.dpdk.org/results/dashboard/preferences/subscriptions/
^ permalink raw reply [flat|nested] 8+ messages in thread
* |SUCCESS| pw115841-115867 [PATCH] [v5,27/27] dev: hide device object
@ 2022-09-05 9:32 dpdklab
0 siblings, 0 replies; 8+ messages in thread
From: dpdklab @ 2022-09-05 9:32 UTC (permalink / raw)
To: Test Report; +Cc: dpdk-test-reports, David Marchand, Thomas Monjalon
[-- Attachment #1: Type: text/plain, Size: 1186 bytes --]
Test-Label: iol-intel-Functional
Test-Status: SUCCESS
http://dpdk.org/patch/115867
_Functional Testing PASS_
Submitter: David Marchand <david.marchand@redhat.com>
Date: Monday, September 05 2022 08:39:33
DPDK git baseline: Repo:dpdk
Branch: master
CommitID:4aee6110bb10b0225fa9562f2e48af233a9058a1
115841-115867 --> functional testing pass
Test environment and result as below:
Ubuntu 20.04 ARM
Kernel: 4.15.0-132-generic
Compiler: gcc 7.5
NIC: Arm Intel Corporation Ethernet Converged Network Adapter XL710-QDA2 40000 Mbps
Target: x86_64-native-linuxapp-gcc
Fail/Total: 0/2
Ubuntu 20.04
Kernel: 4.15.0-generic
Compiler: gcc 7.4
NIC: Intel Corporation Ethernet Converged Network Adapter XL710-QDA2 40000 Mbps
Target: x86_64-native-linuxapp-gcc
Fail/Total: 0/2
Ubuntu 20.04
Kernel: 4.15.0-generic
Compiler: gcc 7.4
NIC: Intel Corporation Ethernet Converged Network Adapter 82599ES 10000 Mbps
Target: x86_64-native-linuxapp-gcc
Fail/Total: 0/2
To view detailed results, visit:
https://lab.dpdk.org/results/dashboard/patchsets/23408/
UNH-IOL DPDK Community Lab
To manage your email subscriptions, visit:
https://lab.dpdk.org/results/dashboard/preferences/subscriptions/
^ permalink raw reply [flat|nested] 8+ messages in thread
* |SUCCESS| pw115841-115867 [PATCH] [v5,27/27] dev: hide device object
@ 2022-09-05 9:28 dpdklab
0 siblings, 0 replies; 8+ messages in thread
From: dpdklab @ 2022-09-05 9:28 UTC (permalink / raw)
To: Test Report; +Cc: dpdk-test-reports, David Marchand, Thomas Monjalon
[-- Attachment #1: Type: text/plain, Size: 1002 bytes --]
Test-Label: iol-intel-Functional
Test-Status: SUCCESS
http://dpdk.org/patch/115867
_Functional Testing PASS_
Submitter: David Marchand <david.marchand@redhat.com>
Date: Monday, September 05 2022 08:39:33
DPDK git baseline: Repo:dpdk
Branch: master
CommitID:4aee6110bb10b0225fa9562f2e48af233a9058a1
115841-115867 --> functional testing pass
Test environment and result as below:
Ubuntu 20.04 ARM
Kernel: 4.15.0-132-generic
Compiler: gcc 7.5
NIC: Arm Intel Corporation Ethernet Converged Network Adapter XL710-QDA2 40000 Mbps
Target: x86_64-native-linuxapp-gcc
Fail/Total: 0/2
Ubuntu 20.04
Kernel: 4.15.0-generic
Compiler: gcc 7.4
NIC: Intel Corporation Ethernet Converged Network Adapter XL710-QDA2 40000 Mbps
Target: x86_64-native-linuxapp-gcc
Fail/Total: 0/2
To view detailed results, visit:
https://lab.dpdk.org/results/dashboard/patchsets/23408/
UNH-IOL DPDK Community Lab
To manage your email subscriptions, visit:
https://lab.dpdk.org/results/dashboard/preferences/subscriptions/
^ permalink raw reply [flat|nested] 8+ messages in thread
* |SUCCESS| pw115841-115867 [PATCH] [v5,27/27] dev: hide device object
@ 2022-09-05 9:25 dpdklab
0 siblings, 0 replies; 8+ messages in thread
From: dpdklab @ 2022-09-05 9:25 UTC (permalink / raw)
To: Test Report; +Cc: dpdk-test-reports, David Marchand, Thomas Monjalon
[-- Attachment #1: Type: text/plain, Size: 3316 bytes --]
Test-Label: iol-intel-Performance
Test-Status: SUCCESS
http://dpdk.org/patch/115867
_Performance Testing PASS_
Submitter: David Marchand <david.marchand@redhat.com>
Date: Monday, September 05 2022 08:39:33
DPDK git baseline: Repo:dpdk
Branch: master
CommitID:4aee6110bb10b0225fa9562f2e48af233a9058a1
115841-115867 --> performance testing pass
Test environment and result as below:
Ubuntu 20.04
Kernel: 4.15.0-generic
Compiler: gcc 7.4
NIC: Intel Corporation Ethernet Converged Network Adapter XL710-QDA2 40000 Mbps
Target: x86_64-native-linuxapp-gcc
Fail/Total: 0/4
Detail performance results:
+----------+-------------+---------+------------+------------------------------+
| num_cpus | num_threads | txd/rxd | frame_size | throughput difference from |
| | | | | expected |
+==========+=============+=========+============+==============================+
| 1 | 2 | 512 | 64 | -0.4% |
+----------+-------------+---------+------------+------------------------------+
| 1 | 2 | 2048 | 64 | -0.8% |
+----------+-------------+---------+------------+------------------------------+
| 1 | 1 | 512 | 64 | -0.9% |
+----------+-------------+---------+------------+------------------------------+
| 1 | 1 | 2048 | 64 | 0.4% |
+----------+-------------+---------+------------+------------------------------+
Ubuntu 20.04
Kernel: 4.15.0-generic
Compiler: gcc 7.4
NIC: Intel Corporation Ethernet Converged Network Adapter 82599ES 10000 Mbps
Target: x86_64-native-linuxapp-gcc
Fail/Total: 0/6
Detail performance results:
+----------+-------------+---------+------------+------------------------------+
| num_cpus | num_threads | txd/rxd | frame_size | throughput difference from |
| | | | | expected |
+==========+=============+=========+============+==============================+
| 1 | 2 | 128 | 64 | -0.0% |
+----------+-------------+---------+------------+------------------------------+
| 1 | 2 | 512 | 64 | -0.0% |
+----------+-------------+---------+------------+------------------------------+
| 1 | 2 | 2048 | 64 | 0.2% |
+----------+-------------+---------+------------+------------------------------+
| 1 | 1 | 128 | 64 | 0.7% |
+----------+-------------+---------+------------+------------------------------+
| 1 | 1 | 512 | 64 | 0.7% |
+----------+-------------+---------+------------+------------------------------+
| 1 | 1 | 2048 | 64 | 0.3% |
+----------+-------------+---------+------------+------------------------------+
To view detailed results, visit:
https://lab.dpdk.org/results/dashboard/patchsets/23408/
UNH-IOL DPDK Community Lab
To manage your email subscriptions, visit:
https://lab.dpdk.org/results/dashboard/preferences/subscriptions/
^ permalink raw reply [flat|nested] 8+ messages in thread
* |SUCCESS| pw115841-115867 [PATCH] [v5,27/27] dev: hide device object
@ 2022-09-05 9:21 dpdklab
0 siblings, 0 replies; 8+ messages in thread
From: dpdklab @ 2022-09-05 9:21 UTC (permalink / raw)
To: Test Report; +Cc: dpdk-test-reports, David Marchand, Thomas Monjalon
[-- Attachment #1: Type: text/plain, Size: 1807 bytes --]
Test-Label: iol-intel-Performance
Test-Status: SUCCESS
http://dpdk.org/patch/115867
_Performance Testing PASS_
Submitter: David Marchand <david.marchand@redhat.com>
Date: Monday, September 05 2022 08:39:33
DPDK git baseline: Repo:dpdk
Branch: master
CommitID:4aee6110bb10b0225fa9562f2e48af233a9058a1
115841-115867 --> performance testing pass
Test environment and result as below:
Ubuntu 20.04
Kernel: 4.15.0-generic
Compiler: gcc 7.4
NIC: Intel Corporation Ethernet Converged Network Adapter XL710-QDA2 40000 Mbps
Target: x86_64-native-linuxapp-gcc
Fail/Total: 0/4
Detail performance results:
+----------+-------------+---------+------------+------------------------------+
| num_cpus | num_threads | txd/rxd | frame_size | throughput difference from |
| | | | | expected |
+==========+=============+=========+============+==============================+
| 1 | 2 | 512 | 64 | -0.4% |
+----------+-------------+---------+------------+------------------------------+
| 1 | 2 | 2048 | 64 | -0.8% |
+----------+-------------+---------+------------+------------------------------+
| 1 | 1 | 512 | 64 | -0.9% |
+----------+-------------+---------+------------+------------------------------+
| 1 | 1 | 2048 | 64 | 0.4% |
+----------+-------------+---------+------------+------------------------------+
To view detailed results, visit:
https://lab.dpdk.org/results/dashboard/patchsets/23408/
UNH-IOL DPDK Community Lab
To manage your email subscriptions, visit:
https://lab.dpdk.org/results/dashboard/preferences/subscriptions/
^ permalink raw reply [flat|nested] 8+ messages in thread
* |SUCCESS| pw115841-115867 [PATCH] [v5,27/27] dev: hide device object
@ 2022-09-05 9:19 dpdklab
0 siblings, 0 replies; 8+ messages in thread
From: dpdklab @ 2022-09-05 9:19 UTC (permalink / raw)
To: Ali Alnubani, Test Report
Cc: dpdk-test-reports, David Marchand, Thomas Monjalon
[-- Attachment #1: Type: text/plain, Size: 2091 bytes --]
Test-Label: iol-mellanox-Performance
Test-Status: SUCCESS
http://dpdk.org/patch/115867
_Performance Testing PASS_
Submitter: David Marchand <david.marchand@redhat.com>
Date: Monday, September 05 2022 08:39:33
DPDK git baseline: Repo:dpdk
Branch: master
CommitID:4aee6110bb10b0225fa9562f2e48af233a9058a1
115841-115867 --> performance testing pass
Test environment and result as below:
Ubuntu 20.04
Kernel: 4.15.0-generic
Compiler: gcc 7.4
NIC: Mellanox ConnectX-5 100000 Mbps
Target: x86_64-native-linuxapp-gcc
Fail/Total: 0/6
Detail performance results:
+------------+---------+----------+-------------+------------------------------+
| frame_size | txd/rxd | num_cpus | num_threads | throughput difference from |
| | | | | expected |
+============+=========+==========+=============+==============================+
| 64 | 256 | 1 | 1 | -0.1% |
+------------+---------+----------+-------------+------------------------------+
| 128 | 256 | 1 | 1 | -0.3% |
+------------+---------+----------+-------------+------------------------------+
| 1024 | 256 | 1 | 1 | 0.1% |
+------------+---------+----------+-------------+------------------------------+
| 256 | 256 | 1 | 1 | 0.4% |
+------------+---------+----------+-------------+------------------------------+
| 1518 | 256 | 1 | 1 | 0.2% |
+------------+---------+----------+-------------+------------------------------+
| 512 | 256 | 1 | 1 | 0.1% |
+------------+---------+----------+-------------+------------------------------+
To view detailed results, visit:
https://lab.dpdk.org/results/dashboard/patchsets/23408/
UNH-IOL DPDK Community Lab
To manage your email subscriptions, visit:
https://lab.dpdk.org/results/dashboard/preferences/subscriptions/
^ permalink raw reply [flat|nested] 8+ messages in thread
* |SUCCESS| pw115841-115867 [PATCH] [v5,27/27] dev: hide device object
@ 2022-09-05 9:15 dpdklab
0 siblings, 0 replies; 8+ messages in thread
From: dpdklab @ 2022-09-05 9:15 UTC (permalink / raw)
To: Test Report; +Cc: dpdk-test-reports, David Marchand, Thomas Monjalon
[-- Attachment #1: Type: text/plain, Size: 815 bytes --]
Test-Label: iol-intel-Functional
Test-Status: SUCCESS
http://dpdk.org/patch/115867
_Functional Testing PASS_
Submitter: David Marchand <david.marchand@redhat.com>
Date: Monday, September 05 2022 08:39:33
DPDK git baseline: Repo:dpdk
Branch: master
CommitID:4aee6110bb10b0225fa9562f2e48af233a9058a1
115841-115867 --> functional testing pass
Test environment and result as below:
Ubuntu 20.04 ARM
Kernel: 4.15.0-132-generic
Compiler: gcc 7.5
NIC: Arm Intel Corporation Ethernet Converged Network Adapter XL710-QDA2 40000 Mbps
Target: x86_64-native-linuxapp-gcc
Fail/Total: 0/2
To view detailed results, visit:
https://lab.dpdk.org/results/dashboard/patchsets/23408/
UNH-IOL DPDK Community Lab
To manage your email subscriptions, visit:
https://lab.dpdk.org/results/dashboard/preferences/subscriptions/
^ permalink raw reply [flat|nested] 8+ messages in thread
end of thread, other threads:[~2022-09-05 10:06 UTC | newest]
Thread overview: 8+ messages (download: mbox.gz / follow: Atom feed)
-- links below jump to the message on this page --
2022-09-05 9:26 |SUCCESS| pw115841-115867 [PATCH] [v5,27/27] dev: hide device object dpdklab
-- strict thread matches above, loose matches on Subject: below --
2022-09-05 10:06 dpdklab
2022-09-05 9:32 dpdklab
2022-09-05 9:28 dpdklab
2022-09-05 9:25 dpdklab
2022-09-05 9:21 dpdklab
2022-09-05 9:19 dpdklab
2022-09-05 9:15 dpdklab
This is a public inbox, see mirroring instructions
for how to clone and mirror all data and code used for this inbox;
as well as URLs for NNTP newsgroup(s).