* |SUCCESS| pw118581-118597 [PATCH] [v4, 18/18] net/mlx5/hws: Enable HWS
@ 2022-10-19 16:09 dpdklab
0 siblings, 0 replies; 5+ messages in thread
From: dpdklab @ 2022-10-19 16:09 UTC (permalink / raw)
To: Test Report; +Cc: dpdk-test-reports, David Marchand, Thomas Monjalon
[-- Attachment #1: Type: text/plain, Size: 804 bytes --]
Test-Label: iol-intel-Functional
Test-Status: SUCCESS
http://dpdk.org/patch/118597
_Functional Testing PASS_
Submitter: Alex Vesker <valex@nvidia.com>
Date: Wednesday, October 19 2022 14:42:58
DPDK git baseline: Repo:dpdk
Branch: master
CommitID:a74b1b25136a592c275afbfa6b70771469750aee
118581-118597 --> functional testing pass
Test environment and result as below:
Ubuntu 20.04 ARM
Kernel: 4.15.0-132-generic
Compiler: gcc 7.5
NIC: Arm Intel Corporation Ethernet Converged Network Adapter XL710-QDA2 40000 Mbps
Target: x86_64-native-linuxapp-gcc
Fail/Total: 0/2
To view detailed results, visit:
https://lab.dpdk.org/results/dashboard/patchsets/24076/
UNH-IOL DPDK Community Lab
To manage your email subscriptions, visit:
https://lab.dpdk.org/results/dashboard/preferences/subscriptions/
^ permalink raw reply [flat|nested] 5+ messages in thread
* |SUCCESS| pw118581-118597 [PATCH] [v4, 18/18] net/mlx5/hws: Enable HWS
@ 2022-10-19 16:21 dpdklab
0 siblings, 0 replies; 5+ messages in thread
From: dpdklab @ 2022-10-19 16:21 UTC (permalink / raw)
To: Ali Alnubani, Test Report
Cc: dpdk-test-reports, David Marchand, Thomas Monjalon
[-- Attachment #1: Type: text/plain, Size: 2080 bytes --]
Test-Label: iol-mellanox-Performance
Test-Status: SUCCESS
http://dpdk.org/patch/118597
_Performance Testing PASS_
Submitter: Alex Vesker <valex@nvidia.com>
Date: Wednesday, October 19 2022 14:42:58
DPDK git baseline: Repo:dpdk
Branch: master
CommitID:a74b1b25136a592c275afbfa6b70771469750aee
118581-118597 --> performance testing pass
Test environment and result as below:
Ubuntu 20.04
Kernel: 4.15.0-generic
Compiler: gcc 7.4
NIC: Mellanox ConnectX-5 100000 Mbps
Target: x86_64-native-linuxapp-gcc
Fail/Total: 0/6
Detail performance results:
+------------+---------+----------+-------------+------------------------------+
| frame_size | txd/rxd | num_cpus | num_threads | throughput difference from |
| | | | | expected |
+============+=========+==========+=============+==============================+
| 64 | 256 | 1 | 1 | -0.3% |
+------------+---------+----------+-------------+------------------------------+
| 128 | 256 | 1 | 1 | -0.0% |
+------------+---------+----------+-------------+------------------------------+
| 1024 | 256 | 1 | 1 | 0.2% |
+------------+---------+----------+-------------+------------------------------+
| 256 | 256 | 1 | 1 | 0.3% |
+------------+---------+----------+-------------+------------------------------+
| 1518 | 256 | 1 | 1 | -0.0% |
+------------+---------+----------+-------------+------------------------------+
| 512 | 256 | 1 | 1 | -0.1% |
+------------+---------+----------+-------------+------------------------------+
To view detailed results, visit:
https://lab.dpdk.org/results/dashboard/patchsets/24076/
UNH-IOL DPDK Community Lab
To manage your email subscriptions, visit:
https://lab.dpdk.org/results/dashboard/preferences/subscriptions/
^ permalink raw reply [flat|nested] 5+ messages in thread
* |SUCCESS| pw118581-118597 [PATCH] [v4, 18/18] net/mlx5/hws: Enable HWS
@ 2022-10-19 17:21 dpdklab
0 siblings, 0 replies; 5+ messages in thread
From: dpdklab @ 2022-10-19 17:21 UTC (permalink / raw)
To: Test Report; +Cc: dpdk-test-reports, David Marchand, Thomas Monjalon
[-- Attachment #1: Type: text/plain, Size: 991 bytes --]
Test-Label: iol-intel-Functional
Test-Status: SUCCESS
http://dpdk.org/patch/118597
_Functional Testing PASS_
Submitter: Alex Vesker <valex@nvidia.com>
Date: Wednesday, October 19 2022 14:42:58
DPDK git baseline: Repo:dpdk
Branch: master
CommitID:a74b1b25136a592c275afbfa6b70771469750aee
118581-118597 --> functional testing pass
Test environment and result as below:
Ubuntu 20.04 ARM
Kernel: 4.15.0-132-generic
Compiler: gcc 7.5
NIC: Arm Intel Corporation Ethernet Converged Network Adapter XL710-QDA2 40000 Mbps
Target: x86_64-native-linuxapp-gcc
Fail/Total: 0/2
Ubuntu 20.04
Kernel: 4.15.0-generic
Compiler: gcc 7.4
NIC: Intel Corporation Ethernet Converged Network Adapter XL710-QDA2 40000 Mbps
Target: x86_64-native-linuxapp-gcc
Fail/Total: 0/2
To view detailed results, visit:
https://lab.dpdk.org/results/dashboard/patchsets/24076/
UNH-IOL DPDK Community Lab
To manage your email subscriptions, visit:
https://lab.dpdk.org/results/dashboard/preferences/subscriptions/
^ permalink raw reply [flat|nested] 5+ messages in thread
* |SUCCESS| pw118581-118597 [PATCH] [v4, 18/18] net/mlx5/hws: Enable HWS
@ 2022-10-19 17:48 dpdklab
0 siblings, 0 replies; 5+ messages in thread
From: dpdklab @ 2022-10-19 17:48 UTC (permalink / raw)
To: Test Report; +Cc: dpdk-test-reports, David Marchand, Thomas Monjalon
[-- Attachment #1: Type: text/plain, Size: 1175 bytes --]
Test-Label: iol-intel-Functional
Test-Status: SUCCESS
http://dpdk.org/patch/118597
_Functional Testing PASS_
Submitter: Alex Vesker <valex@nvidia.com>
Date: Wednesday, October 19 2022 14:42:58
DPDK git baseline: Repo:dpdk
Branch: master
CommitID:a74b1b25136a592c275afbfa6b70771469750aee
118581-118597 --> functional testing pass
Test environment and result as below:
Ubuntu 20.04 ARM
Kernel: 4.15.0-132-generic
Compiler: gcc 7.5
NIC: Arm Intel Corporation Ethernet Converged Network Adapter XL710-QDA2 40000 Mbps
Target: x86_64-native-linuxapp-gcc
Fail/Total: 0/2
Ubuntu 20.04
Kernel: 4.15.0-generic
Compiler: gcc 7.4
NIC: Intel Corporation Ethernet Converged Network Adapter XL710-QDA2 40000 Mbps
Target: x86_64-native-linuxapp-gcc
Fail/Total: 0/2
Ubuntu 20.04
Kernel: 4.15.0-generic
Compiler: gcc 7.4
NIC: Intel Corporation Ethernet Converged Network Adapter 82599ES 10000 Mbps
Target: x86_64-native-linuxapp-gcc
Fail/Total: 0/2
To view detailed results, visit:
https://lab.dpdk.org/results/dashboard/patchsets/24076/
UNH-IOL DPDK Community Lab
To manage your email subscriptions, visit:
https://lab.dpdk.org/results/dashboard/preferences/subscriptions/
^ permalink raw reply [flat|nested] 5+ messages in thread
* |SUCCESS| pw118581-118597 [PATCH] [v4, 18/18] net/mlx5/hws: Enable HWS
@ 2022-10-19 18:19 dpdklab
0 siblings, 0 replies; 5+ messages in thread
From: dpdklab @ 2022-10-19 18:19 UTC (permalink / raw)
To: Test Report; +Cc: dpdk-test-reports, David Marchand, Thomas Monjalon
[-- Attachment #1: Type: text/plain, Size: 1448 bytes --]
Test-Label: iol-aarch64-unit-testing
Test-Status: SUCCESS
http://dpdk.org/patch/118597
_Testing PASS_
Submitter: Alex Vesker <valex@nvidia.com>
Date: Wednesday, October 19 2022 14:42:58
DPDK git baseline: Repo:dpdk
Branch: master
CommitID:a74b1b25136a592c275afbfa6b70771469750aee
118581-118597 --> testing pass
Test environment and result as below:
+-------------------------------+--------------+----------------+
| Environment | lpm_autotest | dpdk_unit_test |
+===============================+==============+================+
| Ubuntu 20.04 ARM SVE | PASS | SKIPPED |
+-------------------------------+--------------+----------------+
| Ubuntu 20.04 ARM Clang Native | SKIPPED | PASS |
+-------------------------------+--------------+----------------+
| Ubuntu 20.04 ARM GCC Native | SKIPPED | PASS |
+-------------------------------+--------------+----------------+
Ubuntu 20.04 ARM SVE
Kernel: 5.4.0-80-generic
Compiler: gcc 10.3.0 (Ubuntu 10.3.0-1ubuntu1~20.04)
Ubuntu 20.04 ARM Clang Native
Kernel: 5.4.0-53-generic
Compiler: clang 10.0.0-4ubuntu1
Ubuntu 20.04 ARM GCC Native
Kernel: 5.4.0-53-generic
Compiler: gcc 9.3
To view detailed results, visit:
https://lab.dpdk.org/results/dashboard/patchsets/24076/
UNH-IOL DPDK Community Lab
To manage your email subscriptions, visit:
https://lab.dpdk.org/results/dashboard/preferences/subscriptions/
^ permalink raw reply [flat|nested] 5+ messages in thread
end of thread, other threads:[~2022-10-19 18:19 UTC | newest]
Thread overview: 5+ messages (download: mbox.gz / follow: Atom feed)
-- links below jump to the message on this page --
2022-10-19 16:09 |SUCCESS| pw118581-118597 [PATCH] [v4, 18/18] net/mlx5/hws: Enable HWS dpdklab
2022-10-19 16:21 dpdklab
2022-10-19 17:21 dpdklab
2022-10-19 17:48 dpdklab
2022-10-19 18:19 dpdklab
This is a public inbox, see mirroring instructions
for how to clone and mirror all data and code used for this inbox;
as well as URLs for NNTP newsgroup(s).