* |WARNING| pw118738 [PATCH v5] net/iavf: add thread for event callbacks
[not found] <20221020050022.102064-1-yidingx.zhou@intel.com>
@ 2022-10-20 4:57 ` checkpatch
2022-10-20 6:19 ` |SUCCESS| " 0-day Robot
1 sibling, 0 replies; 12+ messages in thread
From: checkpatch @ 2022-10-20 4:57 UTC (permalink / raw)
To: test-report; +Cc: Yiding Zhou
Test-Label: checkpatch
Test-Status: WARNING
http://dpdk.org/patch/118738
_coding style issues_
WARNING:TYPO_SPELLING: 'lsit' may be misspelled - perhaps 'list'?
#167: FILE: drivers/net/iavf/iavf_vchnl.c:48:
+ TAILQ_HEAD(event_lsit, iavf_event_element) pending;
CHECK:MACRO_ARG_REUSE: Macro argument reuse 'var' - possible side-effects?
#175: FILE: drivers/net/iavf/iavf_vchnl.c:56:
+#define TAILQ_FOREACH_SAFE(var, head, field, tvar) \
+ for ((var) = TAILQ_FIRST((head)); \
+ (var) && ((tvar) = TAILQ_NEXT((var), field), 1); \
+ (var) = (tvar))
CHECK:MACRO_ARG_REUSE: Macro argument reuse 'tvar' - possible side-effects?
#175: FILE: drivers/net/iavf/iavf_vchnl.c:56:
+#define TAILQ_FOREACH_SAFE(var, head, field, tvar) \
+ for ((var) = TAILQ_FIRST((head)); \
+ (var) && ((tvar) = TAILQ_NEXT((var), field), 1); \
+ (var) = (tvar))
total: 0 errors, 1 warnings, 2 checks, 214 lines checked
^ permalink raw reply [flat|nested] 12+ messages in thread
* |SUCCESS| pw118738 [PATCH v5] net/iavf: add thread for event callbacks
[not found] <20221020050022.102064-1-yidingx.zhou@intel.com>
2022-10-20 4:57 ` |WARNING| pw118738 [PATCH v5] net/iavf: add thread for event callbacks checkpatch
@ 2022-10-20 6:19 ` 0-day Robot
1 sibling, 0 replies; 12+ messages in thread
From: 0-day Robot @ 2022-10-20 6:19 UTC (permalink / raw)
To: test-report; +Cc: robot
From: robot@bytheb.org
Test-Label: github-robot: build
Test-Status: SUCCESS
http://patchwork.dpdk.org/patch/118738/
_github build: passed_
Build URL: https://github.com/ovsrobot/dpdk/actions/runs/3287023574
^ permalink raw reply [flat|nested] 12+ messages in thread
* |SUCCESS| pw118738 [PATCH] [v5] net/iavf: add thread for event callbacks
@ 2022-10-20 7:12 dpdklab
0 siblings, 0 replies; 12+ messages in thread
From: dpdklab @ 2022-10-20 7:12 UTC (permalink / raw)
To: Test Report; +Cc: dpdklab, David Marchand, Thomas Monjalon
[-- Attachment #1: Type: text/plain, Size: 2139 bytes --]
Test-Label: iol-aarch64-compile-testing
Test-Status: SUCCESS
http://dpdk.org/patch/118738
_Testing PASS_
Submitter: Yiding Zhou <yidingx.zhou@intel.com>
Date: Thursday, October 20 2022 05:00:22
DPDK git baseline: Repo:dpdk
Branch: master
CommitID:a74b1b25136a592c275afbfa6b70771469750aee
118738 --> testing pass
Test environment and result as below:
+----------------------------------------+--------------------+
| Environment | dpdk_meson_compile |
+========================================+====================+
| Ubuntu 20.04 ARM GCC Cross Compile | PASS |
+----------------------------------------+--------------------+
| Ubuntu 20.04 aarch32 GCC Cross Compile | PASS |
+----------------------------------------+--------------------+
| Ubuntu 20.04 ARM Clang Cross Compile | PASS |
+----------------------------------------+--------------------+
| Ubuntu 20.04 ARM Clang Native | PASS |
+----------------------------------------+--------------------+
| Ubuntu 20.04 ARM GCC Native | PASS |
+----------------------------------------+--------------------+
| Ubuntu 20.04 ARM SVE | PASS |
+----------------------------------------+--------------------+
Ubuntu 20.04 ARM GCC Cross Compile
Kernel: 5.4.0-72-generic
Compiler: aarch64-linux-gnu-gcc (Ubuntu 9.3.0-17ubuntu1~20.04) 9.3.0
Ubuntu 20.04 aarch32 GCC Cross Compile
Kernel: 5.4.0-72-generic
Compiler: gcc 9.3.0
Ubuntu 20.04 ARM Clang Cross Compile
Kernel: 5.4.0-72-generic
Compiler: clang version 10.0.0-4ubuntu1
Ubuntu 20.04 ARM Clang Native
Kernel: 5.4.0-53-generic
Compiler: clang 10.0.0-4ubuntu1
Ubuntu 20.04 ARM GCC Native
Kernel: 5.4.0-53-generic
Compiler: gcc 9.3
Ubuntu 20.04 ARM SVE
Kernel: 5.4.0-80-generic
Compiler: gcc 10.3.0 (Ubuntu 10.3.0-1ubuntu1~20.04)
To view detailed results, visit:
https://lab.dpdk.org/results/dashboard/patchsets/24095/
UNH-IOL DPDK Community Lab
To manage your email subscriptions, visit:
https://lab.dpdk.org/results/dashboard/preferences/subscriptions/
^ permalink raw reply [flat|nested] 12+ messages in thread
* |SUCCESS| pw118738 [PATCH] [v5] net/iavf: add thread for event callbacks
@ 2022-10-20 6:41 dpdklab
0 siblings, 0 replies; 12+ messages in thread
From: dpdklab @ 2022-10-20 6:41 UTC (permalink / raw)
To: Test Report; +Cc: dpdk-test-reports, David Marchand, Thomas Monjalon
[-- Attachment #1: Type: text/plain, Size: 3407 bytes --]
Test-Label: iol-x86_64-compile-testing
Test-Status: SUCCESS
http://dpdk.org/patch/118738
_Testing PASS_
Submitter: Yiding Zhou <yidingx.zhou@intel.com>
Date: Thursday, October 20 2022 05:00:22
DPDK git baseline: Repo:dpdk
Branch: master
CommitID:a74b1b25136a592c275afbfa6b70771469750aee
118738 --> testing pass
Test environment and result as below:
+---------------------+--------------------+----------------------+
| Environment | dpdk_meson_compile | dpdk_mingw64_compile |
+=====================+====================+======================+
| FreeBSD 13 | PASS | SKIPPED |
+---------------------+--------------------+----------------------+
| Windows Server 2019 | PASS | PASS |
+---------------------+--------------------+----------------------+
| Fedora 31 | PASS | SKIPPED |
+---------------------+--------------------+----------------------+
| Fedora 32 | PASS | SKIPPED |
+---------------------+--------------------+----------------------+
| Ubuntu 20.04 | PASS | SKIPPED |
+---------------------+--------------------+----------------------+
| RHEL 7 | PASS | SKIPPED |
+---------------------+--------------------+----------------------+
| Ubuntu 18.04 | PASS | SKIPPED |
+---------------------+--------------------+----------------------+
| openSUSE Leap 15 | PASS | SKIPPED |
+---------------------+--------------------+----------------------+
| Fedora 34 | PASS | SKIPPED |
+---------------------+--------------------+----------------------+
| RHEL8 | PASS | SKIPPED |
+---------------------+--------------------+----------------------+
| Fedora 33 | PASS | SKIPPED |
+---------------------+--------------------+----------------------+
| Fedora 34 clang | PASS | SKIPPED |
+---------------------+--------------------+----------------------+
FreeBSD 13
Kernel: 13.0
Compiler: clang 11.0.1
Windows Server 2019
Kernel: 10.0
Compiler: clang 14.0 and gcc 8.1.0 (MinGW)
Fedora 31
Kernel: 4.18.0-240.10.1.el8_3.x86_64
Compiler: gcc 9.3.1
Fedora 32
Kernel: 4.18.0-240.10.1.el8_3.x86_64
Compiler: gcc 10.2.1
Ubuntu 20.04
Kernel: 4.18.0-240.10.1.el8_3.x86_64
Compiler: gcc 9.3.0-17ubuntu1~20.04
RHEL 7
Kernel: 4.18.0-240.10.1.el8_3.x86_64
Compiler: gcc 4.8.5 20150623 (Red Hat 4.8.5-44)
Ubuntu 18.04
Kernel: 4.18.0-240.10.1.el8_3.x86_64
Compiler: gcc 7.5.0-3ubuntu1~18.04
openSUSE Leap 15
Kernel: 4.18.0-240.10.1.el8_3.x86_64
Compiler: gcc 7.5.0
Fedora 34
Kernel: 5.4.0-72-generic
Compiler: gcc 11.1.1 20210428 (Red Hat 11.1.1-1)
RHEL8
Kernel: 4.18.0-240.10.1.el8_3.x86_64
Compiler: gcc 8.3.1 20191121 (Red Hat 8.3.1-5)
Fedora 33
Kernel: 5.4.0-72-generic
Compiler: gcc 10.3.1 20210422 (Red Hat 10.3.1-1)
Fedora 34 clang
Kernel: 5.4.0-72-generic
Compiler: clang 12.0.0 (Fedora 12.0.0-0.3.rc1.fc34)
To view detailed results, visit:
https://lab.dpdk.org/results/dashboard/patchsets/24095/
UNH-IOL DPDK Community Lab
To manage your email subscriptions, visit:
https://lab.dpdk.org/results/dashboard/preferences/subscriptions/
^ permalink raw reply [flat|nested] 12+ messages in thread
* |SUCCESS| pw118738 [PATCH] [v5] net/iavf: add thread for event callbacks
@ 2022-10-20 6:17 dpdklab
0 siblings, 0 replies; 12+ messages in thread
From: dpdklab @ 2022-10-20 6:17 UTC (permalink / raw)
To: Test Report; +Cc: dpdklab, David Marchand, Thomas Monjalon
[-- Attachment #1: Type: text/plain, Size: 1446 bytes --]
Test-Label: iol-aarch64-unit-testing
Test-Status: SUCCESS
http://dpdk.org/patch/118738
_Testing PASS_
Submitter: Yiding Zhou <yidingx.zhou@intel.com>
Date: Thursday, October 20 2022 05:00:22
DPDK git baseline: Repo:dpdk
Branch: master
CommitID:a74b1b25136a592c275afbfa6b70771469750aee
118738 --> testing pass
Test environment and result as below:
+-------------------------------+----------------+--------------+
| Environment | dpdk_unit_test | lpm_autotest |
+===============================+================+==============+
| Ubuntu 20.04 ARM GCC Native | PASS | SKIPPED |
+-------------------------------+----------------+--------------+
| Ubuntu 20.04 ARM Clang Native | PASS | SKIPPED |
+-------------------------------+----------------+--------------+
| Ubuntu 20.04 ARM SVE | SKIPPED | PASS |
+-------------------------------+----------------+--------------+
Ubuntu 20.04 ARM GCC Native
Kernel: 5.4.0-53-generic
Compiler: gcc 9.3
Ubuntu 20.04 ARM Clang Native
Kernel: 5.4.0-53-generic
Compiler: clang 10.0.0-4ubuntu1
Ubuntu 20.04 ARM SVE
Kernel: 5.4.0-80-generic
Compiler: gcc 10.3.0 (Ubuntu 10.3.0-1ubuntu1~20.04)
To view detailed results, visit:
https://lab.dpdk.org/results/dashboard/patchsets/24095/
UNH-IOL DPDK Community Lab
To manage your email subscriptions, visit:
https://lab.dpdk.org/results/dashboard/preferences/subscriptions/
^ permalink raw reply [flat|nested] 12+ messages in thread
* |SUCCESS| pw118738 [PATCH] [v5] net/iavf: add thread for event callbacks
@ 2022-10-20 6:15 dpdklab
0 siblings, 0 replies; 12+ messages in thread
From: dpdklab @ 2022-10-20 6:15 UTC (permalink / raw)
To: Test Report; +Cc: dpdklab, David Marchand, Thomas Monjalon
[-- Attachment #1: Type: text/plain, Size: 2543 bytes --]
Test-Label: iol-x86_64-unit-testing
Test-Status: SUCCESS
http://dpdk.org/patch/118738
_Testing PASS_
Submitter: Yiding Zhou <yidingx.zhou@intel.com>
Date: Thursday, October 20 2022 05:00:22
DPDK git baseline: Repo:dpdk
Branch: master
CommitID:a74b1b25136a592c275afbfa6b70771469750aee
118738 --> testing pass
Test environment and result as below:
+---------------------+----------------+
| Environment | dpdk_unit_test |
+=====================+================+
| Windows Server 2019 | PASS |
+---------------------+----------------+
| Fedora 31 | PASS |
+---------------------+----------------+
| Fedora 33 | PASS |
+---------------------+----------------+
| Ubuntu 20.04 | PASS |
+---------------------+----------------+
| Fedora 34 | PASS |
+---------------------+----------------+
| openSUSE Leap 15 | PASS |
+---------------------+----------------+
| Fedora 32 | PASS |
+---------------------+----------------+
| Ubuntu 18.04 | PASS |
+---------------------+----------------+
| RHEL8 | PASS |
+---------------------+----------------+
| Fedora 34 clang | PASS |
+---------------------+----------------+
| RHEL 7 | PASS |
+---------------------+----------------+
Windows Server 2019
Kernel: 10.0
Compiler: clang 14.0 and gcc 8.1.0 (MinGW)
Fedora 31
Kernel: 4.18.0-240.10.1.el8_3.x86_64
Compiler: gcc 9.3.1
Fedora 33
Kernel: 5.4.0-72-generic
Compiler: gcc 10.3.1 20210422 (Red Hat 10.3.1-1)
Ubuntu 20.04
Kernel: 4.18.0-240.10.1.el8_3.x86_64
Compiler: gcc 9.3.0-17ubuntu1~20.04
Fedora 34
Kernel: 5.4.0-72-generic
Compiler: gcc 11.1.1 20210428 (Red Hat 11.1.1-1)
openSUSE Leap 15
Kernel: 4.18.0-240.10.1.el8_3.x86_64
Compiler: gcc 7.5.0
Fedora 32
Kernel: 4.18.0-240.10.1.el8_3.x86_64
Compiler: gcc 10.2.1
Ubuntu 18.04
Kernel: 4.18.0-240.10.1.el8_3.x86_64
Compiler: gcc 7.5.0-3ubuntu1~18.04
RHEL8
Kernel: 4.18.0-240.10.1.el8_3.x86_64
Compiler: gcc 8.3.1 20191121 (Red Hat 8.3.1-5)
Fedora 34 clang
Kernel: 5.4.0-72-generic
Compiler: clang 12.0.0 (Fedora 12.0.0-0.3.rc1.fc34)
RHEL 7
Kernel: 4.18.0-240.10.1.el8_3.x86_64
Compiler: gcc 4.8.5 20150623 (Red Hat 4.8.5-44)
To view detailed results, visit:
https://lab.dpdk.org/results/dashboard/patchsets/24095/
UNH-IOL DPDK Community Lab
To manage your email subscriptions, visit:
https://lab.dpdk.org/results/dashboard/preferences/subscriptions/
^ permalink raw reply [flat|nested] 12+ messages in thread
* |SUCCESS| pw118738 [PATCH] [v5] net/iavf: add thread for event callbacks
@ 2022-10-20 6:06 dpdklab
0 siblings, 0 replies; 12+ messages in thread
From: dpdklab @ 2022-10-20 6:06 UTC (permalink / raw)
To: Test Report; +Cc: dpdk-test-reports, David Marchand, Thomas Monjalon
[-- Attachment #1: Type: text/plain, Size: 3303 bytes --]
Test-Label: iol-intel-Performance
Test-Status: SUCCESS
http://dpdk.org/patch/118738
_Performance Testing PASS_
Submitter: Yiding Zhou <yidingx.zhou@intel.com>
Date: Thursday, October 20 2022 05:00:22
DPDK git baseline: Repo:dpdk
Branch: master
CommitID:a74b1b25136a592c275afbfa6b70771469750aee
118738 --> performance testing pass
Test environment and result as below:
Ubuntu 20.04
Kernel: 4.15.0-generic
Compiler: gcc 7.4
NIC: Intel Corporation Ethernet Converged Network Adapter XL710-QDA2 40000 Mbps
Target: x86_64-native-linuxapp-gcc
Fail/Total: 0/4
Detail performance results:
+----------+-------------+---------+------------+------------------------------+
| num_cpus | num_threads | txd/rxd | frame_size | throughput difference from |
| | | | | expected |
+==========+=============+=========+============+==============================+
| 1 | 2 | 512 | 64 | -0.4% |
+----------+-------------+---------+------------+------------------------------+
| 1 | 2 | 2048 | 64 | -0.9% |
+----------+-------------+---------+------------+------------------------------+
| 1 | 1 | 512 | 64 | -1.3% |
+----------+-------------+---------+------------+------------------------------+
| 1 | 1 | 2048 | 64 | -2.3% |
+----------+-------------+---------+------------+------------------------------+
Ubuntu 20.04
Kernel: 4.15.0-generic
Compiler: gcc 7.4
NIC: Intel Corporation Ethernet Converged Network Adapter 82599ES 10000 Mbps
Target: x86_64-native-linuxapp-gcc
Fail/Total: 0/6
Detail performance results:
+----------+-------------+---------+------------+------------------------------+
| num_cpus | num_threads | txd/rxd | frame_size | throughput difference from |
| | | | | expected |
+==========+=============+=========+============+==============================+
| 1 | 2 | 128 | 64 | -0.3% |
+----------+-------------+---------+------------+------------------------------+
| 1 | 2 | 512 | 64 | 0.2% |
+----------+-------------+---------+------------+------------------------------+
| 1 | 2 | 2048 | 64 | -0.4% |
+----------+-------------+---------+------------+------------------------------+
| 1 | 1 | 128 | 64 | 0.0% |
+----------+-------------+---------+------------+------------------------------+
| 1 | 1 | 512 | 64 | -0.1% |
+----------+-------------+---------+------------+------------------------------+
| 1 | 1 | 2048 | 64 | 0.1% |
+----------+-------------+---------+------------+------------------------------+
To view detailed results, visit:
https://lab.dpdk.org/results/dashboard/patchsets/24095/
UNH-IOL DPDK Community Lab
To manage your email subscriptions, visit:
https://lab.dpdk.org/results/dashboard/preferences/subscriptions/
^ permalink raw reply [flat|nested] 12+ messages in thread
* |SUCCESS| pw118738 [PATCH] [v5] net/iavf: add thread for event callbacks
@ 2022-10-20 5:54 dpdklab
0 siblings, 0 replies; 12+ messages in thread
From: dpdklab @ 2022-10-20 5:54 UTC (permalink / raw)
To: Test Report; +Cc: dpdk-test-reports, David Marchand, Thomas Monjalon
[-- Attachment #1: Type: text/plain, Size: 1794 bytes --]
Test-Label: iol-intel-Performance
Test-Status: SUCCESS
http://dpdk.org/patch/118738
_Performance Testing PASS_
Submitter: Yiding Zhou <yidingx.zhou@intel.com>
Date: Thursday, October 20 2022 05:00:22
DPDK git baseline: Repo:dpdk
Branch: master
CommitID:a74b1b25136a592c275afbfa6b70771469750aee
118738 --> performance testing pass
Test environment and result as below:
Ubuntu 20.04
Kernel: 4.15.0-generic
Compiler: gcc 7.4
NIC: Intel Corporation Ethernet Converged Network Adapter XL710-QDA2 40000 Mbps
Target: x86_64-native-linuxapp-gcc
Fail/Total: 0/4
Detail performance results:
+----------+-------------+---------+------------+------------------------------+
| num_cpus | num_threads | txd/rxd | frame_size | throughput difference from |
| | | | | expected |
+==========+=============+=========+============+==============================+
| 1 | 2 | 512 | 64 | -0.4% |
+----------+-------------+---------+------------+------------------------------+
| 1 | 2 | 2048 | 64 | -0.9% |
+----------+-------------+---------+------------+------------------------------+
| 1 | 1 | 512 | 64 | -1.3% |
+----------+-------------+---------+------------+------------------------------+
| 1 | 1 | 2048 | 64 | -2.3% |
+----------+-------------+---------+------------+------------------------------+
To view detailed results, visit:
https://lab.dpdk.org/results/dashboard/patchsets/24095/
UNH-IOL DPDK Community Lab
To manage your email subscriptions, visit:
https://lab.dpdk.org/results/dashboard/preferences/subscriptions/
^ permalink raw reply [flat|nested] 12+ messages in thread
* |SUCCESS| pw118738 [PATCH] [v5] net/iavf: add thread for event callbacks
@ 2022-10-20 5:47 dpdklab
0 siblings, 0 replies; 12+ messages in thread
From: dpdklab @ 2022-10-20 5:47 UTC (permalink / raw)
To: Test Report; +Cc: dpdk-test-reports, David Marchand, Thomas Monjalon
[-- Attachment #1: Type: text/plain, Size: 1173 bytes --]
Test-Label: iol-intel-Functional
Test-Status: SUCCESS
http://dpdk.org/patch/118738
_Functional Testing PASS_
Submitter: Yiding Zhou <yidingx.zhou@intel.com>
Date: Thursday, October 20 2022 05:00:22
DPDK git baseline: Repo:dpdk
Branch: master
CommitID:a74b1b25136a592c275afbfa6b70771469750aee
118738 --> functional testing pass
Test environment and result as below:
Ubuntu 20.04 ARM
Kernel: 4.15.0-132-generic
Compiler: gcc 7.5
NIC: Arm Intel Corporation Ethernet Converged Network Adapter XL710-QDA2 40000 Mbps
Target: x86_64-native-linuxapp-gcc
Fail/Total: 0/2
Ubuntu 20.04
Kernel: 4.15.0-generic
Compiler: gcc 7.4
NIC: Intel Corporation Ethernet Converged Network Adapter XL710-QDA2 40000 Mbps
Target: x86_64-native-linuxapp-gcc
Fail/Total: 0/2
Ubuntu 20.04
Kernel: 4.15.0-generic
Compiler: gcc 7.4
NIC: Intel Corporation Ethernet Converged Network Adapter 82599ES 10000 Mbps
Target: x86_64-native-linuxapp-gcc
Fail/Total: 0/2
To view detailed results, visit:
https://lab.dpdk.org/results/dashboard/patchsets/24095/
UNH-IOL DPDK Community Lab
To manage your email subscriptions, visit:
https://lab.dpdk.org/results/dashboard/preferences/subscriptions/
^ permalink raw reply [flat|nested] 12+ messages in thread
* |SUCCESS| pw118738 [PATCH] [v5] net/iavf: add thread for event callbacks
@ 2022-10-20 5:39 dpdklab
0 siblings, 0 replies; 12+ messages in thread
From: dpdklab @ 2022-10-20 5:39 UTC (permalink / raw)
To: Test Report; +Cc: dpdk-test-reports, David Marchand, Thomas Monjalon
[-- Attachment #1: Type: text/plain, Size: 989 bytes --]
Test-Label: iol-intel-Functional
Test-Status: SUCCESS
http://dpdk.org/patch/118738
_Functional Testing PASS_
Submitter: Yiding Zhou <yidingx.zhou@intel.com>
Date: Thursday, October 20 2022 05:00:22
DPDK git baseline: Repo:dpdk
Branch: master
CommitID:a74b1b25136a592c275afbfa6b70771469750aee
118738 --> functional testing pass
Test environment and result as below:
Ubuntu 20.04 ARM
Kernel: 4.15.0-132-generic
Compiler: gcc 7.5
NIC: Arm Intel Corporation Ethernet Converged Network Adapter XL710-QDA2 40000 Mbps
Target: x86_64-native-linuxapp-gcc
Fail/Total: 0/2
Ubuntu 20.04
Kernel: 4.15.0-generic
Compiler: gcc 7.4
NIC: Intel Corporation Ethernet Converged Network Adapter XL710-QDA2 40000 Mbps
Target: x86_64-native-linuxapp-gcc
Fail/Total: 0/2
To view detailed results, visit:
https://lab.dpdk.org/results/dashboard/patchsets/24095/
UNH-IOL DPDK Community Lab
To manage your email subscriptions, visit:
https://lab.dpdk.org/results/dashboard/preferences/subscriptions/
^ permalink raw reply [flat|nested] 12+ messages in thread
* |SUCCESS| pw118738 [PATCH] [v5] net/iavf: add thread for event callbacks
@ 2022-10-20 5:33 dpdklab
0 siblings, 0 replies; 12+ messages in thread
From: dpdklab @ 2022-10-20 5:33 UTC (permalink / raw)
To: Ali Alnubani, Test Report
Cc: dpdk-test-reports, David Marchand, Thomas Monjalon
[-- Attachment #1: Type: text/plain, Size: 2078 bytes --]
Test-Label: iol-mellanox-Performance
Test-Status: SUCCESS
http://dpdk.org/patch/118738
_Performance Testing PASS_
Submitter: Yiding Zhou <yidingx.zhou@intel.com>
Date: Thursday, October 20 2022 05:00:22
DPDK git baseline: Repo:dpdk
Branch: master
CommitID:a74b1b25136a592c275afbfa6b70771469750aee
118738 --> performance testing pass
Test environment and result as below:
Ubuntu 20.04
Kernel: 4.15.0-generic
Compiler: gcc 7.4
NIC: Mellanox ConnectX-5 100000 Mbps
Target: x86_64-native-linuxapp-gcc
Fail/Total: 0/6
Detail performance results:
+------------+---------+----------+-------------+------------------------------+
| frame_size | txd/rxd | num_cpus | num_threads | throughput difference from |
| | | | | expected |
+============+=========+==========+=============+==============================+
| 64 | 256 | 1 | 1 | -0.2% |
+------------+---------+----------+-------------+------------------------------+
| 128 | 256 | 1 | 1 | -0.1% |
+------------+---------+----------+-------------+------------------------------+
| 1024 | 256 | 1 | 1 | -0.0% |
+------------+---------+----------+-------------+------------------------------+
| 256 | 256 | 1 | 1 | 0.4% |
+------------+---------+----------+-------------+------------------------------+
| 1518 | 256 | 1 | 1 | 0.0% |
+------------+---------+----------+-------------+------------------------------+
| 512 | 256 | 1 | 1 | -0.2% |
+------------+---------+----------+-------------+------------------------------+
To view detailed results, visit:
https://lab.dpdk.org/results/dashboard/patchsets/24095/
UNH-IOL DPDK Community Lab
To manage your email subscriptions, visit:
https://lab.dpdk.org/results/dashboard/preferences/subscriptions/
^ permalink raw reply [flat|nested] 12+ messages in thread
* |SUCCESS| pw118738 [PATCH] [v5] net/iavf: add thread for event callbacks
@ 2022-10-20 5:31 dpdklab
0 siblings, 0 replies; 12+ messages in thread
From: dpdklab @ 2022-10-20 5:31 UTC (permalink / raw)
To: Test Report; +Cc: dpdk-test-reports, David Marchand, Thomas Monjalon
[-- Attachment #1: Type: text/plain, Size: 802 bytes --]
Test-Label: iol-intel-Functional
Test-Status: SUCCESS
http://dpdk.org/patch/118738
_Functional Testing PASS_
Submitter: Yiding Zhou <yidingx.zhou@intel.com>
Date: Thursday, October 20 2022 05:00:22
DPDK git baseline: Repo:dpdk
Branch: master
CommitID:a74b1b25136a592c275afbfa6b70771469750aee
118738 --> functional testing pass
Test environment and result as below:
Ubuntu 20.04 ARM
Kernel: 4.15.0-132-generic
Compiler: gcc 7.5
NIC: Arm Intel Corporation Ethernet Converged Network Adapter XL710-QDA2 40000 Mbps
Target: x86_64-native-linuxapp-gcc
Fail/Total: 0/2
To view detailed results, visit:
https://lab.dpdk.org/results/dashboard/patchsets/24095/
UNH-IOL DPDK Community Lab
To manage your email subscriptions, visit:
https://lab.dpdk.org/results/dashboard/preferences/subscriptions/
^ permalink raw reply [flat|nested] 12+ messages in thread
end of thread, other threads:[~2022-10-20 7:12 UTC | newest]
Thread overview: 12+ messages (download: mbox.gz / follow: Atom feed)
-- links below jump to the message on this page --
[not found] <20221020050022.102064-1-yidingx.zhou@intel.com>
2022-10-20 4:57 ` |WARNING| pw118738 [PATCH v5] net/iavf: add thread for event callbacks checkpatch
2022-10-20 6:19 ` |SUCCESS| " 0-day Robot
2022-10-20 7:12 |SUCCESS| pw118738 [PATCH] [v5] " dpdklab
-- strict thread matches above, loose matches on Subject: below --
2022-10-20 6:41 dpdklab
2022-10-20 6:17 dpdklab
2022-10-20 6:15 dpdklab
2022-10-20 6:06 dpdklab
2022-10-20 5:54 dpdklab
2022-10-20 5:47 dpdklab
2022-10-20 5:39 dpdklab
2022-10-20 5:33 dpdklab
2022-10-20 5:31 dpdklab
This is a public inbox, see mirroring instructions
for how to clone and mirror all data and code used for this inbox;
as well as URLs for NNTP newsgroup(s).