* |SUCCESS| [GIT MASTER] 7ae6d61bb00c6f143e61e0e3b79d03f81d6b3064
@ 2022-10-21 16:01 dpdklab
0 siblings, 0 replies; 8+ messages in thread
From: dpdklab @ 2022-10-21 16:01 UTC (permalink / raw)
To: Test Report; +Cc: dpdklab, Akhil Goyal
[-- Attachment #1: Type: text/plain, Size: 1228 bytes --]
_Testing PASS_
Branch: dpdk-next-crypto
7ae6d61bb00c6f143e61e0e3b79d03f81d6b3064 --> testing pass
Test environment and result as below:
+-------------------------------+--------------+----------------+
| Environment | lpm_autotest | dpdk_unit_test |
+===============================+==============+================+
| Ubuntu 20.04 ARM SVE | PASS | SKIPPED |
+-------------------------------+--------------+----------------+
| Ubuntu 20.04 ARM GCC Native | SKIPPED | PASS |
+-------------------------------+--------------+----------------+
| Ubuntu 20.04 ARM Clang Native | SKIPPED | PASS |
+-------------------------------+--------------+----------------+
Ubuntu 20.04 ARM SVE
Kernel: 5.4.0-80-generic
Compiler: gcc 10.3.0 (Ubuntu 10.3.0-1ubuntu1~20.04)
Ubuntu 20.04 ARM GCC Native
Kernel: 5.4.0-53-generic
Compiler: gcc 9.3
Ubuntu 20.04 ARM Clang Native
Kernel: 5.4.0-53-generic
Compiler: clang 10.0.0-4ubuntu1
To view detailed results, visit:
https://lab.dpdk.org/results/dashboard/tarballs/21939/
UNH-IOL DPDK Community Lab
To manage your email subscriptions, visit:
https://lab.dpdk.org/results/dashboard/preferences/subscriptions/
^ permalink raw reply [flat|nested] 8+ messages in thread
* |SUCCESS| [GIT MASTER] 7ae6d61bb00c6f143e61e0e3b79d03f81d6b3064
@ 2022-10-21 16:10 dpdklab
0 siblings, 0 replies; 8+ messages in thread
From: dpdklab @ 2022-10-21 16:10 UTC (permalink / raw)
To: Test Report; +Cc: dpdklab, Akhil Goyal
[-- Attachment #1: Type: text/plain, Size: 1918 bytes --]
_Testing PASS_
Branch: dpdk-next-crypto
7ae6d61bb00c6f143e61e0e3b79d03f81d6b3064 --> testing pass
Test environment and result as below:
+----------------------------------------+--------------------+
| Environment | dpdk_meson_compile |
+========================================+====================+
| Ubuntu 20.04 aarch32 GCC Cross Compile | PASS |
+----------------------------------------+--------------------+
| Ubuntu 20.04 ARM SVE | PASS |
+----------------------------------------+--------------------+
| Ubuntu 20.04 ARM GCC Native | PASS |
+----------------------------------------+--------------------+
| Ubuntu 20.04 ARM Clang Native | PASS |
+----------------------------------------+--------------------+
| Ubuntu 20.04 ARM Clang Cross Compile | PASS |
+----------------------------------------+--------------------+
| Ubuntu 20.04 ARM GCC Cross Compile | PASS |
+----------------------------------------+--------------------+
Ubuntu 20.04 aarch32 GCC Cross Compile
Kernel: 5.4.0-72-generic
Compiler: gcc 9.3.0
Ubuntu 20.04 ARM SVE
Kernel: 5.4.0-80-generic
Compiler: gcc 10.3.0 (Ubuntu 10.3.0-1ubuntu1~20.04)
Ubuntu 20.04 ARM GCC Native
Kernel: 5.4.0-53-generic
Compiler: gcc 9.3
Ubuntu 20.04 ARM Clang Native
Kernel: 5.4.0-53-generic
Compiler: clang 10.0.0-4ubuntu1
Ubuntu 20.04 ARM Clang Cross Compile
Kernel: 5.4.0-72-generic
Compiler: clang version 10.0.0-4ubuntu1
Ubuntu 20.04 ARM GCC Cross Compile
Kernel: 5.4.0-72-generic
Compiler: aarch64-linux-gnu-gcc (Ubuntu 9.3.0-17ubuntu1~20.04) 9.3.0
To view detailed results, visit:
https://lab.dpdk.org/results/dashboard/tarballs/21939/
UNH-IOL DPDK Community Lab
To manage your email subscriptions, visit:
https://lab.dpdk.org/results/dashboard/preferences/subscriptions/
^ permalink raw reply [flat|nested] 8+ messages in thread
* |SUCCESS| [GIT MASTER] 7ae6d61bb00c6f143e61e0e3b79d03f81d6b3064
@ 2022-10-21 16:07 dpdklab
0 siblings, 0 replies; 8+ messages in thread
From: dpdklab @ 2022-10-21 16:07 UTC (permalink / raw)
To: Test Report; +Cc: dpdk-test-reports, Akhil Goyal
[-- Attachment #1: Type: text/plain, Size: 3088 bytes --]
_Performance Testing PASS_
Branch: dpdk-next-crypto
7ae6d61bb00c6f143e61e0e3b79d03f81d6b3064 --> performance testing pass
Test environment and result as below:
Ubuntu 20.04
Kernel: 4.15.0-generic
Compiler: gcc 7.4
NIC: Intel Corporation Ethernet Converged Network Adapter XL710-QDA2 40000 Mbps
Target: x86_64-native-linuxapp-gcc
Fail/Total: 0/4
Detail performance results:
+----------+-------------+---------+------------+------------------------------+
| num_cpus | num_threads | txd/rxd | frame_size | throughput difference from |
| | | | | expected |
+==========+=============+=========+============+==============================+
| 1 | 2 | 512 | 64 | -1.4% |
+----------+-------------+---------+------------+------------------------------+
| 1 | 2 | 2048 | 64 | 3.1% |
+----------+-------------+---------+------------+------------------------------+
| 1 | 1 | 512 | 64 | 3.2% |
+----------+-------------+---------+------------+------------------------------+
| 1 | 1 | 2048 | 64 | -1.6% |
+----------+-------------+---------+------------+------------------------------+
Ubuntu 20.04
Kernel: 4.15.0-generic
Compiler: gcc 7.4
NIC: Intel Corporation Ethernet Converged Network Adapter 82599ES 10000 Mbps
Target: x86_64-native-linuxapp-gcc
Fail/Total: 0/6
Detail performance results:
+----------+-------------+---------+------------+------------------------------+
| num_cpus | num_threads | txd/rxd | frame_size | throughput difference from |
| | | | | expected |
+==========+=============+=========+============+==============================+
| 1 | 2 | 128 | 64 | -0.0% |
+----------+-------------+---------+------------+------------------------------+
| 1 | 2 | 512 | 64 | 0.1% |
+----------+-------------+---------+------------+------------------------------+
| 1 | 2 | 2048 | 64 | -0.1% |
+----------+-------------+---------+------------+------------------------------+
| 1 | 1 | 128 | 64 | 0.1% |
+----------+-------------+---------+------------+------------------------------+
| 1 | 1 | 512 | 64 | 0.1% |
+----------+-------------+---------+------------+------------------------------+
| 1 | 1 | 2048 | 64 | 0.1% |
+----------+-------------+---------+------------+------------------------------+
To view detailed results, visit:
https://lab.dpdk.org/results/dashboard/tarballs/21939/
UNH-IOL DPDK Community Lab
To manage your email subscriptions, visit:
https://lab.dpdk.org/results/dashboard/preferences/subscriptions/
^ permalink raw reply [flat|nested] 8+ messages in thread
* |SUCCESS| [GIT MASTER] 7ae6d61bb00c6f143e61e0e3b79d03f81d6b3064
@ 2022-10-21 16:03 dpdklab
0 siblings, 0 replies; 8+ messages in thread
From: dpdklab @ 2022-10-21 16:03 UTC (permalink / raw)
To: Test Report; +Cc: dpdk-test-reports, Akhil Goyal
[-- Attachment #1: Type: text/plain, Size: 959 bytes --]
_Functional Testing PASS_
Branch: dpdk-next-crypto
7ae6d61bb00c6f143e61e0e3b79d03f81d6b3064 --> functional testing pass
Test environment and result as below:
Ubuntu 20.04 ARM
Kernel: 4.15.0-132-generic
Compiler: gcc 7.5
NIC: Arm Intel Corporation Ethernet Converged Network Adapter XL710-QDA2 40000 Mbps
Target: x86_64-native-linuxapp-gcc
Fail/Total: 0/2
Ubuntu 20.04
Kernel: 4.15.0-generic
Compiler: gcc 7.4
NIC: Intel Corporation Ethernet Converged Network Adapter 82599ES 10000 Mbps
Target: x86_64-native-linuxapp-gcc
Fail/Total: 0/2
Ubuntu 20.04
Kernel: 4.15.0-generic
Compiler: gcc 7.4
NIC: Intel Corporation Ethernet Converged Network Adapter XL710-QDA2 40000 Mbps
Target: x86_64-native-linuxapp-gcc
Fail/Total: 0/2
To view detailed results, visit:
https://lab.dpdk.org/results/dashboard/tarballs/21939/
UNH-IOL DPDK Community Lab
To manage your email subscriptions, visit:
https://lab.dpdk.org/results/dashboard/preferences/subscriptions/
^ permalink raw reply [flat|nested] 8+ messages in thread
* |SUCCESS| [GIT MASTER] 7ae6d61bb00c6f143e61e0e3b79d03f81d6b3064
@ 2022-10-21 15:51 dpdklab
0 siblings, 0 replies; 8+ messages in thread
From: dpdklab @ 2022-10-21 15:51 UTC (permalink / raw)
To: Test Report; +Cc: dpdk-test-reports, Akhil Goyal
[-- Attachment #1: Type: text/plain, Size: 1579 bytes --]
_Performance Testing PASS_
Branch: dpdk-next-crypto
7ae6d61bb00c6f143e61e0e3b79d03f81d6b3064 --> performance testing pass
Test environment and result as below:
Ubuntu 20.04
Kernel: 4.15.0-generic
Compiler: gcc 7.4
NIC: Intel Corporation Ethernet Converged Network Adapter XL710-QDA2 40000 Mbps
Target: x86_64-native-linuxapp-gcc
Fail/Total: 0/4
Detail performance results:
+----------+-------------+---------+------------+------------------------------+
| num_cpus | num_threads | txd/rxd | frame_size | throughput difference from |
| | | | | expected |
+==========+=============+=========+============+==============================+
| 1 | 2 | 512 | 64 | -1.4% |
+----------+-------------+---------+------------+------------------------------+
| 1 | 2 | 2048 | 64 | 3.1% |
+----------+-------------+---------+------------+------------------------------+
| 1 | 1 | 512 | 64 | 3.2% |
+----------+-------------+---------+------------+------------------------------+
| 1 | 1 | 2048 | 64 | -1.6% |
+----------+-------------+---------+------------+------------------------------+
To view detailed results, visit:
https://lab.dpdk.org/results/dashboard/tarballs/21939/
UNH-IOL DPDK Community Lab
To manage your email subscriptions, visit:
https://lab.dpdk.org/results/dashboard/preferences/subscriptions/
^ permalink raw reply [flat|nested] 8+ messages in thread
* |SUCCESS| [GIT MASTER] 7ae6d61bb00c6f143e61e0e3b79d03f81d6b3064
@ 2022-10-21 15:48 dpdklab
0 siblings, 0 replies; 8+ messages in thread
From: dpdklab @ 2022-10-21 15:48 UTC (permalink / raw)
To: Ali Alnubani, Test Report; +Cc: dpdk-test-reports, Akhil Goyal
[-- Attachment #1: Type: text/plain, Size: 1860 bytes --]
_Performance Testing PASS_
Branch: dpdk-next-crypto
7ae6d61bb00c6f143e61e0e3b79d03f81d6b3064 --> performance testing pass
Test environment and result as below:
Ubuntu 20.04
Kernel: 4.15.0-generic
Compiler: gcc 7.4
NIC: Mellanox ConnectX-5 100000 Mbps
Target: x86_64-native-linuxapp-gcc
Fail/Total: 0/6
Detail performance results:
+------------+---------+----------+-------------+------------------------------+
| frame_size | txd/rxd | num_cpus | num_threads | throughput difference from |
| | | | | expected |
+============+=========+==========+=============+==============================+
| 64 | 256 | 1 | 1 | 0.2% |
+------------+---------+----------+-------------+------------------------------+
| 128 | 256 | 1 | 1 | 0.1% |
+------------+---------+----------+-------------+------------------------------+
| 1024 | 256 | 1 | 1 | -0.0% |
+------------+---------+----------+-------------+------------------------------+
| 256 | 256 | 1 | 1 | -0.2% |
+------------+---------+----------+-------------+------------------------------+
| 1518 | 256 | 1 | 1 | -0.2% |
+------------+---------+----------+-------------+------------------------------+
| 512 | 256 | 1 | 1 | -0.3% |
+------------+---------+----------+-------------+------------------------------+
To view detailed results, visit:
https://lab.dpdk.org/results/dashboard/tarballs/21939/
UNH-IOL DPDK Community Lab
To manage your email subscriptions, visit:
https://lab.dpdk.org/results/dashboard/preferences/subscriptions/
^ permalink raw reply [flat|nested] 8+ messages in thread
* |SUCCESS| [GIT MASTER] 7ae6d61bb00c6f143e61e0e3b79d03f81d6b3064
@ 2022-10-21 15:47 dpdklab
0 siblings, 0 replies; 8+ messages in thread
From: dpdklab @ 2022-10-21 15:47 UTC (permalink / raw)
To: Test Report; +Cc: dpdk-test-reports, Akhil Goyal
[-- Attachment #1: Type: text/plain, Size: 772 bytes --]
_Functional Testing PASS_
Branch: dpdk-next-crypto
7ae6d61bb00c6f143e61e0e3b79d03f81d6b3064 --> functional testing pass
Test environment and result as below:
Ubuntu 20.04 ARM
Kernel: 4.15.0-132-generic
Compiler: gcc 7.5
NIC: Arm Intel Corporation Ethernet Converged Network Adapter XL710-QDA2 40000 Mbps
Target: x86_64-native-linuxapp-gcc
Fail/Total: 0/2
Ubuntu 20.04
Kernel: 4.15.0-generic
Compiler: gcc 7.4
NIC: Intel Corporation Ethernet Converged Network Adapter 82599ES 10000 Mbps
Target: x86_64-native-linuxapp-gcc
Fail/Total: 0/2
To view detailed results, visit:
https://lab.dpdk.org/results/dashboard/tarballs/21939/
UNH-IOL DPDK Community Lab
To manage your email subscriptions, visit:
https://lab.dpdk.org/results/dashboard/preferences/subscriptions/
^ permalink raw reply [flat|nested] 8+ messages in thread
* |SUCCESS| [GIT MASTER] 7ae6d61bb00c6f143e61e0e3b79d03f81d6b3064
@ 2022-10-21 15:45 dpdklab
0 siblings, 0 replies; 8+ messages in thread
From: dpdklab @ 2022-10-21 15:45 UTC (permalink / raw)
To: Test Report; +Cc: dpdk-test-reports, Akhil Goyal
[-- Attachment #1: Type: text/plain, Size: 588 bytes --]
_Functional Testing PASS_
Branch: dpdk-next-crypto
7ae6d61bb00c6f143e61e0e3b79d03f81d6b3064 --> functional testing pass
Test environment and result as below:
Ubuntu 20.04 ARM
Kernel: 4.15.0-132-generic
Compiler: gcc 7.5
NIC: Arm Intel Corporation Ethernet Converged Network Adapter XL710-QDA2 40000 Mbps
Target: x86_64-native-linuxapp-gcc
Fail/Total: 0/2
To view detailed results, visit:
https://lab.dpdk.org/results/dashboard/tarballs/21939/
UNH-IOL DPDK Community Lab
To manage your email subscriptions, visit:
https://lab.dpdk.org/results/dashboard/preferences/subscriptions/
^ permalink raw reply [flat|nested] 8+ messages in thread
end of thread, other threads:[~2022-10-21 16:10 UTC | newest]
Thread overview: 8+ messages (download: mbox.gz / follow: Atom feed)
-- links below jump to the message on this page --
2022-10-21 16:01 |SUCCESS| [GIT MASTER] 7ae6d61bb00c6f143e61e0e3b79d03f81d6b3064 dpdklab
-- strict thread matches above, loose matches on Subject: below --
2022-10-21 16:10 dpdklab
2022-10-21 16:07 dpdklab
2022-10-21 16:03 dpdklab
2022-10-21 15:51 dpdklab
2022-10-21 15:48 dpdklab
2022-10-21 15:47 dpdklab
2022-10-21 15:45 dpdklab
This is a public inbox, see mirroring instructions
for how to clone and mirror all data and code used for this inbox;
as well as URLs for NNTP newsgroup(s).