* |SUCCESS| [GIT MASTER] 77f604f48de243819f35a0d89f2effc09a602264
@ 2022-10-26 16:08 dpdklab
0 siblings, 0 replies; 9+ messages in thread
From: dpdklab @ 2022-10-26 16:08 UTC (permalink / raw)
To: Test Report; +Cc: dpdk-test-reports, Akhil Goyal
[-- Attachment #1: Type: text/plain, Size: 1579 bytes --]
_Performance Testing PASS_
Branch: dpdk-next-crypto
77f604f48de243819f35a0d89f2effc09a602264 --> performance testing pass
Test environment and result as below:
Ubuntu 20.04
Kernel: 4.15.0-generic
Compiler: gcc 7.4
NIC: Intel Corporation Ethernet Converged Network Adapter XL710-QDA2 40000 Mbps
Target: x86_64-native-linuxapp-gcc
Fail/Total: 0/4
Detail performance results:
+----------+-------------+---------+------------+------------------------------+
| num_cpus | num_threads | txd/rxd | frame_size | throughput difference from |
| | | | | expected |
+==========+=============+=========+============+==============================+
| 1 | 2 | 512 | 64 | 0.0% |
+----------+-------------+---------+------------+------------------------------+
| 1 | 2 | 2048 | 64 | 1.9% |
+----------+-------------+---------+------------+------------------------------+
| 1 | 1 | 512 | 64 | 0.3% |
+----------+-------------+---------+------------+------------------------------+
| 1 | 1 | 2048 | 64 | 2.6% |
+----------+-------------+---------+------------+------------------------------+
To view detailed results, visit:
https://lab.dpdk.org/results/dashboard/tarballs/22001/
UNH-IOL DPDK Community Lab
To manage your email subscriptions, visit:
https://lab.dpdk.org/results/dashboard/preferences/subscriptions/
^ permalink raw reply [flat|nested] 9+ messages in thread
* |SUCCESS| [GIT MASTER] 77f604f48de243819f35a0d89f2effc09a602264
@ 2022-10-26 16:28 dpdklab
0 siblings, 0 replies; 9+ messages in thread
From: dpdklab @ 2022-10-26 16:28 UTC (permalink / raw)
To: Test Report; +Cc: dpdk-test-reports, Akhil Goyal
[-- Attachment #1: Type: text/plain, Size: 3088 bytes --]
_Performance Testing PASS_
Branch: dpdk-next-crypto
77f604f48de243819f35a0d89f2effc09a602264 --> performance testing pass
Test environment and result as below:
Ubuntu 20.04
Kernel: 4.15.0-generic
Compiler: gcc 7.4
NIC: Intel Corporation Ethernet Converged Network Adapter XL710-QDA2 40000 Mbps
Target: x86_64-native-linuxapp-gcc
Fail/Total: 0/4
Detail performance results:
+----------+-------------+---------+------------+------------------------------+
| num_cpus | num_threads | txd/rxd | frame_size | throughput difference from |
| | | | | expected |
+==========+=============+=========+============+==============================+
| 1 | 2 | 512 | 64 | 0.0% |
+----------+-------------+---------+------------+------------------------------+
| 1 | 2 | 2048 | 64 | 1.9% |
+----------+-------------+---------+------------+------------------------------+
| 1 | 1 | 512 | 64 | 0.3% |
+----------+-------------+---------+------------+------------------------------+
| 1 | 1 | 2048 | 64 | 2.6% |
+----------+-------------+---------+------------+------------------------------+
Ubuntu 20.04
Kernel: 4.15.0-generic
Compiler: gcc 7.4
NIC: Intel Corporation Ethernet Converged Network Adapter 82599ES 10000 Mbps
Target: x86_64-native-linuxapp-gcc
Fail/Total: 0/6
Detail performance results:
+----------+-------------+---------+------------+------------------------------+
| num_cpus | num_threads | txd/rxd | frame_size | throughput difference from |
| | | | | expected |
+==========+=============+=========+============+==============================+
| 1 | 2 | 128 | 64 | 0.0% |
+----------+-------------+---------+------------+------------------------------+
| 1 | 2 | 512 | 64 | -0.0% |
+----------+-------------+---------+------------+------------------------------+
| 1 | 2 | 2048 | 64 | 0.4% |
+----------+-------------+---------+------------+------------------------------+
| 1 | 1 | 128 | 64 | -0.1% |
+----------+-------------+---------+------------+------------------------------+
| 1 | 1 | 512 | 64 | 0.1% |
+----------+-------------+---------+------------+------------------------------+
| 1 | 1 | 2048 | 64 | 0.3% |
+----------+-------------+---------+------------+------------------------------+
To view detailed results, visit:
https://lab.dpdk.org/results/dashboard/tarballs/22001/
UNH-IOL DPDK Community Lab
To manage your email subscriptions, visit:
https://lab.dpdk.org/results/dashboard/preferences/subscriptions/
^ permalink raw reply [flat|nested] 9+ messages in thread
* |SUCCESS| [GIT MASTER] 77f604f48de243819f35a0d89f2effc09a602264
@ 2022-10-26 16:20 dpdklab
0 siblings, 0 replies; 9+ messages in thread
From: dpdklab @ 2022-10-26 16:20 UTC (permalink / raw)
To: Test Report; +Cc: dpdk-test-reports, Akhil Goyal
[-- Attachment #1: Type: text/plain, Size: 959 bytes --]
_Functional Testing PASS_
Branch: dpdk-next-crypto
77f604f48de243819f35a0d89f2effc09a602264 --> functional testing pass
Test environment and result as below:
Ubuntu 20.04 ARM
Kernel: 4.15.0-132-generic
Compiler: gcc 7.5
NIC: Arm Intel Corporation Ethernet Converged Network Adapter XL710-QDA2 40000 Mbps
Target: x86_64-native-linuxapp-gcc
Fail/Total: 0/2
Ubuntu 20.04
Kernel: 4.15.0-generic
Compiler: gcc 7.4
NIC: Intel Corporation Ethernet Converged Network Adapter 82599ES 10000 Mbps
Target: x86_64-native-linuxapp-gcc
Fail/Total: 0/2
Ubuntu 20.04
Kernel: 4.15.0-generic
Compiler: gcc 7.4
NIC: Intel Corporation Ethernet Converged Network Adapter XL710-QDA2 40000 Mbps
Target: x86_64-native-linuxapp-gcc
Fail/Total: 0/2
To view detailed results, visit:
https://lab.dpdk.org/results/dashboard/tarballs/22001/
UNH-IOL DPDK Community Lab
To manage your email subscriptions, visit:
https://lab.dpdk.org/results/dashboard/preferences/subscriptions/
^ permalink raw reply [flat|nested] 9+ messages in thread
* |SUCCESS| [GIT MASTER] 77f604f48de243819f35a0d89f2effc09a602264
@ 2022-10-26 16:09 dpdklab
0 siblings, 0 replies; 9+ messages in thread
From: dpdklab @ 2022-10-26 16:09 UTC (permalink / raw)
To: Test Report; +Cc: dpdk-test-reports, Akhil Goyal
[-- Attachment #1: Type: text/plain, Size: 772 bytes --]
_Functional Testing PASS_
Branch: dpdk-next-crypto
77f604f48de243819f35a0d89f2effc09a602264 --> functional testing pass
Test environment and result as below:
Ubuntu 20.04 ARM
Kernel: 4.15.0-132-generic
Compiler: gcc 7.5
NIC: Arm Intel Corporation Ethernet Converged Network Adapter XL710-QDA2 40000 Mbps
Target: x86_64-native-linuxapp-gcc
Fail/Total: 0/2
Ubuntu 20.04
Kernel: 4.15.0-generic
Compiler: gcc 7.4
NIC: Intel Corporation Ethernet Converged Network Adapter 82599ES 10000 Mbps
Target: x86_64-native-linuxapp-gcc
Fail/Total: 0/2
To view detailed results, visit:
https://lab.dpdk.org/results/dashboard/tarballs/22001/
UNH-IOL DPDK Community Lab
To manage your email subscriptions, visit:
https://lab.dpdk.org/results/dashboard/preferences/subscriptions/
^ permalink raw reply [flat|nested] 9+ messages in thread
* |SUCCESS| [GIT MASTER] 77f604f48de243819f35a0d89f2effc09a602264
@ 2022-10-26 16:03 dpdklab
0 siblings, 0 replies; 9+ messages in thread
From: dpdklab @ 2022-10-26 16:03 UTC (permalink / raw)
To: Test Report; +Cc: dpdklab, Akhil Goyal
[-- Attachment #1: Type: text/plain, Size: 918 bytes --]
_Testing PASS_
Branch: dpdk-next-crypto
77f604f48de243819f35a0d89f2effc09a602264 --> testing pass
Test environment and result as below:
+-------------------------------+--------------------+
| Environment | dpdk_meson_compile |
+===============================+====================+
| Ubuntu 20.04 ARM GCC Native | PASS |
+-------------------------------+--------------------+
| Ubuntu 20.04 ARM Clang Native | PASS |
+-------------------------------+--------------------+
Ubuntu 20.04 ARM GCC Native
Kernel: 5.4.0-53-generic
Compiler: gcc 9.3
Ubuntu 20.04 ARM Clang Native
Kernel: 5.4.0-53-generic
Compiler: clang 10.0.0-4ubuntu1
To view detailed results, visit:
https://lab.dpdk.org/results/dashboard/tarballs/22001/
UNH-IOL DPDK Community Lab
To manage your email subscriptions, visit:
https://lab.dpdk.org/results/dashboard/preferences/subscriptions/
^ permalink raw reply [flat|nested] 9+ messages in thread
* |SUCCESS| [GIT MASTER] 77f604f48de243819f35a0d89f2effc09a602264
@ 2022-10-26 16:03 dpdklab
0 siblings, 0 replies; 9+ messages in thread
From: dpdklab @ 2022-10-26 16:03 UTC (permalink / raw)
To: Test Report; +Cc: dpdklab, Akhil Goyal
[-- Attachment #1: Type: text/plain, Size: 890 bytes --]
_Testing PASS_
Branch: dpdk-next-crypto
77f604f48de243819f35a0d89f2effc09a602264 --> testing pass
Test environment and result as below:
+-------------------------------+----------------+
| Environment | dpdk_unit_test |
+===============================+================+
| Ubuntu 20.04 ARM GCC Native | PASS |
+-------------------------------+----------------+
| Ubuntu 20.04 ARM Clang Native | PASS |
+-------------------------------+----------------+
Ubuntu 20.04 ARM GCC Native
Kernel: 5.4.0-53-generic
Compiler: gcc 9.3
Ubuntu 20.04 ARM Clang Native
Kernel: 5.4.0-53-generic
Compiler: clang 10.0.0-4ubuntu1
To view detailed results, visit:
https://lab.dpdk.org/results/dashboard/tarballs/22001/
UNH-IOL DPDK Community Lab
To manage your email subscriptions, visit:
https://lab.dpdk.org/results/dashboard/preferences/subscriptions/
^ permalink raw reply [flat|nested] 9+ messages in thread
* |SUCCESS| [GIT MASTER] 77f604f48de243819f35a0d89f2effc09a602264
@ 2022-10-26 15:50 dpdklab
0 siblings, 0 replies; 9+ messages in thread
From: dpdklab @ 2022-10-26 15:50 UTC (permalink / raw)
To: Ali Alnubani, Test Report; +Cc: dpdk-test-reports, Akhil Goyal
[-- Attachment #1: Type: text/plain, Size: 1860 bytes --]
_Performance Testing PASS_
Branch: dpdk-next-crypto
77f604f48de243819f35a0d89f2effc09a602264 --> performance testing pass
Test environment and result as below:
Ubuntu 20.04
Kernel: 4.15.0-generic
Compiler: gcc 7.4
NIC: Mellanox ConnectX-5 100000 Mbps
Target: x86_64-native-linuxapp-gcc
Fail/Total: 0/6
Detail performance results:
+------------+---------+----------+-------------+------------------------------+
| frame_size | txd/rxd | num_cpus | num_threads | throughput difference from |
| | | | | expected |
+============+=========+==========+=============+==============================+
| 64 | 256 | 1 | 1 | -0.1% |
+------------+---------+----------+-------------+------------------------------+
| 128 | 256 | 1 | 1 | -0.2% |
+------------+---------+----------+-------------+------------------------------+
| 1024 | 256 | 1 | 1 | -0.1% |
+------------+---------+----------+-------------+------------------------------+
| 256 | 256 | 1 | 1 | -0.1% |
+------------+---------+----------+-------------+------------------------------+
| 1518 | 256 | 1 | 1 | 0.0% |
+------------+---------+----------+-------------+------------------------------+
| 512 | 256 | 1 | 1 | 0.1% |
+------------+---------+----------+-------------+------------------------------+
To view detailed results, visit:
https://lab.dpdk.org/results/dashboard/tarballs/22001/
UNH-IOL DPDK Community Lab
To manage your email subscriptions, visit:
https://lab.dpdk.org/results/dashboard/preferences/subscriptions/
^ permalink raw reply [flat|nested] 9+ messages in thread
* |SUCCESS| [GIT MASTER] 77f604f48de243819f35a0d89f2effc09a602264
@ 2022-10-26 15:47 dpdklab
0 siblings, 0 replies; 9+ messages in thread
From: dpdklab @ 2022-10-26 15:47 UTC (permalink / raw)
To: Test Report; +Cc: dpdk-test-reports, Akhil Goyal
[-- Attachment #1: Type: text/plain, Size: 588 bytes --]
_Functional Testing PASS_
Branch: dpdk-next-crypto
77f604f48de243819f35a0d89f2effc09a602264 --> functional testing pass
Test environment and result as below:
Ubuntu 20.04 ARM
Kernel: 4.15.0-132-generic
Compiler: gcc 7.5
NIC: Arm Intel Corporation Ethernet Converged Network Adapter XL710-QDA2 40000 Mbps
Target: x86_64-native-linuxapp-gcc
Fail/Total: 0/2
To view detailed results, visit:
https://lab.dpdk.org/results/dashboard/tarballs/22001/
UNH-IOL DPDK Community Lab
To manage your email subscriptions, visit:
https://lab.dpdk.org/results/dashboard/preferences/subscriptions/
^ permalink raw reply [flat|nested] 9+ messages in thread
* |SUCCESS| [GIT MASTER] 77f604f48de243819f35a0d89f2effc09a602264
@ 2022-10-26 15:43 dpdklab
0 siblings, 0 replies; 9+ messages in thread
From: dpdklab @ 2022-10-26 15:43 UTC (permalink / raw)
To: Test Report; +Cc: dpdk-test-reports, Akhil Goyal
[-- Attachment #1: Type: text/plain, Size: 653 bytes --]
_Testing PASS_
Branch: dpdk-next-crypto
77f604f48de243819f35a0d89f2effc09a602264 --> testing pass
Test environment and result as below:
+---------------------+----------------+
| Environment | dpdk_unit_test |
+=====================+================+
| Windows Server 2019 | PASS |
+---------------------+----------------+
Windows Server 2019
Kernel: 10.0
Compiler: clang 14.0 and gcc 8.1.0 (MinGW)
To view detailed results, visit:
https://lab.dpdk.org/results/dashboard/tarballs/22001/
UNH-IOL DPDK Community Lab
To manage your email subscriptions, visit:
https://lab.dpdk.org/results/dashboard/preferences/subscriptions/
^ permalink raw reply [flat|nested] 9+ messages in thread
end of thread, other threads:[~2022-10-26 16:28 UTC | newest]
Thread overview: 9+ messages (download: mbox.gz / follow: Atom feed)
-- links below jump to the message on this page --
2022-10-26 16:08 |SUCCESS| [GIT MASTER] 77f604f48de243819f35a0d89f2effc09a602264 dpdklab
-- strict thread matches above, loose matches on Subject: below --
2022-10-26 16:28 dpdklab
2022-10-26 16:20 dpdklab
2022-10-26 16:09 dpdklab
2022-10-26 16:03 dpdklab
2022-10-26 16:03 dpdklab
2022-10-26 15:50 dpdklab
2022-10-26 15:47 dpdklab
2022-10-26 15:43 dpdklab
This is a public inbox, see mirroring instructions
for how to clone and mirror all data and code used for this inbox;
as well as URLs for NNTP newsgroup(s).