* |SUCCESS| pw119165 [PATCH] [v5] crypto/ipsec_mb: multi-process IPC request handler
@ 2022-10-26 21:12 dpdklab
0 siblings, 0 replies; 9+ messages in thread
From: dpdklab @ 2022-10-26 21:12 UTC (permalink / raw)
To: Test Report; +Cc: dpdklab, David Marchand, Thomas Monjalon
[-- Attachment #1: Type: text/plain, Size: 1098 bytes --]
Test-Label: iol-aarch64-unit-testing
Test-Status: SUCCESS
http://dpdk.org/patch/119165
_Testing PASS_
Submitter: Kai Ji <kai.ji@intel.com>
Date: Wednesday, October 26 2022 13:19:02
DPDK git baseline: Repo:dpdk
Branch: master
CommitID:011c617ca20858ce0ad20625e9d3e4c3d6252047
119165 --> testing pass
Test environment and result as below:
+-------------------------------+----------------+
| Environment | dpdk_unit_test |
+===============================+================+
| Ubuntu 20.04 ARM GCC Native | PASS |
+-------------------------------+----------------+
| Ubuntu 20.04 ARM Clang Native | PASS |
+-------------------------------+----------------+
Ubuntu 20.04 ARM GCC Native
Kernel: 5.4.0-53-generic
Compiler: gcc 9.3
Ubuntu 20.04 ARM Clang Native
Kernel: 5.4.0-53-generic
Compiler: clang 10.0.0-4ubuntu1
To view detailed results, visit:
https://lab.dpdk.org/results/dashboard/patchsets/24207/
UNH-IOL DPDK Community Lab
To manage your email subscriptions, visit:
https://lab.dpdk.org/results/dashboard/preferences/subscriptions/
^ permalink raw reply [flat|nested] 9+ messages in thread
* |SUCCESS| pw119165 [PATCH] [v5] crypto/ipsec_mb: multi-process IPC request handler
@ 2022-10-26 21:33 dpdklab
0 siblings, 0 replies; 9+ messages in thread
From: dpdklab @ 2022-10-26 21:33 UTC (permalink / raw)
To: Test Report; +Cc: dpdk-test-reports, David Marchand, Thomas Monjalon
[-- Attachment #1: Type: text/plain, Size: 1163 bytes --]
Test-Label: iol-intel-Functional
Test-Status: SUCCESS
http://dpdk.org/patch/119165
_Functional Testing PASS_
Submitter: Kai Ji <kai.ji@intel.com>
Date: Wednesday, October 26 2022 13:19:02
DPDK git baseline: Repo:dpdk
Branch: master
CommitID:011c617ca20858ce0ad20625e9d3e4c3d6252047
119165 --> functional testing pass
Test environment and result as below:
Ubuntu 20.04 ARM
Kernel: 4.15.0-132-generic
Compiler: gcc 7.5
NIC: Arm Intel Corporation Ethernet Converged Network Adapter XL710-QDA2 40000 Mbps
Target: x86_64-native-linuxapp-gcc
Fail/Total: 0/2
Ubuntu 20.04
Kernel: 4.15.0-generic
Compiler: gcc 7.4
NIC: Intel Corporation Ethernet Converged Network Adapter XL710-QDA2 40000 Mbps
Target: x86_64-native-linuxapp-gcc
Fail/Total: 0/2
Ubuntu 20.04
Kernel: 4.15.0-generic
Compiler: gcc 7.4
NIC: Intel Corporation Ethernet Converged Network Adapter 82599ES 10000 Mbps
Target: x86_64-native-linuxapp-gcc
Fail/Total: 0/2
To view detailed results, visit:
https://lab.dpdk.org/results/dashboard/patchsets/24207/
UNH-IOL DPDK Community Lab
To manage your email subscriptions, visit:
https://lab.dpdk.org/results/dashboard/preferences/subscriptions/
^ permalink raw reply [flat|nested] 9+ messages in thread
* |SUCCESS| pw119165 [PATCH] [v5] crypto/ipsec_mb: multi-process IPC request handler
@ 2022-10-26 21:26 dpdklab
0 siblings, 0 replies; 9+ messages in thread
From: dpdklab @ 2022-10-26 21:26 UTC (permalink / raw)
To: Test Report; +Cc: dpdk-test-reports, David Marchand, Thomas Monjalon
[-- Attachment #1: Type: text/plain, Size: 3293 bytes --]
Test-Label: iol-intel-Performance
Test-Status: SUCCESS
http://dpdk.org/patch/119165
_Performance Testing PASS_
Submitter: Kai Ji <kai.ji@intel.com>
Date: Wednesday, October 26 2022 13:19:02
DPDK git baseline: Repo:dpdk
Branch: master
CommitID:011c617ca20858ce0ad20625e9d3e4c3d6252047
119165 --> performance testing pass
Test environment and result as below:
Ubuntu 20.04
Kernel: 4.15.0-generic
Compiler: gcc 7.4
NIC: Intel Corporation Ethernet Converged Network Adapter XL710-QDA2 40000 Mbps
Target: x86_64-native-linuxapp-gcc
Fail/Total: 0/4
Detail performance results:
+----------+-------------+---------+------------+------------------------------+
| num_cpus | num_threads | txd/rxd | frame_size | throughput difference from |
| | | | | expected |
+==========+=============+=========+============+==============================+
| 1 | 2 | 512 | 64 | -0.2% |
+----------+-------------+---------+------------+------------------------------+
| 1 | 2 | 2048 | 64 | -0.4% |
+----------+-------------+---------+------------+------------------------------+
| 1 | 1 | 512 | 64 | 2.3% |
+----------+-------------+---------+------------+------------------------------+
| 1 | 1 | 2048 | 64 | -0.7% |
+----------+-------------+---------+------------+------------------------------+
Ubuntu 20.04
Kernel: 4.15.0-generic
Compiler: gcc 7.4
NIC: Intel Corporation Ethernet Converged Network Adapter 82599ES 10000 Mbps
Target: x86_64-native-linuxapp-gcc
Fail/Total: 0/6
Detail performance results:
+----------+-------------+---------+------------+------------------------------+
| num_cpus | num_threads | txd/rxd | frame_size | throughput difference from |
| | | | | expected |
+==========+=============+=========+============+==============================+
| 1 | 2 | 128 | 64 | 0.2% |
+----------+-------------+---------+------------+------------------------------+
| 1 | 2 | 512 | 64 | -0.2% |
+----------+-------------+---------+------------+------------------------------+
| 1 | 2 | 2048 | 64 | 0.0% |
+----------+-------------+---------+------------+------------------------------+
| 1 | 1 | 128 | 64 | -0.8% |
+----------+-------------+---------+------------+------------------------------+
| 1 | 1 | 512 | 64 | -0.3% |
+----------+-------------+---------+------------+------------------------------+
| 1 | 1 | 2048 | 64 | 0.1% |
+----------+-------------+---------+------------+------------------------------+
To view detailed results, visit:
https://lab.dpdk.org/results/dashboard/patchsets/24207/
UNH-IOL DPDK Community Lab
To manage your email subscriptions, visit:
https://lab.dpdk.org/results/dashboard/preferences/subscriptions/
^ permalink raw reply [flat|nested] 9+ messages in thread
* |SUCCESS| pw119165 [PATCH] [v5] crypto/ipsec_mb: multi-process IPC request handler
@ 2022-10-26 21:20 dpdklab
0 siblings, 0 replies; 9+ messages in thread
From: dpdklab @ 2022-10-26 21:20 UTC (permalink / raw)
To: Test Report; +Cc: dpdk-test-reports, David Marchand, Thomas Monjalon
[-- Attachment #1: Type: text/plain, Size: 1784 bytes --]
Test-Label: iol-intel-Performance
Test-Status: SUCCESS
http://dpdk.org/patch/119165
_Performance Testing PASS_
Submitter: Kai Ji <kai.ji@intel.com>
Date: Wednesday, October 26 2022 13:19:02
DPDK git baseline: Repo:dpdk
Branch: master
CommitID:011c617ca20858ce0ad20625e9d3e4c3d6252047
119165 --> performance testing pass
Test environment and result as below:
Ubuntu 20.04
Kernel: 4.15.0-generic
Compiler: gcc 7.4
NIC: Intel Corporation Ethernet Converged Network Adapter XL710-QDA2 40000 Mbps
Target: x86_64-native-linuxapp-gcc
Fail/Total: 0/4
Detail performance results:
+----------+-------------+---------+------------+------------------------------+
| num_cpus | num_threads | txd/rxd | frame_size | throughput difference from |
| | | | | expected |
+==========+=============+=========+============+==============================+
| 1 | 2 | 512 | 64 | -0.2% |
+----------+-------------+---------+------------+------------------------------+
| 1 | 2 | 2048 | 64 | -0.4% |
+----------+-------------+---------+------------+------------------------------+
| 1 | 1 | 512 | 64 | 2.3% |
+----------+-------------+---------+------------+------------------------------+
| 1 | 1 | 2048 | 64 | -0.7% |
+----------+-------------+---------+------------+------------------------------+
To view detailed results, visit:
https://lab.dpdk.org/results/dashboard/patchsets/24207/
UNH-IOL DPDK Community Lab
To manage your email subscriptions, visit:
https://lab.dpdk.org/results/dashboard/preferences/subscriptions/
^ permalink raw reply [flat|nested] 9+ messages in thread
* |SUCCESS| pw119165 [PATCH] [v5] crypto/ipsec_mb: multi-process IPC request handler
@ 2022-10-26 21:10 dpdklab
0 siblings, 0 replies; 9+ messages in thread
From: dpdklab @ 2022-10-26 21:10 UTC (permalink / raw)
To: Test Report; +Cc: dpdklab, David Marchand, Thomas Monjalon
[-- Attachment #1: Type: text/plain, Size: 1129 bytes --]
Test-Label: iol-aarch64-compile-testing
Test-Status: SUCCESS
http://dpdk.org/patch/119165
_Testing PASS_
Submitter: Kai Ji <kai.ji@intel.com>
Date: Wednesday, October 26 2022 13:19:02
DPDK git baseline: Repo:dpdk
Branch: master
CommitID:011c617ca20858ce0ad20625e9d3e4c3d6252047
119165 --> testing pass
Test environment and result as below:
+-------------------------------+--------------------+
| Environment | dpdk_meson_compile |
+===============================+====================+
| Ubuntu 20.04 ARM GCC Native | PASS |
+-------------------------------+--------------------+
| Ubuntu 20.04 ARM Clang Native | PASS |
+-------------------------------+--------------------+
Ubuntu 20.04 ARM GCC Native
Kernel: 5.4.0-53-generic
Compiler: gcc 9.3
Ubuntu 20.04 ARM Clang Native
Kernel: 5.4.0-53-generic
Compiler: clang 10.0.0-4ubuntu1
To view detailed results, visit:
https://lab.dpdk.org/results/dashboard/patchsets/24207/
UNH-IOL DPDK Community Lab
To manage your email subscriptions, visit:
https://lab.dpdk.org/results/dashboard/preferences/subscriptions/
^ permalink raw reply [flat|nested] 9+ messages in thread
* |SUCCESS| pw119165 [PATCH] [v5] crypto/ipsec_mb: multi-process IPC request handler
@ 2022-10-26 21:04 dpdklab
0 siblings, 0 replies; 9+ messages in thread
From: dpdklab @ 2022-10-26 21:04 UTC (permalink / raw)
To: Test Report; +Cc: dpdk-test-reports, David Marchand, Thomas Monjalon
[-- Attachment #1: Type: text/plain, Size: 979 bytes --]
Test-Label: iol-intel-Functional
Test-Status: SUCCESS
http://dpdk.org/patch/119165
_Functional Testing PASS_
Submitter: Kai Ji <kai.ji@intel.com>
Date: Wednesday, October 26 2022 13:19:02
DPDK git baseline: Repo:dpdk
Branch: master
CommitID:011c617ca20858ce0ad20625e9d3e4c3d6252047
119165 --> functional testing pass
Test environment and result as below:
Ubuntu 20.04 ARM
Kernel: 4.15.0-132-generic
Compiler: gcc 7.5
NIC: Arm Intel Corporation Ethernet Converged Network Adapter XL710-QDA2 40000 Mbps
Target: x86_64-native-linuxapp-gcc
Fail/Total: 0/2
Ubuntu 20.04
Kernel: 4.15.0-generic
Compiler: gcc 7.4
NIC: Intel Corporation Ethernet Converged Network Adapter XL710-QDA2 40000 Mbps
Target: x86_64-native-linuxapp-gcc
Fail/Total: 0/2
To view detailed results, visit:
https://lab.dpdk.org/results/dashboard/patchsets/24207/
UNH-IOL DPDK Community Lab
To manage your email subscriptions, visit:
https://lab.dpdk.org/results/dashboard/preferences/subscriptions/
^ permalink raw reply [flat|nested] 9+ messages in thread
* |SUCCESS| pw119165 [PATCH] [v5] crypto/ipsec_mb: multi-process IPC request handler
@ 2022-10-26 20:52 dpdklab
0 siblings, 0 replies; 9+ messages in thread
From: dpdklab @ 2022-10-26 20:52 UTC (permalink / raw)
To: Ali Alnubani, Test Report
Cc: dpdk-test-reports, David Marchand, Thomas Monjalon
[-- Attachment #1: Type: text/plain, Size: 2068 bytes --]
Test-Label: iol-mellanox-Performance
Test-Status: SUCCESS
http://dpdk.org/patch/119165
_Performance Testing PASS_
Submitter: Kai Ji <kai.ji@intel.com>
Date: Wednesday, October 26 2022 13:19:02
DPDK git baseline: Repo:dpdk
Branch: master
CommitID:011c617ca20858ce0ad20625e9d3e4c3d6252047
119165 --> performance testing pass
Test environment and result as below:
Ubuntu 20.04
Kernel: 4.15.0-generic
Compiler: gcc 7.4
NIC: Mellanox ConnectX-5 100000 Mbps
Target: x86_64-native-linuxapp-gcc
Fail/Total: 0/6
Detail performance results:
+------------+---------+----------+-------------+------------------------------+
| frame_size | txd/rxd | num_cpus | num_threads | throughput difference from |
| | | | | expected |
+============+=========+==========+=============+==============================+
| 64 | 256 | 1 | 1 | -0.2% |
+------------+---------+----------+-------------+------------------------------+
| 128 | 256 | 1 | 1 | -0.2% |
+------------+---------+----------+-------------+------------------------------+
| 1024 | 256 | 1 | 1 | 0.0% |
+------------+---------+----------+-------------+------------------------------+
| 256 | 256 | 1 | 1 | -0.3% |
+------------+---------+----------+-------------+------------------------------+
| 1518 | 256 | 1 | 1 | -0.3% |
+------------+---------+----------+-------------+------------------------------+
| 512 | 256 | 1 | 1 | 0.1% |
+------------+---------+----------+-------------+------------------------------+
To view detailed results, visit:
https://lab.dpdk.org/results/dashboard/patchsets/24207/
UNH-IOL DPDK Community Lab
To manage your email subscriptions, visit:
https://lab.dpdk.org/results/dashboard/preferences/subscriptions/
^ permalink raw reply [flat|nested] 9+ messages in thread
* |SUCCESS| pw119165 [PATCH] [v5] crypto/ipsec_mb: multi-process IPC request handler
@ 2022-10-26 20:44 dpdklab
0 siblings, 0 replies; 9+ messages in thread
From: dpdklab @ 2022-10-26 20:44 UTC (permalink / raw)
To: Test Report; +Cc: dpdk-test-reports, David Marchand, Thomas Monjalon
[-- Attachment #1: Type: text/plain, Size: 792 bytes --]
Test-Label: iol-intel-Functional
Test-Status: SUCCESS
http://dpdk.org/patch/119165
_Functional Testing PASS_
Submitter: Kai Ji <kai.ji@intel.com>
Date: Wednesday, October 26 2022 13:19:02
DPDK git baseline: Repo:dpdk
Branch: master
CommitID:011c617ca20858ce0ad20625e9d3e4c3d6252047
119165 --> functional testing pass
Test environment and result as below:
Ubuntu 20.04 ARM
Kernel: 4.15.0-132-generic
Compiler: gcc 7.5
NIC: Arm Intel Corporation Ethernet Converged Network Adapter XL710-QDA2 40000 Mbps
Target: x86_64-native-linuxapp-gcc
Fail/Total: 0/2
To view detailed results, visit:
https://lab.dpdk.org/results/dashboard/patchsets/24207/
UNH-IOL DPDK Community Lab
To manage your email subscriptions, visit:
https://lab.dpdk.org/results/dashboard/preferences/subscriptions/
^ permalink raw reply [flat|nested] 9+ messages in thread
* |SUCCESS| pw119165 [PATCH] [v5] crypto/ipsec_mb: multi-process IPC request handler
@ 2022-10-26 20:41 dpdklab
0 siblings, 0 replies; 9+ messages in thread
From: dpdklab @ 2022-10-26 20:41 UTC (permalink / raw)
To: Test Report; +Cc: dpdk-test-reports, David Marchand, Thomas Monjalon
[-- Attachment #1: Type: text/plain, Size: 860 bytes --]
Test-Label: iol-x86_64-unit-testing
Test-Status: SUCCESS
http://dpdk.org/patch/119165
_Testing PASS_
Submitter: Kai Ji <kai.ji@intel.com>
Date: Wednesday, October 26 2022 13:19:02
DPDK git baseline: Repo:dpdk
Branch: master
CommitID:011c617ca20858ce0ad20625e9d3e4c3d6252047
119165 --> testing pass
Test environment and result as below:
+---------------------+----------------+
| Environment | dpdk_unit_test |
+=====================+================+
| Windows Server 2019 | PASS |
+---------------------+----------------+
Windows Server 2019
Kernel: 10.0
Compiler: clang 14.0 and gcc 8.1.0 (MinGW)
To view detailed results, visit:
https://lab.dpdk.org/results/dashboard/patchsets/24207/
UNH-IOL DPDK Community Lab
To manage your email subscriptions, visit:
https://lab.dpdk.org/results/dashboard/preferences/subscriptions/
^ permalink raw reply [flat|nested] 9+ messages in thread
end of thread, other threads:[~2022-10-26 21:33 UTC | newest]
Thread overview: 9+ messages (download: mbox.gz / follow: Atom feed)
-- links below jump to the message on this page --
2022-10-26 21:12 |SUCCESS| pw119165 [PATCH] [v5] crypto/ipsec_mb: multi-process IPC request handler dpdklab
-- strict thread matches above, loose matches on Subject: below --
2022-10-26 21:33 dpdklab
2022-10-26 21:26 dpdklab
2022-10-26 21:20 dpdklab
2022-10-26 21:10 dpdklab
2022-10-26 21:04 dpdklab
2022-10-26 20:52 dpdklab
2022-10-26 20:44 dpdklab
2022-10-26 20:41 dpdklab
This is a public inbox, see mirroring instructions
for how to clone and mirror all data and code used for this inbox;
as well as URLs for NNTP newsgroup(s).