From: dpdklab@iol.unh.edu
To: Test Report <test-report@dpdk.org>
Cc: dpdklab@iol.unh.edu, David Marchand <david.marchand@redhat.com>,
Thomas Monjalon <thomas@monjalon.net>
Subject: |SUCCESS| pw121792 [PATCH] devtools: fix escaped space in grep pattern
Date: Tue, 10 Jan 2023 23:23:04 +0000 (UTC) [thread overview]
Message-ID: <20230110232304.53CE360092@dpdk-ubuntu.dpdklab.iol.unh.edu> (raw)
[-- Attachment #1: Type: text/plain, Size: 1446 bytes --]
Test-Label: iol-aarch64-unit-testing
Test-Status: SUCCESS
http://dpdk.org/patch/121792
_Testing PASS_
Submitter: Thomas Monjalon <thomas@monjalon.net>
Date: Tuesday, January 10 2023 21:33:17
DPDK git baseline: Repo:dpdk
Branch: master
CommitID:fe2c18a0a8b22703dec3add385a371ad819d7872
121792 --> testing pass
Test environment and result as below:
+-------------------------------+----------------+--------------+
| Environment | dpdk_unit_test | lpm_autotest |
+===============================+================+==============+
| Ubuntu 20.04 ARM GCC Native | PASS | SKIPPED |
+-------------------------------+----------------+--------------+
| Ubuntu 20.04 ARM Clang Native | PASS | SKIPPED |
+-------------------------------+----------------+--------------+
| Ubuntu 20.04 ARM SVE | SKIPPED | PASS |
+-------------------------------+----------------+--------------+
Ubuntu 20.04 ARM GCC Native
Kernel: 5.4.0-53-generic
Compiler: gcc 9.3
Ubuntu 20.04 ARM Clang Native
Kernel: 5.4.0-53-generic
Compiler: clang 10.0.0-4ubuntu1
Ubuntu 20.04 ARM SVE
Kernel: 5.4.0-80-generic
Compiler: gcc 10.3.0 (Ubuntu 10.3.0-1ubuntu1~20.04)
To view detailed results, visit:
https://lab.dpdk.org/results/dashboard/patchsets/24931/
UNH-IOL DPDK Community Lab
To manage your email subscriptions, visit:
https://lab.dpdk.org/results/dashboard/preferences/subscriptions/
next reply other threads:[~2023-01-10 23:23 UTC|newest]
Thread overview: 25+ messages / expand[flat|nested] mbox.gz Atom feed top
2023-01-10 23:23 dpdklab [this message]
-- strict thread matches above, loose matches on Subject: below --
2023-01-11 0:00 dpdklab
2023-01-10 23:59 dpdklab
2023-01-10 23:57 dpdklab
2023-01-10 23:52 dpdklab
2023-01-10 23:50 dpdklab
2023-01-10 23:36 dpdklab
2023-01-10 23:35 dpdklab
2023-01-10 23:35 dpdklab
2023-01-10 23:33 dpdklab
2023-01-10 23:31 dpdklab
2023-01-10 23:28 dpdklab
2023-01-10 23:21 dpdklab
2023-01-10 23:18 dpdklab
2023-01-10 23:10 dpdklab
2023-01-10 23:06 dpdklab
2023-01-10 22:49 dpdklab
2023-01-10 22:16 dpdklab
2023-01-10 22:09 dpdklab
2023-01-10 22:06 dpdklab
2023-01-10 22:05 dpdklab
2023-01-10 22:02 dpdklab
2023-01-10 22:01 dpdklab
[not found] <20230110213317.1146005-1-thomas@monjalon.net>
2023-01-10 21:25 ` qemudev
2023-01-10 21:29 ` qemudev
Reply instructions:
You may reply publicly to this message via plain-text email
using any one of the following methods:
* Save the following mbox file, import it into your mail client,
and reply-to-all from there: mbox
Avoid top-posting and favor interleaved quoting:
https://en.wikipedia.org/wiki/Posting_style#Interleaved_style
* Reply using the --to, --cc, and --in-reply-to
switches of git-send-email(1):
git send-email \
--in-reply-to=20230110232304.53CE360092@dpdk-ubuntu.dpdklab.iol.unh.edu \
--to=dpdklab@iol.unh.edu \
--cc=david.marchand@redhat.com \
--cc=test-report@dpdk.org \
--cc=thomas@monjalon.net \
/path/to/YOUR_REPLY
https://kernel.org/pub/software/scm/git/docs/git-send-email.html
* If your mail client supports setting the In-Reply-To header
via mailto: links, try the mailto: link
Be sure your reply has a Subject: header at the top and a blank line
before the message body.
This is a public inbox, see mirroring instructions
for how to clone and mirror all data and code used for this inbox;
as well as URLs for NNTP newsgroup(s).