From: dpdklab@iol.unh.edu
To: Test Report <test-report@dpdk.org>
Cc: dpdk-test-reports@iol.unh.edu,
David Marchand <david.marchand@redhat.com>,
Thomas Monjalon <thomas@monjalon.net>
Subject: |SUCCESS| pw122747-122757 [PATCH] [V3, 10/10] net/hns3: fix incorrect check for duplicate RSS rule
Date: Wed, 1 Feb 2023 02:54:05 +0000 (UTC) [thread overview]
Message-ID: <20230201025405.9A92D60BE2@dpdk-ubuntu.dpdklab.iol.unh.edu> (raw)
[-- Attachment #1: Type: text/plain, Size: 2736 bytes --]
Test-Label: iol-testing
Test-Status: SUCCESS
http://dpdk.org/patch/122757
_Testing PASS_
Submitter: Dongdong Liu <liudongdong3@huawei.com>
Date: Tuesday, January 31 2023 13:03:00
DPDK git baseline: Repo:dpdk
Branch: master
CommitID:2a211079a92e962bbd0ec81e425a6ffc32890e67
122747-122757 --> testing pass
Test environment and result as below:
+-------------------------------+----------------+--------------------+----------------------+
| Environment | dpdk_unit_test | dpdk_meson_compile | dpdk_mingw64_compile |
+===============================+================+====================+======================+
| Ubuntu 20.04 ARM GCC Native | PASS | SKIPPED | SKIPPED |
+-------------------------------+----------------+--------------------+----------------------+
| Ubuntu 20.04 ARM Clang Native | PASS | SKIPPED | SKIPPED |
+-------------------------------+----------------+--------------------+----------------------+
| Windows Server 2019 | PASS | PASS | PASS |
+-------------------------------+----------------+--------------------+----------------------+
| RHEL8 | PASS | SKIPPED | SKIPPED |
+-------------------------------+----------------+--------------------+----------------------+
| CentOS Stream 8 | PASS | SKIPPED | SKIPPED |
+-------------------------------+----------------+--------------------+----------------------+
| Debian Bullseye | PASS | SKIPPED | SKIPPED |
+-------------------------------+----------------+--------------------+----------------------+
| FreeBSD 13 | SKIPPED | PASS | SKIPPED |
+-------------------------------+----------------+--------------------+----------------------+
Ubuntu 20.04 ARM GCC Native
Kernel: 5.4.0-53-generic
Compiler: gcc 9.3
Ubuntu 20.04 ARM Clang Native
Kernel: 5.4.0-53-generic
Compiler: clang 10.0.0-4ubuntu1
Windows Server 2019
Kernel: 10.0
Compiler: clang 14.0 and gcc 8.1.0 (MinGW)
RHEL8
Kernel: 4.18.0-240.10.1.el8_3.x86_64
Compiler: gcc 8.3.1 20191121 (Red Hat 8.3.1-5)
CentOS Stream 8
Kernel: 4.18.0-240.10.1.el8_3.x86_64
Compiler: gcc 8.4.1 20200928
Debian Bullseye
Kernel: 5.4.0-122-generic
Compiler: gcc 10.2.1-6
FreeBSD 13
Kernel: 13.0
Compiler: clang 11.0.1
To view detailed results, visit:
https://lab.dpdk.org/results/dashboard/patchsets/25138/
UNH-IOL DPDK Community Lab
To manage your email subscriptions, visit:
https://lab.dpdk.org/results/dashboard/preferences/subscriptions/
next reply other threads:[~2023-02-01 2:54 UTC|newest]
Thread overview: 20+ messages / expand[flat|nested] mbox.gz Atom feed top
2023-02-01 2:54 dpdklab [this message]
-- strict thread matches above, loose matches on Subject: below --
2023-02-01 7:17 dpdklab
2023-02-01 6:01 dpdklab
2023-02-01 5:48 dpdklab
2023-02-01 3:38 dpdklab
2023-02-01 3:38 dpdklab
2023-02-01 3:31 dpdklab
2023-02-01 3:31 dpdklab
2023-02-01 2:54 dpdklab
2023-01-31 21:30 dpdklab
2023-01-31 19:07 dpdklab
2023-01-31 18:54 dpdklab
2023-01-31 18:47 dpdklab
2023-01-31 18:47 dpdklab
2023-01-31 18:25 dpdklab
2023-01-31 18:21 dpdklab
2023-01-31 18:20 dpdklab
2023-01-31 18:13 dpdklab
[not found] <20230131130300.24713-11-liudongdong3@huawei.com>
2023-01-31 12:57 ` |SUCCESS| pw122747-122757 [PATCH V3 " qemudev
2023-01-31 13:01 ` qemudev
Reply instructions:
You may reply publicly to this message via plain-text email
using any one of the following methods:
* Save the following mbox file, import it into your mail client,
and reply-to-all from there: mbox
Avoid top-posting and favor interleaved quoting:
https://en.wikipedia.org/wiki/Posting_style#Interleaved_style
* Reply using the --to, --cc, and --in-reply-to
switches of git-send-email(1):
git send-email \
--in-reply-to=20230201025405.9A92D60BE2@dpdk-ubuntu.dpdklab.iol.unh.edu \
--to=dpdklab@iol.unh.edu \
--cc=david.marchand@redhat.com \
--cc=dpdk-test-reports@iol.unh.edu \
--cc=test-report@dpdk.org \
--cc=thomas@monjalon.net \
/path/to/YOUR_REPLY
https://kernel.org/pub/software/scm/git/docs/git-send-email.html
* If your mail client supports setting the In-Reply-To header
via mailto: links, try the mailto: link
Be sure your reply has a Subject: header at the top and a blank line
before the message body.
This is a public inbox, see mirroring instructions
for how to clone and mirror all data and code used for this inbox;
as well as URLs for NNTP newsgroup(s).