* |SUCCESS| pw123060 [PATCH] net/mlx5: fix ESP item validation in Verbs interface
[not found] <20230205153955.1372-1-mkashani@nvidia.com>
@ 2023-02-05 15:32 ` qemudev
2023-02-05 15:35 ` qemudev
2023-02-05 15:40 ` |WARNING| " checkpatch
2 siblings, 0 replies; 4+ messages in thread
From: qemudev @ 2023-02-05 15:32 UTC (permalink / raw)
To: test-report
Test-Label: loongarch-compilation
Test-Status: SUCCESS
http://dpdk.org/patch/123060
_Compilation OK_
Submitter: Maayan Kashani <mkashani@nvidia.com>
Date: Sun, 5 Feb 2023 17:39:52 +0200
DPDK git baseline: Repo:dpdk-next-net-mlx
Branch: for-next-net
CommitID: 12d6232372ef328574fdc09969d391d6ea5e1f3b
123060 --> meson & ninja build successfully
Test environment and result as below:
+---------------------+----------------+
| Environment | compilation |
+---------------------+----------------+
| Loongnix-Server 8.3 | PASS |
+---------------------+----------------+
Loongnix-Server 8.3
Kernel: 4.19.190+
Compiler: gcc 8.3
^ permalink raw reply [flat|nested] 4+ messages in thread
* |SUCCESS| pw123060 [PATCH] net/mlx5: fix ESP item validation in Verbs interface
[not found] <20230205153955.1372-1-mkashani@nvidia.com>
2023-02-05 15:32 ` |SUCCESS| pw123060 [PATCH] net/mlx5: fix ESP item validation in Verbs interface qemudev
@ 2023-02-05 15:35 ` qemudev
2023-02-05 15:40 ` |WARNING| " checkpatch
2 siblings, 0 replies; 4+ messages in thread
From: qemudev @ 2023-02-05 15:35 UTC (permalink / raw)
To: test-report
Test-Label: loongarch-unit-testing
Test-Status: SUCCESS
http://dpdk.org/patch/123060
_Unit Testing PASS_
Submitter: Maayan Kashani <mkashani@nvidia.com>
Date: Sun, 5 Feb 2023 17:39:52 +0200
DPDK git baseline: Repo:dpdk-next-net-mlx
Branch: for-next-net
CommitID: 12d6232372ef328574fdc09969d391d6ea5e1f3b
123060 --> testing pass
Test environment and result as below:
+---------------------+----------------+
| Environment | dpdk_unit_test |
+---------------------+----------------+
| Loongnix-Server 8.3 | PASS |
+---------------------+----------------+
Loongnix-Server 8.3
Kernel: 4.19.190+
Compiler: gcc 8.3
Test result details:
1/103 DPDK:fast-tests / acl_autotest OK 2.83s
2/103 DPDK:fast-tests / atomic_autotest OK 7.38s
3/103 DPDK:fast-tests / bitmap_autotest OK 0.07s
4/103 DPDK:fast-tests / bpf_autotest OK 0.07s
5/103 DPDK:fast-tests / bpf_convert_autotest OK 0.07s
6/103 DPDK:fast-tests / bitops_autotest OK 0.07s
7/103 DPDK:fast-tests / byteorder_autotest OK 0.07s
8/103 DPDK:fast-tests / cksum_autotest OK 0.07s
9/103 DPDK:fast-tests / cmdline_autotest OK 0.07s
10/103 DPDK:fast-tests / common_autotest OK 0.92s
11/103 DPDK:fast-tests / cpuflags_autotest OK 0.07s
12/103 DPDK:fast-tests / debug_autotest OK 1.37s
13/103 DPDK:fast-tests / devargs_autotest OK 0.07s
14/103 DPDK:fast-tests / eal_flags_c_opt_autotest OK 0.62s
15/103 DPDK:fast-tests / eal_flags_main_opt_autotest OK 0.17s
16/103 DPDK:fast-tests / eal_flags_n_opt_autotest OK 0.17s
17/103 DPDK:fast-tests / eal_flags_hpet_autotest OK 0.12s
18/103 DPDK:fast-tests / eal_flags_no_huge_autotest OK 0.17s
19/103 DPDK:fast-tests / eal_flags_a_opt_autotest OK 0.22s
20/103 DPDK:fast-tests / eal_flags_b_opt_autotest OK 0.17s
21/103 DPDK:fast-tests / eal_flags_vdev_opt_autotest OK 0.17s
22/103 DPDK:fast-tests / eal_flags_r_opt_autotest OK 0.17s
23/103 DPDK:fast-tests / eal_flags_mem_autotest OK 0.52s
24/103 DPDK:fast-tests / eal_flags_file_prefix_autotest OK 22.26s
25/103 DPDK:fast-tests / eal_flags_misc_autotest OK 0.72s
26/103 DPDK:fast-tests / eal_fs_autotest OK 0.07s
27/103 DPDK:fast-tests / errno_autotest OK 0.07s
28/103 DPDK:fast-tests / ethdev_link_status OK 0.07s
29/103 DPDK:fast-tests / event_ring_autotest OK 0.07s
30/103 DPDK:fast-tests / fib_autotest OK 0.87s
31/103 DPDK:fast-tests / fib6_autotest OK 0.87s
32/103 DPDK:fast-tests / func_reentrancy_autotest OK 2.23s
33/103 DPDK:fast-tests / hash_autotest OK 1.02s
34/103 DPDK:fast-tests / interrupt_autotest OK 1.37s
35/103 DPDK:fast-tests / ipfrag_autotest OK 0.07s
36/103 DPDK:fast-tests / lcores_autotest OK 1.17s
37/103 DPDK:fast-tests / logs_autotest OK 0.07s
38/103 DPDK:fast-tests / lpm_autotest OK 5.90s
39/103 DPDK:fast-tests / lpm6_autotest OK 8.87s
40/103 DPDK:fast-tests / malloc_autotest OK 60.95s
41/103 DPDK:fast-tests / mbuf_autotest OK 6.83s
42/103 DPDK:fast-tests / mcslock_autotest OK 2.58s
43/103 DPDK:fast-tests / memcpy_autotest OK 6.63s
44/103 DPDK:fast-tests / memory_autotest OK 0.12s
45/103 DPDK:fast-tests / mempool_autotest OK 0.42s
46/103 DPDK:fast-tests / memzone_autotest OK 0.17s
47/103 DPDK:fast-tests / meter_autotest OK 0.07s
48/103 DPDK:fast-tests / multiprocess_autotest OK 0.17s
49/103 DPDK:fast-tests / per_lcore_autotest OK 0.17s
50/103 DPDK:fast-tests / pflock_autotest OK 0.87s
51/103 DPDK:fast-tests / prefetch_autotest OK 0.07s
52/103 DPDK:fast-tests / rcu_qsbr_autotest OK 0.57s
53/103 DPDK:fast-tests / pie_autotest OK 0.07s
54/103 DPDK:fast-tests / rib_autotest OK 10.29s
55/103 DPDK:fast-tests / rib6_autotest OK 10.29s
56/103 DPDK:fast-tests / ring_autotest OK 0.12s
57/103 DPDK:fast-tests / rwlock_test1_autotest OK 0.82s
58/103 DPDK:fast-tests / rwlock_rda_autotest OK 5.07s
59/103 DPDK:fast-tests / rwlock_rds_wrm_autotest OK 5.07s
60/103 DPDK:fast-tests / rwlock_rde_wro_autotest OK 5.07s
61/103 DPDK:fast-tests / sched_autotest OK 0.07s
62/103 DPDK:fast-tests / security_autotest OK 0.07s
63/103 DPDK:fast-tests / seqlock_autotest OK 2.07s
64/103 DPDK:fast-tests / spinlock_autotest OK 0.17s
65/103 DPDK:fast-tests / stack_autotest OK 0.87s
66/103 DPDK:fast-tests / stack_lf_autotest SKIP 0.07s exit status 77
67/103 DPDK:fast-tests / string_autotest OK 0.07s
68/103 DPDK:fast-tests / tailq_autotest OK 0.07s
69/103 DPDK:fast-tests / ticketlock_autotest OK 0.22s
70/103 DPDK:fast-tests / timer_autotest OK 3.87s
71/103 DPDK:fast-tests / user_delay_us OK 0.07s
72/103 DPDK:fast-tests / version_autotest OK 0.07s
73/103 DPDK:fast-tests / crc_autotest OK 0.07s
74/103 DPDK:fast-tests / distributor_autotest OK 1.22s
75/103 DPDK:fast-tests / eventdev_common_autotest OK 0.07s
76/103 DPDK:fast-tests / fbarray_autotest OK 0.07s
77/103 DPDK:fast-tests / hash_readwrite_func_autotest OK 6.38s
78/103 DPDK:fast-tests / ipsec_autotest SKIP 0.07s exit status 77
79/103 DPDK:fast-tests / kni_autotest SKIP 0.07s exit status 77
80/103 DPDK:fast-tests / kvargs_autotest OK 0.07s
81/103 DPDK:fast-tests / member_autotest OK 1.32s
82/103 DPDK:fast-tests / power_cpufreq_autotest SKIP 0.07s exit status 77
83/103 DPDK:fast-tests / power_autotest OK 0.07s
84/103 DPDK:fast-tests / power_kvm_vm_autotest SKIP 0.07s exit status 77
85/103 DPDK:fast-tests / power_intel_uncore_autotest SKIP 0.07s exit status 77
86/103 DPDK:fast-tests / reorder_autotest OK 0.12s
87/103 DPDK:fast-tests / service_autotest OK 3.32s
88/103 DPDK:fast-tests / thash_autotest OK 0.07s
89/103 DPDK:fast-tests / threads_autotest OK 0.22s
90/103 DPDK:fast-tests / trace_autotest OK 0.07s
91/103 DPDK:fast-tests / trace_autotest_with_traces OK 0.12s
92/103 DPDK:fast-tests / metrics_autotest OK 0.07s
93/103 DPDK:fast-tests / telemetry_json_autotest OK 0.07s
94/103 DPDK:fast-tests / telemetry_data_autotest OK 0.07s
95/103 DPDK:fast-tests / table_autotest OK 10.25s
96/103 DPDK:fast-tests / ring_pmd_autotest OK 0.07s
97/103 DPDK:fast-tests / event_eth_tx_adapter_autotest OK 1.47s
98/103 DPDK:fast-tests / bitratestats_autotest OK 0.07s
99/103 DPDK:fast-tests / latencystats_autotest OK 0.07s
100/103 DPDK:fast-tests / pdump_autotest OK 5.17s
101/103 DPDK:fast-tests / vdev_autotest OK 0.07s
102/103 DPDK:fast-tests / compressdev_autotest SKIP 0.07s exit status 77
103/103 DPDK:fast-tests / telemetry_all OK 14.44s
Ok: 96
Expected Fail: 0
Fail: 0
Unexpected Pass: 0
Skipped: 7
Timeout: 0
^ permalink raw reply [flat|nested] 4+ messages in thread
* |WARNING| pw123060 [PATCH] net/mlx5: fix ESP item validation in Verbs interface
[not found] <20230205153955.1372-1-mkashani@nvidia.com>
2023-02-05 15:32 ` |SUCCESS| pw123060 [PATCH] net/mlx5: fix ESP item validation in Verbs interface qemudev
2023-02-05 15:35 ` qemudev
@ 2023-02-05 15:40 ` checkpatch
2 siblings, 0 replies; 4+ messages in thread
From: checkpatch @ 2023-02-05 15:40 UTC (permalink / raw)
To: test-report; +Cc: Maayan Kashani
Test-Label: checkpatch
Test-Status: WARNING
http://dpdk.org/patch/123060
_coding style issues_
Maayan Kashani <mkashani@nvidia.com> is unknown, please fix the commit message or update .mailmap.
^ permalink raw reply [flat|nested] 4+ messages in thread
* |WARNING| pw123060 [PATCH] net/mlx5: fix ESP item validation in Verbs interface
@ 2023-02-05 15:58 dpdklab
0 siblings, 0 replies; 4+ messages in thread
From: dpdklab @ 2023-02-05 15:58 UTC (permalink / raw)
To: test-report; +Cc: dpdk-test-reports
[-- Attachment #1: Type: text/plain, Size: 4299 bytes --]
Test-Label: iol-testing
Test-Status: WARNING
http://dpdk.org/patch/123060
_apply patch failure_
Submitter: Maayan Kashani <mkashani@nvidia.com>
Date: Sunday, February 05 2023 15:39:52
Applied on: CommitID:bc1db4f45af35c87e7d97db7a24d479674aa8a43
Apply patch set 123060 failed:
Checking patch doc/guides/nics/mlx5.rst...
error: while searching for:
- The NIC egress flow rules on representor port are not supported.
- When using DV/verbs flow engine (``dv_flow_en`` = 1/0 respectively), Match on SPI field
in ESP header for group 0 needs MLNX_OFED 5.6+.
Statistics
error: patch failed: doc/guides/nics/mlx5.rst:599
Checking patch drivers/net/mlx5/mlx5_flow_verbs.c...
error: while searching for:
int ret = 0;
switch (items->type) {
case RTE_FLOW_ITEM_TYPE_ESP:
ret = mlx5_flow_os_validate_item_esp(items, item_flags,
next_protocol,
error: patch failed: drivers/net/mlx5/mlx5_flow_verbs.c:1330
error: while searching for:
return ret;
last_item = MLX5_FLOW_ITEM_ESP;
break;
case RTE_FLOW_ITEM_TYPE_VOID:
break;
case RTE_FLOW_ITEM_TYPE_ETH:
error: patch failed: drivers/net/mlx5/mlx5_flow_verbs.c:1338
Checking patch drivers/net/mlx5/windows/mlx5_flow_os.c...
error: while searching for:
int
mlx5_flow_os_validate_item_esp(const struct rte_flow_item *item,
uint64_t item_flags __rte_unused,
uint8_t target_protocol __rte_unused,
struct rte_flow_error *error)
{
const struct rte_flow_item_esp *mask = item->mask;
error: patch failed: drivers/net/mlx5/windows/mlx5_flow_os.c:419
error: while searching for:
MLX5_FLOW_LAYER_OUTER_L4;
int ret;
#ifndef HAVE_IBV_FLOW_SPEC_ESP
return rte_flow_error_set(error, ENOTSUP,
RTE_FLOW_ERROR_TYPE_ITEM, item,
"ESP item not supported");
#endif
if (!(item_flags & l3m))
return rte_flow_error_set(error, EINVAL,
RTE_FLOW_ERROR_TYPE_ITEM, item,
error: patch failed: drivers/net/mlx5/windows/mlx5_flow_os.c:432
Applying patch doc/guides/nics/mlx5.rst with 1 reject...
Rejected hunk #1.
Applying patch drivers/net/mlx5/mlx5_flow_verbs.c with 2 rejects...
Rejected hunk #1.
Rejected hunk #2.
Applying patch drivers/net/mlx5/windows/mlx5_flow_os.c with 2 rejects...
Rejected hunk #1.
Rejected hunk #2.
diff a/doc/guides/nics/mlx5.rst b/doc/guides/nics/mlx5.rst (rejected hunks)
@@ -599,8 +599,8 @@ Limitations
- The NIC egress flow rules on representor port are not supported.
-- When using DV/verbs flow engine (``dv_flow_en`` = 1/0 respectively), Match on SPI field
- in ESP header for group 0 needs MLNX_OFED 5.6+.
+- When using DV/verbs flow engine (``dv_flow_en`` = 1/0 respectively),
+ Match on SPI field in ESP header for group 0 is supported from connectX-7.
Statistics
diff a/drivers/net/mlx5/mlx5_flow_verbs.c b/drivers/net/mlx5/mlx5_flow_verbs.c (rejected hunks)
@@ -1330,6 +1330,7 @@ flow_verbs_validate(struct rte_eth_dev *dev,
int ret = 0;
switch (items->type) {
+#ifdef HAVE_IBV_FLOW_SPEC_ESP
case RTE_FLOW_ITEM_TYPE_ESP:
ret = mlx5_flow_os_validate_item_esp(items, item_flags,
next_protocol,
@@ -1338,6 +1339,7 @@ flow_verbs_validate(struct rte_eth_dev *dev,
return ret;
last_item = MLX5_FLOW_ITEM_ESP;
break;
+#endif
case RTE_FLOW_ITEM_TYPE_VOID:
break;
case RTE_FLOW_ITEM_TYPE_ETH:
diff a/drivers/net/mlx5/windows/mlx5_flow_os.c b/drivers/net/mlx5/windows/mlx5_flow_os.c (rejected hunks)
@@ -419,8 +419,8 @@ mlx5_flow_os_set_specific_workspace(struct mlx5_flow_workspace *data)
int
mlx5_flow_os_validate_item_esp(const struct rte_flow_item *item,
- uint64_t item_flags __rte_unused,
- uint8_t target_protocol __rte_unused,
+ uint64_t item_flags,
+ uint8_t target_protocol,
struct rte_flow_error *error)
{
const struct rte_flow_item_esp *mask = item->mask;
@@ -432,11 +432,6 @@ mlx5_flow_os_validate_item_esp(const struct rte_flow_item *item,
MLX5_FLOW_LAYER_OUTER_L4;
int ret;
-#ifndef HAVE_IBV_FLOW_SPEC_ESP
- return rte_flow_error_set(error, ENOTSUP,
- RTE_FLOW_ERROR_TYPE_ITEM, item,
- "ESP item not supported");
-#endif
if (!(item_flags & l3m))
return rte_flow_error_set(error, EINVAL,
RTE_FLOW_ERROR_TYPE_ITEM, item,
https://lab.dpdk.org/results/dashboard/patchsets/25210/
UNH-IOL DPDK Community Lab
^ permalink raw reply [flat|nested] 4+ messages in thread
end of thread, other threads:[~2023-02-05 15:58 UTC | newest]
Thread overview: 4+ messages (download: mbox.gz / follow: Atom feed)
-- links below jump to the message on this page --
[not found] <20230205153955.1372-1-mkashani@nvidia.com>
2023-02-05 15:32 ` |SUCCESS| pw123060 [PATCH] net/mlx5: fix ESP item validation in Verbs interface qemudev
2023-02-05 15:35 ` qemudev
2023-02-05 15:40 ` |WARNING| " checkpatch
2023-02-05 15:58 dpdklab
This is a public inbox, see mirroring instructions
for how to clone and mirror all data and code used for this inbox;
as well as URLs for NNTP newsgroup(s).