From mboxrd@z Thu Jan  1 00:00:00 1970
Return-Path: <test-report-bounces@dpdk.org>
Received: from mails.dpdk.org (mails.dpdk.org [217.70.189.124])
	by inbox.dpdk.org (Postfix) with ESMTP id B9A8741C52
	for <public@inbox.dpdk.org>; Thu,  9 Feb 2023 14:23:12 +0100 (CET)
Received: from mails.dpdk.org (localhost [127.0.0.1])
	by mails.dpdk.org (Postfix) with ESMTP id AC473410EA;
	Thu,  9 Feb 2023 14:23:12 +0100 (CET)
Received: from mail-pl1-f225.google.com (mail-pl1-f225.google.com
 [209.85.214.225])
 by mails.dpdk.org (Postfix) with ESMTP id C9A1440EDC
 for <test-report@dpdk.org>; Thu,  9 Feb 2023 14:23:11 +0100 (CET)
Received: by mail-pl1-f225.google.com with SMTP id f6so2728138pln.12
 for <test-report@dpdk.org>; Thu, 09 Feb 2023 05:23:11 -0800 (PST)
DKIM-Signature: v=1; a=rsa-sha256; c=relaxed/relaxed; d=iol.unh.edu; s=unh-iol;
 h=date:message-id:cc:to:from:subject:from:to:cc:subject:date
 :message-id:reply-to;
 bh=BfcynfRjc7mU0aww+dEtaayT4v/Ege0342mBZyoJIkE=;
 b=jpIz3fnfgalcLVdpj5ecqSs9hSKtDKKGQI0tWXBTHYmxwibsLXfb0Ya4Ewoyc5Hd+i
 2K+5gxH0JXs1f4e6vuudpVuerKBi8uk0Ccozk8HyjTXwId947n8rwUVneRAKvB61w8dq
 O5Jhyv+XY0XkEr4ZutchwarMPS7LQipOR0dYU=
X-Google-DKIM-Signature: v=1; a=rsa-sha256; c=relaxed/relaxed;
 d=1e100.net; s=20210112;
 h=date:message-id:cc:to:from:subject:x-gm-message-state:from:to:cc
 :subject:date:message-id:reply-to;
 bh=BfcynfRjc7mU0aww+dEtaayT4v/Ege0342mBZyoJIkE=;
 b=Q5M+vo+KBbcb5mSs/L00IHAYc/TR/cgrUfYqWRTvWY3GS/EyC4/ryt2NsygOC/0iY3
 yO2x/3tRhYQOeVp9Cv1SdRWfaKqaBsbBn4Y8aApzqc3z+MdllWRIZia6zL7mJ4arUWCG
 +541uGCqdirPERKHZNh/5vkSUFaIwgLhaB4Di2DmDYdcvoLx/h8idnC2uCelB28J9Tpd
 QI1Vr4NEhLdjjQIQmArD/3dwQVGTAN1AgHKbMR+wncoi9YIpuVTOBJc0VnHN+BEza57a
 HplcSTZcUUrC0Mp8RzFM/lWhOdm54A2J0hrlqpIudH3ffM2PVyvWepA5vH8IPSUc1HvY
 8Kdw==
X-Gm-Message-State: AO0yUKXZiNAflVYPsnVr+hKTFNkh7VpfH9Q682tRrGrp+2J34PfLLlr9
 GoS2nr62+tPshRGBcB/sJOL0l/3w+FiYRPZtwaZqEGpj8gYxmz4I5r4=
X-Google-Smtp-Source: AK7set9IXoMeVpbAgKPY2Kh+MaiQpgsrEY9edWjhSEP3hu3sSGWaJV3VWo4j1YcRu2tn0C18wa8WaQcLyN6I
X-Received: by 2002:a17:902:e5cb:b0:199:2353:1ef6 with SMTP id
 u11-20020a170902e5cb00b0019923531ef6mr13322050plf.28.1675948991089; 
 Thu, 09 Feb 2023 05:23:11 -0800 (PST)
Received: from postal.iol.unh.edu (postal.iol.unh.edu. [132.177.123.84])
 by smtp-relay.gmail.com with ESMTPS id
 ij2-20020a170902ab4200b00194b39deb9bsm52889plb.102.2023.02.09.05.23.10
 (version=TLS1_2 cipher=ECDHE-ECDSA-AES128-GCM-SHA256 bits=128/128);
 Thu, 09 Feb 2023 05:23:11 -0800 (PST)
X-Relaying-Domain: iol.unh.edu
Received: from dpdk-ubuntu.dpdklab.iol.unh.edu (unknown
 [IPv6:2606:4100:3880:1722::210])
 by postal.iol.unh.edu (Postfix) with ESMTP id 84D92605246B;
 Thu,  9 Feb 2023 08:23:10 -0500 (EST)
Received: from dpdk-ubuntu-2.dpdklab.iol.unh.edu (localhost [IPv6:::1])
 by dpdk-ubuntu.dpdklab.iol.unh.edu (Postfix) with ESMTP id 8121D601CD;
 Thu,  9 Feb 2023 13:23:10 +0000 (UTC)
Subject: |SUCCESS| pw123286-123279 [PATCH] [v2,
 21/21] net/virtio-user: remove max queues limitation
From: dpdklab@iol.unh.edu
To: Test Report <test-report@dpdk.org>
Cc: dpdklab@iol.unh.edu, David Marchand <david.marchand@redhat.com>,
 Thomas Monjalon <thomas@monjalon.net>
Content-Type: text/plain
Message-Id: <20230209132310.8121D601CD@dpdk-ubuntu.dpdklab.iol.unh.edu>
Date: Thu,  9 Feb 2023 13:23:10 +0000 (UTC)
X-BeenThere: test-report@dpdk.org
X-Mailman-Version: 2.1.29
Precedence: list
List-Id: automatic DPDK test reports <test-report.dpdk.org>
List-Unsubscribe: <https://mails.dpdk.org/options/test-report>,
 <mailto:test-report-request@dpdk.org?subject=unsubscribe>
List-Archive: <http://mails.dpdk.org/archives/test-report/>
List-Post: <mailto:test-report@dpdk.org>
List-Help: <mailto:test-report-request@dpdk.org?subject=help>
List-Subscribe: <https://mails.dpdk.org/listinfo/test-report>,
 <mailto:test-report-request@dpdk.org?subject=subscribe>
Errors-To: test-report-bounces@dpdk.org

Test-Label: iol-abi-testing
Test-Status: SUCCESS
http://dpdk.org/patch/123279

_Testing PASS_

Submitter: Maxime Coquelin <maxime.coquelin@redhat.com>
Date: Tuesday, February 07 2023 15:17:47 
DPDK git baseline: Repo:dpdk
  Branch: master
  CommitID:56ee8af9fd80493a9dd888ccc01ef4f1db02e491

123286-123279 --> testing pass

Test environment and result as below:

+------------------+----------+
|   Environment    | abi_test |
+==================+==========+
| CentOS Stream 9  | PASS     |
+------------------+----------+
| CentOS Stream 8  | PASS     |
+------------------+----------+
| Ubuntu 22.04     | PASS     |
+------------------+----------+
| openSUSE Leap 15 | PASS     |
+------------------+----------+
| Debian Bullseye  | PASS     |
+------------------+----------+
| RHEL 7           | PASS     |
+------------------+----------+
| Debian Buster    | PASS     |
+------------------+----------+
| RHEL8            | PASS     |
+------------------+----------+
| Ubuntu 20.04     | PASS     |
+------------------+----------+


CentOS Stream 9
	Kernel: 4.18.0-240.10.1.el8_3.x86_64
	Compiler: gcc 11.3.1 20220421

CentOS Stream 8
	Kernel: 4.18.0-240.10.1.el8_3.x86_64
	Compiler: gcc 8.4.1 20200928

Ubuntu 22.04
	Kernel: Container Host Kernel
	Compiler: gcc 11.3.1-2

openSUSE Leap 15
	Kernel: 4.18.0-240.10.1.el8_3.x86_64
	Compiler: gcc 7.5.0

Debian Bullseye
	Kernel: 5.4.0-122-generic
	Compiler: gcc 10.2.1-6

RHEL 7
	Kernel: 4.18.0-240.10.1.el8_3.x86_64
	Compiler: gcc 4.8.5 20150623 (Red Hat 4.8.5-44)

Debian Buster
	Kernel: 5.4.0-122-generic
	Compiler: gcc 8.3.0-6

RHEL8
	Kernel: 4.18.0-240.10.1.el8_3.x86_64
	Compiler: gcc 8.3.1 20191121 (Red Hat 8.3.1-5)

Ubuntu 20.04
	Kernel: 4.18.0-240.10.1.el8_3.x86_64
	Compiler: gcc 9.3.0-17ubuntu1~20.04

To view detailed results, visit:
https://lab.dpdk.org/results/dashboard/patchsets/25260/

UNH-IOL DPDK Community Lab

To manage your email subscriptions, visit: 
https://lab.dpdk.org/results/dashboard/preferences/subscriptions/