From: dpdklab@iol.unh.edu
To: Test Report <test-report@dpdk.org>
Cc: dpdklab@iol.unh.edu, David Marchand <david.marchand@redhat.com>,
Thomas Monjalon <thomas@monjalon.net>
Subject: |SUCCESS| pw123593 [PATCH] [v3] eventdev/timer: fix overflow issue
Date: Thu, 9 Feb 2023 16:32:18 +0000 (UTC) [thread overview]
Message-ID: <20230209163218.3F11F601CD@dpdk-ubuntu.dpdklab.iol.unh.edu> (raw)
[-- Attachment #1: Type: text/plain, Size: 2305 bytes --]
Test-Label: iol-aarch64-unit-testing
Test-Status: SUCCESS
http://dpdk.org/patch/123593
_Testing PASS_
Submitter: Erik Gabriel Carrillo <erik.g.carrillo@intel.com>
Date: Thursday, February 09 2023 15:13:49
DPDK git baseline: Repo:dpdk
Branch: master
CommitID:a0c837ad1fb5b6a8b10a284ffeb5f9e31bd8ff00
123593 --> testing pass
Test environment and result as below:
+-------------------------------+---------------------------+------------------------------+--------------+----------------+
| Environment | cryptodev_sw_zuc_autotest | cryptodev_sw_snow3g_autotest | lpm_autotest | dpdk_unit_test |
+===============================+===========================+==============================+==============+================+
| Debian 11 | PASS | PASS | SKIPPED | SKIPPED |
+-------------------------------+---------------------------+------------------------------+--------------+----------------+
| Ubuntu 20.04 ARM SVE | SKIPPED | SKIPPED | PASS | SKIPPED |
+-------------------------------+---------------------------+------------------------------+--------------+----------------+
| Ubuntu 20.04 ARM GCC Native | SKIPPED | SKIPPED | SKIPPED | PASS |
+-------------------------------+---------------------------+------------------------------+--------------+----------------+
| Ubuntu 20.04 ARM Clang Native | SKIPPED | SKIPPED | SKIPPED | PASS |
+-------------------------------+---------------------------+------------------------------+--------------+----------------+
Debian 11
Kernel: Container Host Kernel
Compiler: gcc 10.2.1
Ubuntu 20.04 ARM SVE
Kernel: 5.4.0-80-generic
Compiler: gcc 10.3.0 (Ubuntu 10.3.0-1ubuntu1~20.04)
Ubuntu 20.04 ARM GCC Native
Kernel: 5.4.0-53-generic
Compiler: gcc 9.3
Ubuntu 20.04 ARM Clang Native
Kernel: 5.4.0-53-generic
Compiler: clang 10.0.0-4ubuntu1
To view detailed results, visit:
https://lab.dpdk.org/results/dashboard/patchsets/25325/
UNH-IOL DPDK Community Lab
To manage your email subscriptions, visit:
https://lab.dpdk.org/results/dashboard/preferences/subscriptions/
next reply other threads:[~2023-02-09 16:32 UTC|newest]
Thread overview: 34+ messages / expand[flat|nested] mbox.gz Atom feed top
2023-02-09 16:32 dpdklab [this message]
-- strict thread matches above, loose matches on Subject: below --
2023-02-17 2:32 dpdklab
2023-02-12 21:09 dpdklab
2023-02-12 20:51 dpdklab
2023-02-11 5:28 dpdklab
2023-02-11 5:27 dpdklab
2023-02-11 5:25 dpdklab
2023-02-11 5:24 dpdklab
2023-02-11 5:23 dpdklab
2023-02-11 5:21 dpdklab
2023-02-11 5:19 dpdklab
2023-02-11 5:15 dpdklab
2023-02-11 5:10 dpdklab
2023-02-11 5:09 dpdklab
2023-02-11 5:06 dpdklab
2023-02-11 5:05 dpdklab
2023-02-11 4:34 dpdklab
[not found] <20230209151349.474358-1-erik.g.carrillo@intel.com>
2023-02-09 15:03 ` |SUCCESS| pw123593 [PATCH v3] " qemudev
2023-02-09 15:07 ` qemudev
2023-02-09 15:14 ` checkpatch
2023-02-09 16:19 ` 0-day Robot
2023-02-09 16:10 |SUCCESS| pw123593 [PATCH] [v3] " dpdklab
2023-02-09 15:49 dpdklab
2023-02-09 15:49 dpdklab
2023-02-09 15:49 dpdklab
2023-02-09 15:46 dpdklab
2023-02-09 15:45 dpdklab
2023-02-09 15:42 dpdklab
2023-02-09 15:41 dpdklab
2023-02-09 15:40 dpdklab
2023-02-09 15:39 dpdklab
2023-02-09 15:38 dpdklab
2023-02-09 15:30 dpdklab
2023-02-09 15:29 dpdklab
Reply instructions:
You may reply publicly to this message via plain-text email
using any one of the following methods:
* Save the following mbox file, import it into your mail client,
and reply-to-all from there: mbox
Avoid top-posting and favor interleaved quoting:
https://en.wikipedia.org/wiki/Posting_style#Interleaved_style
* Reply using the --to, --cc, and --in-reply-to
switches of git-send-email(1):
git send-email \
--in-reply-to=20230209163218.3F11F601CD@dpdk-ubuntu.dpdklab.iol.unh.edu \
--to=dpdklab@iol.unh.edu \
--cc=david.marchand@redhat.com \
--cc=test-report@dpdk.org \
--cc=thomas@monjalon.net \
/path/to/YOUR_REPLY
https://kernel.org/pub/software/scm/git/docs/git-send-email.html
* If your mail client supports setting the In-Reply-To header
via mailto: links, try the mailto: link
Be sure your reply has a Subject: header at the top and a blank line
before the message body.
This is a public inbox, see mirroring instructions
for how to clone and mirror all data and code used for this inbox;
as well as URLs for NNTP newsgroup(s).